BEGIN:VCALENDAR
VERSION:2.0
PRODID:-//Coffs Harbour Regional Landcare - ECPv6.15.20//NONSGML v1.0//EN
CALSCALE:GREGORIAN
METHOD:PUBLISH
X-WR-CALNAME:Coffs Harbour Regional Landcare
X-ORIGINAL-URL:https://www.coffsharbourlandcare.org.au
X-WR-CALDESC:Events for Coffs Harbour Regional Landcare
REFRESH-INTERVAL;VALUE=DURATION:PT1H
X-Robots-Tag:noindex
X-PUBLISHED-TTL:PT1H
BEGIN:VTIMEZONE
TZID:Australia/Melbourne
BEGIN:STANDARD
TZOFFSETFROM:+1100
TZOFFSETTO:+1000
TZNAME:AEST
DTSTART:20220402T160000
END:STANDARD
BEGIN:DAYLIGHT
TZOFFSETFROM:+1000
TZOFFSETTO:+1100
TZNAME:AEDT
DTSTART:20221001T160000
END:DAYLIGHT
BEGIN:STANDARD
TZOFFSETFROM:+1100
TZOFFSETTO:+1000
TZNAME:AEST
DTSTART:20230401T160000
END:STANDARD
BEGIN:DAYLIGHT
TZOFFSETFROM:+1000
TZOFFSETTO:+1100
TZNAME:AEDT
DTSTART:20230930T160000
END:DAYLIGHT
BEGIN:STANDARD
TZOFFSETFROM:+1100
TZOFFSETTO:+1000
TZNAME:AEST
DTSTART:20240406T160000
END:STANDARD
BEGIN:DAYLIGHT
TZOFFSETFROM:+1000
TZOFFSETTO:+1100
TZNAME:AEDT
DTSTART:20241005T160000
END:DAYLIGHT
END:VTIMEZONE
BEGIN:VEVENT
DTSTART;TZID=Australia/Melbourne:20231109T080000
DTEND;TZID=Australia/Melbourne:20231109T103000
DTSTAMP:20260423T144815
CREATED:20231102T021653Z
LAST-MODIFIED:20231102T021653Z
UID:10002299-1699516800-1699525800@www.coffsharbourlandcare.org.au
SUMMARY:CHRL Awards Breakfast 2023
DESCRIPTION:Please come and help us celebrate the outstanding conservation efforts of our Landcare volunteers and wider community for 2023 at our Annual Awards Breakfast.  \nThe Awards Breakfast will be held at the North Coast Regional Botanic Gardens on Thursday 9th November 2023 starting at 8am.  \nCatering will be provided.  \nPlease RSVP by the 6th of November.
URL:https://www.coffsharbourlandcare.org.au/event/chrl-awards-breakfast-2023/
LOCATION:North Coast Regional Botanic Gardens\, Coffs Harbour\, 2450
CATEGORIES:Events
ORGANIZER;CN="CHRL":MAILTO:chrl@coffslandcare.org.au
GEO:-30.2962013;153.1138924
END:VEVENT
BEGIN:VEVENT
DTSTART;TZID=Australia/Melbourne:20231109T140000
DTEND;TZID=Australia/Melbourne:20231109T160000
DTSTAMP:20260423T144815
CREATED:20221107T022125Z
LAST-MODIFIED:20221107T022125Z
UID:10000129-1699538400-1699545600@www.coffsharbourlandcare.org.au
SUMMARY:CHRL Executive Meetings 2023
DESCRIPTION:The CHRL Executive Committee meets monthly at the Coffs Harbour Landcare office
URL:https://www.coffsharbourlandcare.org.au/event/chrl-executive-meetings-2023/2023-11-09/
LOCATION:CHRL Office\, Australia
CATEGORIES:Events,Executive Meetings
ORGANIZER;CN="Karen Black":MAILTO:admin@coffslandcare.org.au
END:VEVENT
BEGIN:VEVENT
DTSTART;TZID=Australia/Melbourne:20231118T093000
DTEND;TZID=Australia/Melbourne:20231118T113000
DTSTAMP:20260423T144815
CREATED:20230915T043949Z
LAST-MODIFIED:20231117T013607Z
UID:10002294-1700299800-1700307000@www.coffsharbourlandcare.org.au
SUMMARY:Simple Site Photo-Monitoring Techniques
DESCRIPTION:Photo monitoring for Landcare sites. \nPictures can speak a thousand words! \nStrategic and consistent photo monitoring can not only show immediate before and after progress on a site\, but can also help us determine long term impacts of our regeneration work which in turn builds our understanding of effective land management techniques. \nOn this workshop\, facilitated by ecologist and Landcare Site Coordinator\, Graham Tupper\, we’ll learn how to use photo points to monitor and record changes on our Landcare sites over time. \n  \nPlease wear appropriate clothing for this outdoor workshop\, as we’ll be walking through the bush\, and don’t forget to bring your charged phone/camera. \nLight refreshments will be provided. \n**Advance registration is required. Register Now. \n  \n 
URL:https://www.coffsharbourlandcare.org.au/event/simple-site-photo-monitoring-techniques/
LOCATION:Serenity Landcare site\, Look at me now Headland walk\, Emerald Beach\, New South Wales\, Australia
CATEGORIES:Training/Workshops
ATTACH;FMTTYPE=image/png:https://www.coffsharbourlandcare.org.au/wp-content/uploads/Photo-point-wshop.png
ORGANIZER;CN="Karla Gillies":MAILTO:chrl@coffslandcare.org.au
GEO:-30.1756875;153.1866875
X-APPLE-STRUCTURED-LOCATION;VALUE=URI;X-ADDRESS=Serenity Landcare site Look at me now Headland walk Emerald Beach New South Wales Australia;X-APPLE-RADIUS=500;X-TITLE=Look at me now Headland walk:geo:153.1866875,-30.1756875
END:VEVENT
BEGIN:VEVENT
DTSTART;VALUE=DATE:20231124
DTEND;VALUE=DATE:20231128
DTSTAMP:20260423T144815
CREATED:20231006T001250Z
LAST-MODIFIED:20231006T001250Z
UID:10002298-1700784000-1701129599@www.coffsharbourlandcare.org.au
SUMMARY:The Great Southern Bioblitz 2023
DESCRIPTION:The Great Southern BioBlitz is an opportunity for all Southern Hemisphere countries to record a snapshot of living organisms during Spring and showcase our glorious biodiversity to the world.  How many wild animals and plants live in your area? Are there any threatened species? Help scientists by documenting the ‘life’ in your area from the 24th – 27th of November 2023. \nAs part of this huge annual citizen science event\, regions compete to see who can achieve the highest number of observations during an exciting 4 day period!  Our very own Coffs Harbour region is well up there on last year’s leader board\, but organisers are hoping to do even better this year!  So\, grab your camera\, your family and friends and head outside to record any wild\, living organism you can find anywhere in the Coffs Harbour or Bellingen local government areas.  \nGet involved: \nThe Great Southern Bioblitz 2023 \niNaturalist Australia \nThe Great Southern Bioblitz 2023: Coffs Harbour Region \n  \n 
URL:https://www.coffsharbourlandcare.org.au/event/the-great-southern-bioblitz-2023/
CATEGORIES:Events
END:VEVENT
END:VCALENDAR