BEGIN:VCALENDAR
VERSION:2.0
PRODID:-//Coffs Harbour Regional Landcare - ECPv6.15.20//NONSGML v1.0//EN
CALSCALE:GREGORIAN
METHOD:PUBLISH
X-WR-CALNAME:Coffs Harbour Regional Landcare
X-ORIGINAL-URL:https://www.coffsharbourlandcare.org.au
X-WR-CALDESC:Events for Coffs Harbour Regional Landcare
REFRESH-INTERVAL;VALUE=DURATION:PT1H
X-Robots-Tag:noindex
X-PUBLISHED-TTL:PT1H
BEGIN:VTIMEZONE
TZID:Australia/Melbourne
BEGIN:STANDARD
TZOFFSETFROM:+1100
TZOFFSETTO:+1000
TZNAME:AEST
DTSTART:20230401T160000
END:STANDARD
BEGIN:DAYLIGHT
TZOFFSETFROM:+1000
TZOFFSETTO:+1100
TZNAME:AEDT
DTSTART:20230930T160000
END:DAYLIGHT
BEGIN:STANDARD
TZOFFSETFROM:+1100
TZOFFSETTO:+1000
TZNAME:AEST
DTSTART:20240406T160000
END:STANDARD
BEGIN:DAYLIGHT
TZOFFSETFROM:+1000
TZOFFSETTO:+1100
TZNAME:AEDT
DTSTART:20241005T160000
END:DAYLIGHT
BEGIN:STANDARD
TZOFFSETFROM:+1100
TZOFFSETTO:+1000
TZNAME:AEST
DTSTART:20250405T160000
END:STANDARD
BEGIN:DAYLIGHT
TZOFFSETFROM:+1000
TZOFFSETTO:+1100
TZNAME:AEDT
DTSTART:20251004T160000
END:DAYLIGHT
END:VTIMEZONE
BEGIN:VEVENT
DTSTART;TZID=Australia/Melbourne:20240501T160000
DTEND;TZID=Australia/Melbourne:20240501T180000
DTSTAMP:20260423T050329
CREATED:20231108T005531Z
LAST-MODIFIED:20231108T005531Z
UID:10002302-1714579200-1714586400@www.coffsharbourlandcare.org.au
SUMMARY:General Meeting May 2024
DESCRIPTION:Save the Date \nFurther details and location to be provided and confirmed.
URL:https://www.coffsharbourlandcare.org.au/event/general-meeting-may-2024/
CATEGORIES:Events
ORGANIZER;CN="Karen Black":MAILTO:admin@coffslandcare.org.au
END:VEVENT
BEGIN:VEVENT
DTSTART;TZID=Australia/Melbourne:20240509T140000
DTEND;TZID=Australia/Melbourne:20240509T160000
DTSTAMP:20260423T050329
CREATED:20231108T010819Z
LAST-MODIFIED:20231108T010859Z
UID:10002308-1715263200-1715270400@www.coffsharbourlandcare.org.au
SUMMARY:CHRL Executive Meetings 2024
DESCRIPTION:The CHRL Executive Committee meets monthly at the Coffs Harbour Landcare office
URL:https://www.coffsharbourlandcare.org.au/event/chrl-executive-meetings-2024/2024-05-09/
LOCATION:Coffs Harbour Landcare Office\, Unit 1/14A Lawson Crescent\, Coffs Harbour\, New South Wales\, 2450\, Australia
CATEGORIES:Events,Executive Meetings
ORGANIZER;CN="Karen Black":MAILTO:admin@coffslandcare.org.au
GEO:-30.2908125;153.1282239
X-APPLE-STRUCTURED-LOCATION;VALUE=URI;X-ADDRESS=Coffs Harbour Landcare Office Unit 1/14A Lawson Crescent Coffs Harbour New South Wales 2450 Australia;X-APPLE-RADIUS=500;X-TITLE=Unit 1/14A Lawson Crescent:geo:153.1282239,-30.2908125
END:VEVENT
BEGIN:VEVENT
DTSTART;TZID=Australia/Melbourne:20240525T140000
DTEND;TZID=Australia/Melbourne:20240525T200000
DTSTAMP:20260423T050329
CREATED:20240510T035935Z
LAST-MODIFIED:20240514T014756Z
UID:10002703-1716645600-1716667200@www.coffsharbourlandcare.org.au
SUMMARY:CHRL Volunteer & 25th Anniversary Celebration
DESCRIPTION:Please register for event at Sticky tickets
URL:https://www.coffsharbourlandcare.org.au/event/chrl-volunteer-25th-anniversary-celebration/
LOCATION:Cavanbagh Centre\, 191 Harbour Drive\, Coffs Harbour\, New South Wales\, 2450\, Australia
CATEGORIES:Community Events,Events
ATTACH;FMTTYPE=image/jpeg:https://www.coffsharbourlandcare.org.au/wp-content/uploads/1-5.jpg
END:VEVENT
END:VCALENDAR