BEGIN:VCALENDAR
VERSION:2.0
PRODID:-//Coffs Harbour Regional Landcare - ECPv6.15.20//NONSGML v1.0//EN
CALSCALE:GREGORIAN
METHOD:PUBLISH
X-WR-CALNAME:Coffs Harbour Regional Landcare
X-ORIGINAL-URL:https://www.coffsharbourlandcare.org.au
X-WR-CALDESC:Events for Coffs Harbour Regional Landcare
REFRESH-INTERVAL;VALUE=DURATION:PT1H
X-Robots-Tag:noindex
X-PUBLISHED-TTL:PT1H
BEGIN:VTIMEZONE
TZID:Australia/Melbourne
BEGIN:STANDARD
TZOFFSETFROM:+1100
TZOFFSETTO:+1000
TZNAME:AEST
DTSTART:20220402T160000
END:STANDARD
BEGIN:DAYLIGHT
TZOFFSETFROM:+1000
TZOFFSETTO:+1100
TZNAME:AEDT
DTSTART:20221001T160000
END:DAYLIGHT
BEGIN:STANDARD
TZOFFSETFROM:+1100
TZOFFSETTO:+1000
TZNAME:AEST
DTSTART:20230401T160000
END:STANDARD
BEGIN:DAYLIGHT
TZOFFSETFROM:+1000
TZOFFSETTO:+1100
TZNAME:AEDT
DTSTART:20230930T160000
END:DAYLIGHT
BEGIN:STANDARD
TZOFFSETFROM:+1100
TZOFFSETTO:+1000
TZNAME:AEST
DTSTART:20240406T160000
END:STANDARD
BEGIN:DAYLIGHT
TZOFFSETFROM:+1000
TZOFFSETTO:+1100
TZNAME:AEDT
DTSTART:20241005T160000
END:DAYLIGHT
END:VTIMEZONE
BEGIN:VEVENT
DTSTART;TZID=Australia/Melbourne:20230503T093000
DTEND;TZID=Australia/Melbourne:20230503T120000
DTSTAMP:20260423T111628
CREATED:20230207T030547Z
LAST-MODIFIED:20230207T030547Z
UID:10001675-1683106200-1683115200@www.coffsharbourlandcare.org.au
SUMMARY:Jordan's Creek Landcare
DESCRIPTION:Meet Wednesdays 9.30am\, at the Council reserve off Cutter Drive\, Coffs Harbour. Days may vary.
URL:https://www.coffsharbourlandcare.org.au/event/jordans-creek-landcare/2023-05-03/
CATEGORIES:Working Bees
ORGANIZER;CN="Natalie Woo":MAILTO:chrl@coffslandcare.org.au
END:VEVENT
BEGIN:VEVENT
DTSTART;TZID=Australia/Melbourne:20230510T093000
DTEND;TZID=Australia/Melbourne:20230510T120000
DTSTAMP:20260423T111628
CREATED:20230207T030547Z
LAST-MODIFIED:20230207T030547Z
UID:10001676-1683711000-1683720000@www.coffsharbourlandcare.org.au
SUMMARY:Jordan's Creek Landcare
DESCRIPTION:Meet Wednesdays 9.30am\, at the Council reserve off Cutter Drive\, Coffs Harbour. Days may vary.
URL:https://www.coffsharbourlandcare.org.au/event/jordans-creek-landcare/2023-05-10/
CATEGORIES:Working Bees
ORGANIZER;CN="Natalie Woo":MAILTO:chrl@coffslandcare.org.au
END:VEVENT
BEGIN:VEVENT
DTSTART;TZID=Australia/Melbourne:20230517T093000
DTEND;TZID=Australia/Melbourne:20230517T120000
DTSTAMP:20260423T111628
CREATED:20230207T030547Z
LAST-MODIFIED:20230207T030547Z
UID:10001677-1684315800-1684324800@www.coffsharbourlandcare.org.au
SUMMARY:Jordan's Creek Landcare
DESCRIPTION:Meet Wednesdays 9.30am\, at the Council reserve off Cutter Drive\, Coffs Harbour. Days may vary.
URL:https://www.coffsharbourlandcare.org.au/event/jordans-creek-landcare/2023-05-17/
CATEGORIES:Working Bees
ORGANIZER;CN="Natalie Woo":MAILTO:chrl@coffslandcare.org.au
END:VEVENT
BEGIN:VEVENT
DTSTART;TZID=Australia/Melbourne:20230524T093000
DTEND;TZID=Australia/Melbourne:20230524T120000
DTSTAMP:20260423T111628
CREATED:20230207T030547Z
LAST-MODIFIED:20230207T030547Z
UID:10001678-1684920600-1684929600@www.coffsharbourlandcare.org.au
SUMMARY:Jordan's Creek Landcare
DESCRIPTION:Meet Wednesdays 9.30am\, at the Council reserve off Cutter Drive\, Coffs Harbour. Days may vary.
URL:https://www.coffsharbourlandcare.org.au/event/jordans-creek-landcare/2023-05-24/
CATEGORIES:Working Bees
ORGANIZER;CN="Natalie Woo":MAILTO:chrl@coffslandcare.org.au
END:VEVENT
BEGIN:VEVENT
DTSTART;TZID=Australia/Melbourne:20230531T093000
DTEND;TZID=Australia/Melbourne:20230531T120000
DTSTAMP:20260423T111628
CREATED:20230207T030547Z
LAST-MODIFIED:20230207T030547Z
UID:10001679-1685525400-1685534400@www.coffsharbourlandcare.org.au
SUMMARY:Jordan's Creek Landcare
DESCRIPTION:Meet Wednesdays 9.30am\, at the Council reserve off Cutter Drive\, Coffs Harbour. Days may vary.
URL:https://www.coffsharbourlandcare.org.au/event/jordans-creek-landcare/2023-05-31/
CATEGORIES:Working Bees
ORGANIZER;CN="Natalie Woo":MAILTO:chrl@coffslandcare.org.au
END:VEVENT
END:VCALENDAR