BEGIN:VCALENDAR
VERSION:2.0
PRODID:-//Coffs Harbour Regional Landcare - ECPv6.15.20//NONSGML v1.0//EN
CALSCALE:GREGORIAN
METHOD:PUBLISH
X-ORIGINAL-URL:https://www.coffsharbourlandcare.org.au
X-WR-CALDESC:Events for Coffs Harbour Regional Landcare
REFRESH-INTERVAL;VALUE=DURATION:PT1H
X-Robots-Tag:noindex
X-PUBLISHED-TTL:PT1H
BEGIN:VTIMEZONE
TZID:Australia/Melbourne
BEGIN:STANDARD
TZOFFSETFROM:+1100
TZOFFSETTO:+1000
TZNAME:AEST
DTSTART:20220402T160000
END:STANDARD
BEGIN:DAYLIGHT
TZOFFSETFROM:+1000
TZOFFSETTO:+1100
TZNAME:AEDT
DTSTART:20221001T160000
END:DAYLIGHT
BEGIN:STANDARD
TZOFFSETFROM:+1100
TZOFFSETTO:+1000
TZNAME:AEST
DTSTART:20230401T160000
END:STANDARD
BEGIN:DAYLIGHT
TZOFFSETFROM:+1000
TZOFFSETTO:+1100
TZNAME:AEDT
DTSTART:20230930T160000
END:DAYLIGHT
BEGIN:STANDARD
TZOFFSETFROM:+1100
TZOFFSETTO:+1000
TZNAME:AEST
DTSTART:20240406T160000
END:STANDARD
BEGIN:DAYLIGHT
TZOFFSETFROM:+1000
TZOFFSETTO:+1100
TZNAME:AEDT
DTSTART:20241005T160000
END:DAYLIGHT
END:VTIMEZONE
BEGIN:VEVENT
DTSTART;TZID=Australia/Melbourne:20230607T093000
DTEND;TZID=Australia/Melbourne:20230607T120000
DTSTAMP:20260423T093616
CREATED:20230207T030547Z
LAST-MODIFIED:20230207T030547Z
UID:10001680-1686130200-1686139200@www.coffsharbourlandcare.org.au
SUMMARY:Jordan's Creek Landcare
DESCRIPTION:Meet Wednesdays 9.30am\, at the Council reserve off Cutter Drive\, Coffs Harbour. Days may vary.
URL:https://www.coffsharbourlandcare.org.au/event/jordans-creek-landcare/2023-06-07/
CATEGORIES:Working Bees
ORGANIZER;CN="Natalie Woo":MAILTO:chrl@coffslandcare.org.au
END:VEVENT
BEGIN:VEVENT
DTSTART;TZID=Australia/Melbourne:20230614T093000
DTEND;TZID=Australia/Melbourne:20230614T120000
DTSTAMP:20260423T093616
CREATED:20230207T030547Z
LAST-MODIFIED:20230207T030547Z
UID:10001681-1686735000-1686744000@www.coffsharbourlandcare.org.au
SUMMARY:Jordan's Creek Landcare
DESCRIPTION:Meet Wednesdays 9.30am\, at the Council reserve off Cutter Drive\, Coffs Harbour. Days may vary.
URL:https://www.coffsharbourlandcare.org.au/event/jordans-creek-landcare/2023-06-14/
CATEGORIES:Working Bees
ORGANIZER;CN="Natalie Woo":MAILTO:chrl@coffslandcare.org.au
END:VEVENT
BEGIN:VEVENT
DTSTART;TZID=Australia/Melbourne:20230621T093000
DTEND;TZID=Australia/Melbourne:20230621T120000
DTSTAMP:20260423T093616
CREATED:20230207T030547Z
LAST-MODIFIED:20230207T030547Z
UID:10001682-1687339800-1687348800@www.coffsharbourlandcare.org.au
SUMMARY:Jordan's Creek Landcare
DESCRIPTION:Meet Wednesdays 9.30am\, at the Council reserve off Cutter Drive\, Coffs Harbour. Days may vary.
URL:https://www.coffsharbourlandcare.org.au/event/jordans-creek-landcare/2023-06-21/
CATEGORIES:Working Bees
ORGANIZER;CN="Natalie Woo":MAILTO:chrl@coffslandcare.org.au
END:VEVENT
BEGIN:VEVENT
DTSTART;TZID=Australia/Melbourne:20230628T093000
DTEND;TZID=Australia/Melbourne:20230628T120000
DTSTAMP:20260423T093616
CREATED:20230207T030547Z
LAST-MODIFIED:20230207T030547Z
UID:10001683-1687944600-1687953600@www.coffsharbourlandcare.org.au
SUMMARY:Jordan's Creek Landcare
DESCRIPTION:Meet Wednesdays 9.30am\, at the Council reserve off Cutter Drive\, Coffs Harbour. Days may vary.
URL:https://www.coffsharbourlandcare.org.au/event/jordans-creek-landcare/2023-06-28/
CATEGORIES:Working Bees
ORGANIZER;CN="Natalie Woo":MAILTO:chrl@coffslandcare.org.au
END:VEVENT
END:VCALENDAR