BEGIN:VCALENDAR
VERSION:2.0
PRODID:-//Coffs Harbour Regional Landcare - ECPv6.15.20//NONSGML v1.0//EN
CALSCALE:GREGORIAN
METHOD:PUBLISH
X-ORIGINAL-URL:https://www.coffsharbourlandcare.org.au
X-WR-CALDESC:Events for Coffs Harbour Regional Landcare
REFRESH-INTERVAL;VALUE=DURATION:PT1H
X-Robots-Tag:noindex
X-PUBLISHED-TTL:PT1H
BEGIN:VTIMEZONE
TZID:Australia/Melbourne
BEGIN:STANDARD
TZOFFSETFROM:+1100
TZOFFSETTO:+1000
TZNAME:AEST
DTSTART:20220402T160000
END:STANDARD
BEGIN:DAYLIGHT
TZOFFSETFROM:+1000
TZOFFSETTO:+1100
TZNAME:AEDT
DTSTART:20221001T160000
END:DAYLIGHT
BEGIN:STANDARD
TZOFFSETFROM:+1100
TZOFFSETTO:+1000
TZNAME:AEST
DTSTART:20230401T160000
END:STANDARD
BEGIN:DAYLIGHT
TZOFFSETFROM:+1000
TZOFFSETTO:+1100
TZNAME:AEDT
DTSTART:20230930T160000
END:DAYLIGHT
BEGIN:STANDARD
TZOFFSETFROM:+1100
TZOFFSETTO:+1000
TZNAME:AEST
DTSTART:20240406T160000
END:STANDARD
BEGIN:DAYLIGHT
TZOFFSETFROM:+1000
TZOFFSETTO:+1100
TZNAME:AEDT
DTSTART:20241005T160000
END:DAYLIGHT
END:VTIMEZONE
BEGIN:VEVENT
DTSTART;TZID=Australia/Melbourne:20230705T093000
DTEND;TZID=Australia/Melbourne:20230705T120000
DTSTAMP:20260423T080236
CREATED:20230207T030547Z
LAST-MODIFIED:20230207T030547Z
UID:10001684-1688549400-1688558400@www.coffsharbourlandcare.org.au
SUMMARY:Jordan's Creek Landcare
DESCRIPTION:Meet Wednesdays 9.30am\, at the Council reserve off Cutter Drive\, Coffs Harbour. Days may vary.
URL:https://www.coffsharbourlandcare.org.au/event/jordans-creek-landcare/2023-07-05/
CATEGORIES:Working Bees
ORGANIZER;CN="Natalie Woo":MAILTO:chrl@coffslandcare.org.au
END:VEVENT
BEGIN:VEVENT
DTSTART;TZID=Australia/Melbourne:20230712T093000
DTEND;TZID=Australia/Melbourne:20230712T120000
DTSTAMP:20260423T080236
CREATED:20230207T030547Z
LAST-MODIFIED:20230207T030547Z
UID:10001685-1689154200-1689163200@www.coffsharbourlandcare.org.au
SUMMARY:Jordan's Creek Landcare
DESCRIPTION:Meet Wednesdays 9.30am\, at the Council reserve off Cutter Drive\, Coffs Harbour. Days may vary.
URL:https://www.coffsharbourlandcare.org.au/event/jordans-creek-landcare/2023-07-12/
CATEGORIES:Working Bees
ORGANIZER;CN="Natalie Woo":MAILTO:chrl@coffslandcare.org.au
END:VEVENT
BEGIN:VEVENT
DTSTART;TZID=Australia/Melbourne:20230719T093000
DTEND;TZID=Australia/Melbourne:20230719T120000
DTSTAMP:20260423T080236
CREATED:20230207T030547Z
LAST-MODIFIED:20230207T030547Z
UID:10001686-1689759000-1689768000@www.coffsharbourlandcare.org.au
SUMMARY:Jordan's Creek Landcare
DESCRIPTION:Meet Wednesdays 9.30am\, at the Council reserve off Cutter Drive\, Coffs Harbour. Days may vary.
URL:https://www.coffsharbourlandcare.org.au/event/jordans-creek-landcare/2023-07-19/
CATEGORIES:Working Bees
ORGANIZER;CN="Natalie Woo":MAILTO:chrl@coffslandcare.org.au
END:VEVENT
BEGIN:VEVENT
DTSTART;TZID=Australia/Melbourne:20230726T093000
DTEND;TZID=Australia/Melbourne:20230726T120000
DTSTAMP:20260423T080236
CREATED:20230207T030547Z
LAST-MODIFIED:20230207T030547Z
UID:10001687-1690363800-1690372800@www.coffsharbourlandcare.org.au
SUMMARY:Jordan's Creek Landcare
DESCRIPTION:Meet Wednesdays 9.30am\, at the Council reserve off Cutter Drive\, Coffs Harbour. Days may vary.
URL:https://www.coffsharbourlandcare.org.au/event/jordans-creek-landcare/2023-07-26/
CATEGORIES:Working Bees
ORGANIZER;CN="Natalie Woo":MAILTO:chrl@coffslandcare.org.au
END:VEVENT
END:VCALENDAR