BEGIN:VCALENDAR
VERSION:2.0
PRODID:-//Coffs Harbour Regional Landcare - ECPv6.15.20//NONSGML v1.0//EN
CALSCALE:GREGORIAN
METHOD:PUBLISH
X-WR-CALNAME:Coffs Harbour Regional Landcare
X-ORIGINAL-URL:https://www.coffsharbourlandcare.org.au
X-WR-CALDESC:Events for Coffs Harbour Regional Landcare
REFRESH-INTERVAL;VALUE=DURATION:PT1H
X-Robots-Tag:noindex
X-PUBLISHED-TTL:PT1H
BEGIN:VTIMEZONE
TZID:Australia/Melbourne
BEGIN:STANDARD
TZOFFSETFROM:+1100
TZOFFSETTO:+1000
TZNAME:AEST
DTSTART:20240406T160000
END:STANDARD
BEGIN:DAYLIGHT
TZOFFSETFROM:+1000
TZOFFSETTO:+1100
TZNAME:AEDT
DTSTART:20241005T160000
END:DAYLIGHT
BEGIN:STANDARD
TZOFFSETFROM:+1100
TZOFFSETTO:+1000
TZNAME:AEST
DTSTART:20250405T160000
END:STANDARD
BEGIN:DAYLIGHT
TZOFFSETFROM:+1000
TZOFFSETTO:+1100
TZNAME:AEDT
DTSTART:20251004T160000
END:DAYLIGHT
BEGIN:STANDARD
TZOFFSETFROM:+1100
TZOFFSETTO:+1000
TZNAME:AEST
DTSTART:20260404T160000
END:STANDARD
BEGIN:DAYLIGHT
TZOFFSETFROM:+1000
TZOFFSETTO:+1100
TZNAME:AEDT
DTSTART:20261003T160000
END:DAYLIGHT
END:VTIMEZONE
BEGIN:VEVENT
DTSTART;TZID=Australia/Melbourne:20251012T083000
DTEND;TZID=Australia/Melbourne:20251012T103000
DTSTAMP:20260422T194016
CREATED:20241001T050513Z
LAST-MODIFIED:20250218T000736Z
UID:10005034-1760257800-1760265000@www.coffsharbourlandcare.org.au
SUMMARY:Sapphire Reserve Landcare
DESCRIPTION:The group meets every 2nd Sunday\, between 8:30 -10:30 am.  Please note change of schedule for March and April 2025. For meet location\, please contact the site coordinator
URL:https://www.coffsharbourlandcare.org.au/event/sapphire-reserve-landcare-2/2025-10-12/
CATEGORIES:Working Bees
ORGANIZER;CN="Greg Robinson":MAILTO:grob1418@gmail.com
END:VEVENT
BEGIN:VEVENT
DTSTART;TZID=Australia/Melbourne:20251026T083000
DTEND;TZID=Australia/Melbourne:20251026T103000
DTSTAMP:20260422T194017
CREATED:20241001T050513Z
LAST-MODIFIED:20250218T000736Z
UID:10005035-1761467400-1761474600@www.coffsharbourlandcare.org.au
SUMMARY:Sapphire Reserve Landcare
DESCRIPTION:The group meets every 2nd Sunday\, between 8:30 -10:30 am.  Please note change of schedule for March and April 2025. For meet location\, please contact the site coordinator
URL:https://www.coffsharbourlandcare.org.au/event/sapphire-reserve-landcare-2/2025-10-26/
CATEGORIES:Working Bees
ORGANIZER;CN="Greg Robinson":MAILTO:grob1418@gmail.com
END:VEVENT
END:VCALENDAR