BEGIN:VCALENDAR
VERSION:2.0
PRODID:-//Coffs Harbour Regional Landcare - ECPv6.15.20//NONSGML v1.0//EN
CALSCALE:GREGORIAN
METHOD:PUBLISH
X-WR-CALNAME:Coffs Harbour Regional Landcare
X-ORIGINAL-URL:https://www.coffsharbourlandcare.org.au
X-WR-CALDESC:Events for Coffs Harbour Regional Landcare
REFRESH-INTERVAL;VALUE=DURATION:PT1H
X-Robots-Tag:noindex
X-PUBLISHED-TTL:PT1H
BEGIN:VTIMEZONE
TZID:Australia/Melbourne
BEGIN:STANDARD
TZOFFSETFROM:+1100
TZOFFSETTO:+1000
TZNAME:AEST
DTSTART:20240406T160000
END:STANDARD
BEGIN:DAYLIGHT
TZOFFSETFROM:+1000
TZOFFSETTO:+1100
TZNAME:AEDT
DTSTART:20241005T160000
END:DAYLIGHT
BEGIN:STANDARD
TZOFFSETFROM:+1100
TZOFFSETTO:+1000
TZNAME:AEST
DTSTART:20250405T160000
END:STANDARD
BEGIN:DAYLIGHT
TZOFFSETFROM:+1000
TZOFFSETTO:+1100
TZNAME:AEDT
DTSTART:20251004T160000
END:DAYLIGHT
BEGIN:STANDARD
TZOFFSETFROM:+1100
TZOFFSETTO:+1000
TZNAME:AEST
DTSTART:20260404T160000
END:STANDARD
BEGIN:DAYLIGHT
TZOFFSETFROM:+1000
TZOFFSETTO:+1100
TZNAME:AEDT
DTSTART:20261003T160000
END:DAYLIGHT
END:VTIMEZONE
BEGIN:VEVENT
DTSTART;TZID=Australia/Melbourne:20250504T090000
DTEND;TZID=Australia/Melbourne:20250504T110000
DTSTAMP:20260422T172941
CREATED:20250217T012939Z
LAST-MODIFIED:20250217T013155Z
UID:10004989-1746349200-1746356400@www.coffsharbourlandcare.org.au
SUMMARY:Sawtell Dunecare
DESCRIPTION:Meeting weekly on Sundays 9:00am\, rotating between Murrays Beach and Boambee Headland. Contact site coordinator to confirm meet location.
URL:https://www.coffsharbourlandcare.org.au/event/sawtell-dunecare-2/2025-05-04/
CATEGORIES:Working Bees
ORGANIZER;CN="Barry Powells":MAILTO:chrl@coffslandcare.org.au
END:VEVENT
BEGIN:VEVENT
DTSTART;TZID=Australia/Melbourne:20250511T090000
DTEND;TZID=Australia/Melbourne:20250511T110000
DTSTAMP:20260422T172941
CREATED:20250217T012939Z
LAST-MODIFIED:20250217T013155Z
UID:10004990-1746954000-1746961200@www.coffsharbourlandcare.org.au
SUMMARY:Sawtell Dunecare
DESCRIPTION:Meeting weekly on Sundays 9:00am\, rotating between Murrays Beach and Boambee Headland. Contact site coordinator to confirm meet location.
URL:https://www.coffsharbourlandcare.org.au/event/sawtell-dunecare-2/2025-05-11/
CATEGORIES:Working Bees
ORGANIZER;CN="Barry Powells":MAILTO:chrl@coffslandcare.org.au
END:VEVENT
BEGIN:VEVENT
DTSTART;TZID=Australia/Melbourne:20250518T090000
DTEND;TZID=Australia/Melbourne:20250518T110000
DTSTAMP:20260422T172941
CREATED:20250217T012939Z
LAST-MODIFIED:20250217T013155Z
UID:10004991-1747558800-1747566000@www.coffsharbourlandcare.org.au
SUMMARY:Sawtell Dunecare
DESCRIPTION:Meeting weekly on Sundays 9:00am\, rotating between Murrays Beach and Boambee Headland. Contact site coordinator to confirm meet location.
URL:https://www.coffsharbourlandcare.org.au/event/sawtell-dunecare-2/2025-05-18/
CATEGORIES:Working Bees
ORGANIZER;CN="Barry Powells":MAILTO:chrl@coffslandcare.org.au
END:VEVENT
BEGIN:VEVENT
DTSTART;TZID=Australia/Melbourne:20250525T090000
DTEND;TZID=Australia/Melbourne:20250525T110000
DTSTAMP:20260422T172941
CREATED:20250217T012939Z
LAST-MODIFIED:20250217T013155Z
UID:10004992-1748163600-1748170800@www.coffsharbourlandcare.org.au
SUMMARY:Sawtell Dunecare
DESCRIPTION:Meeting weekly on Sundays 9:00am\, rotating between Murrays Beach and Boambee Headland. Contact site coordinator to confirm meet location.
URL:https://www.coffsharbourlandcare.org.au/event/sawtell-dunecare-2/2025-05-25/
CATEGORIES:Working Bees
ORGANIZER;CN="Barry Powells":MAILTO:chrl@coffslandcare.org.au
END:VEVENT
END:VCALENDAR