BEGIN:VCALENDAR
VERSION:2.0
PRODID:-//Coffs Harbour Regional Landcare - ECPv6.15.20//NONSGML v1.0//EN
CALSCALE:GREGORIAN
METHOD:PUBLISH
X-ORIGINAL-URL:https://www.coffsharbourlandcare.org.au
X-WR-CALDESC:Events for Coffs Harbour Regional Landcare
REFRESH-INTERVAL;VALUE=DURATION:PT1H
X-Robots-Tag:noindex
X-PUBLISHED-TTL:PT1H
BEGIN:VTIMEZONE
TZID:Australia/Melbourne
BEGIN:STANDARD
TZOFFSETFROM:+1100
TZOFFSETTO:+1000
TZNAME:AEST
DTSTART:20240406T160000
END:STANDARD
BEGIN:DAYLIGHT
TZOFFSETFROM:+1000
TZOFFSETTO:+1100
TZNAME:AEDT
DTSTART:20241005T160000
END:DAYLIGHT
BEGIN:STANDARD
TZOFFSETFROM:+1100
TZOFFSETTO:+1000
TZNAME:AEST
DTSTART:20250405T160000
END:STANDARD
BEGIN:DAYLIGHT
TZOFFSETFROM:+1000
TZOFFSETTO:+1100
TZNAME:AEDT
DTSTART:20251004T160000
END:DAYLIGHT
BEGIN:STANDARD
TZOFFSETFROM:+1100
TZOFFSETTO:+1000
TZNAME:AEST
DTSTART:20260404T160000
END:STANDARD
BEGIN:DAYLIGHT
TZOFFSETFROM:+1000
TZOFFSETTO:+1100
TZNAME:AEDT
DTSTART:20261003T160000
END:DAYLIGHT
END:VTIMEZONE
BEGIN:VEVENT
DTSTART;TZID=Australia/Melbourne:20251201T080000
DTEND;TZID=Australia/Melbourne:20251201T100000
DTSTAMP:20260422T112131
CREATED:20250224T000027Z
LAST-MODIFIED:20250224T000027Z
UID:10005106-1764576000-1764583200@www.coffsharbourlandcare.org.au
SUMMARY:Woolgoolga Lake Landcare
DESCRIPTION:Days and times may vary\, please contact site coordinator
URL:https://www.coffsharbourlandcare.org.au/event/woolgoolga-lake-landcare/2025-12-01/
CATEGORIES:Working Bees
ORGANIZER;CN="Christopher Blair":MAILTO:chrl@coffslandcare.org.au
END:VEVENT
BEGIN:VEVENT
DTSTART;TZID=Australia/Melbourne:20251208T080000
DTEND;TZID=Australia/Melbourne:20251208T100000
DTSTAMP:20260422T112131
CREATED:20250224T000027Z
LAST-MODIFIED:20250224T000027Z
UID:10005107-1765180800-1765188000@www.coffsharbourlandcare.org.au
SUMMARY:Woolgoolga Lake Landcare
DESCRIPTION:Days and times may vary\, please contact site coordinator
URL:https://www.coffsharbourlandcare.org.au/event/woolgoolga-lake-landcare/2025-12-08/
CATEGORIES:Working Bees
ORGANIZER;CN="Christopher Blair":MAILTO:chrl@coffslandcare.org.au
END:VEVENT
BEGIN:VEVENT
DTSTART;TZID=Australia/Melbourne:20251213T080000
DTEND;TZID=Australia/Melbourne:20251213T100000
DTSTAMP:20260422T112131
CREATED:20250224T000412Z
LAST-MODIFIED:20250224T000412Z
UID:10005120-1765612800-1765620000@www.coffsharbourlandcare.org.au
SUMMARY:Woolgoolga Lake Landcare Day 2
DESCRIPTION:Days and times may vary\, please contact site coordinator
URL:https://www.coffsharbourlandcare.org.au/event/woolgoolga-lake-landcare-day-2/2025-12-13/
CATEGORIES:Working Bees
ORGANIZER;CN="Christopher Blair":MAILTO:chrl@coffslandcare.org.au
END:VEVENT
BEGIN:VEVENT
DTSTART;TZID=Australia/Melbourne:20251215T080000
DTEND;TZID=Australia/Melbourne:20251215T100000
DTSTAMP:20260422T112131
CREATED:20250224T000027Z
LAST-MODIFIED:20250224T000027Z
UID:10005108-1765785600-1765792800@www.coffsharbourlandcare.org.au
SUMMARY:Woolgoolga Lake Landcare
DESCRIPTION:Days and times may vary\, please contact site coordinator
URL:https://www.coffsharbourlandcare.org.au/event/woolgoolga-lake-landcare/2025-12-15/
CATEGORIES:Working Bees
ORGANIZER;CN="Christopher Blair":MAILTO:chrl@coffslandcare.org.au
END:VEVENT
BEGIN:VEVENT
DTSTART;TZID=Australia/Melbourne:20251218T080000
DTEND;TZID=Australia/Melbourne:20251218T120000
DTSTAMP:20260422T112131
CREATED:20250212T015305Z
LAST-MODIFIED:20250212T015331Z
UID:10004824-1766044800-1766059200@www.coffsharbourlandcare.org.au
SUMMARY:Scarborough Street Landcare
DESCRIPTION:Regenerating the bushland behind the Woolgoolga Community Gardens. Days vary\, contact site coordinator.
URL:https://www.coffsharbourlandcare.org.au/event/scarborough-street-landcare/2025-12-18/
CATEGORIES:Working Bees
END:VEVENT
BEGIN:VEVENT
DTSTART;TZID=Australia/Melbourne:20251222T080000
DTEND;TZID=Australia/Melbourne:20251222T100000
DTSTAMP:20260422T112131
CREATED:20250224T000027Z
LAST-MODIFIED:20250224T000027Z
UID:10005109-1766390400-1766397600@www.coffsharbourlandcare.org.au
SUMMARY:Woolgoolga Lake Landcare
DESCRIPTION:Days and times may vary\, please contact site coordinator
URL:https://www.coffsharbourlandcare.org.au/event/woolgoolga-lake-landcare/2025-12-22/
CATEGORIES:Working Bees
ORGANIZER;CN="Christopher Blair":MAILTO:chrl@coffslandcare.org.au
END:VEVENT
END:VCALENDAR