BEGIN:VCALENDAR
VERSION:2.0
PRODID:-//Coffs Harbour Regional Landcare - ECPv6.15.20//NONSGML v1.0//EN
CALSCALE:GREGORIAN
METHOD:PUBLISH
X-WR-CALNAME:Coffs Harbour Regional Landcare
X-ORIGINAL-URL:https://www.coffsharbourlandcare.org.au
X-WR-CALDESC:Events for Coffs Harbour Regional Landcare
REFRESH-INTERVAL;VALUE=DURATION:PT1H
X-Robots-Tag:noindex
X-PUBLISHED-TTL:PT1H
BEGIN:VTIMEZONE
TZID:Australia/Melbourne
BEGIN:STANDARD
TZOFFSETFROM:+1100
TZOFFSETTO:+1000
TZNAME:AEST
DTSTART:20240406T160000
END:STANDARD
BEGIN:DAYLIGHT
TZOFFSETFROM:+1000
TZOFFSETTO:+1100
TZNAME:AEDT
DTSTART:20241005T160000
END:DAYLIGHT
BEGIN:STANDARD
TZOFFSETFROM:+1100
TZOFFSETTO:+1000
TZNAME:AEST
DTSTART:20250405T160000
END:STANDARD
BEGIN:DAYLIGHT
TZOFFSETFROM:+1000
TZOFFSETTO:+1100
TZNAME:AEDT
DTSTART:20251004T160000
END:DAYLIGHT
BEGIN:STANDARD
TZOFFSETFROM:+1100
TZOFFSETTO:+1000
TZNAME:AEST
DTSTART:20260404T160000
END:STANDARD
BEGIN:DAYLIGHT
TZOFFSETFROM:+1000
TZOFFSETTO:+1100
TZNAME:AEDT
DTSTART:20261003T160000
END:DAYLIGHT
END:VTIMEZONE
BEGIN:VEVENT
DTSTART;TZID=Australia/Melbourne:20250201T080000
DTEND;TZID=Australia/Melbourne:20250201T100000
DTSTAMP:20260422T210150
CREATED:20250212T005526Z
LAST-MODIFIED:20250212T005727Z
UID:10004677-1738396800-1738404000@www.coffsharbourlandcare.org.au
SUMMARY:Woolgoolga Creek Landcare
DESCRIPTION:Working Bees every first and third Saturday of the month\, contact site coordinator for time and meet location.  \n8.00-10.00 AM (spring\, summer and autum) and 8.30 AM -10.30 AM (winter June-August)
URL:https://www.coffsharbourlandcare.org.au/event/woolgoolga-creek-landcare-2-2-2/2025-02-01/
LOCATION:NSW
CATEGORIES:Working Bees
END:VEVENT
BEGIN:VEVENT
DTSTART;TZID=Australia/Melbourne:20250202T080000
DTEND;TZID=Australia/Melbourne:20250202T100000
DTSTAMP:20260422T210150
CREATED:20240229T040415Z
LAST-MODIFIED:20250224T224534Z
UID:10005407-1738483200-1738490400@www.coffsharbourlandcare.org.au
SUMMARY:Corindi Beach Dunecare
DESCRIPTION:Please contact coordinator to confirm meet place.
URL:https://www.coffsharbourlandcare.org.au/event/corindi-beach-dunecare/2025-02-02/
LOCATION:Corindi Beach
CATEGORIES:Working Bees
END:VEVENT
BEGIN:VEVENT
DTSTART;TZID=Australia/Melbourne:20250207T080000
DTEND;TZID=Australia/Melbourne:20250207T120000
DTSTAMP:20260422T210150
CREATED:20250212T015532Z
LAST-MODIFIED:20250212T020246Z
UID:10004599-1738915200-1738929600@www.coffsharbourlandcare.org.au
SUMMARY:Woolgoolga Main Beach Dunecare
DESCRIPTION:Working Bees\, every Friday\, 8:00 – 12noon. Contact site coordinator for location.
URL:https://www.coffsharbourlandcare.org.au/event/woolgoolga-main-beach-dunecare-4-2/2025-02-07/
LOCATION:NSW
CATEGORIES:Working Bees
END:VEVENT
BEGIN:VEVENT
DTSTART;TZID=Australia/Melbourne:20250209T080000
DTEND;TZID=Australia/Melbourne:20250209T100000
DTSTAMP:20260422T210150
CREATED:20241002T042356Z
LAST-MODIFIED:20241002T042356Z
UID:10004605-1739088000-1739095200@www.coffsharbourlandcare.org.au
SUMMARY:Woopi Headland Landcare
DESCRIPTION:Working bees on the 2nd Sunday of the month 8:00 am to 10:00 am. Contact site coordinator for meet location.
URL:https://www.coffsharbourlandcare.org.au/event/woopi-headland-landcare/2025-02-09/
LOCATION:NSW
END:VEVENT
BEGIN:VEVENT
DTSTART;TZID=Australia/Melbourne:20250214T080000
DTEND;TZID=Australia/Melbourne:20250214T120000
DTSTAMP:20260422T210150
CREATED:20250212T015532Z
LAST-MODIFIED:20250212T020246Z
UID:10004825-1739520000-1739534400@www.coffsharbourlandcare.org.au
SUMMARY:Woolgoolga Main Beach Dunecare
DESCRIPTION:Working Bees\, every Friday\, 8:00 – 12noon. Contact site coordinator for location.
URL:https://www.coffsharbourlandcare.org.au/event/woolgoolga-main-beach-dunecare-4-2/2025-02-14/
LOCATION:NSW
CATEGORIES:Working Bees
END:VEVENT
BEGIN:VEVENT
DTSTART;TZID=Australia/Melbourne:20250215T080000
DTEND;TZID=Australia/Melbourne:20250215T100000
DTSTAMP:20260422T210150
CREATED:20250212T010005Z
LAST-MODIFIED:20250212T010005Z
UID:10004688-1739606400-1739613600@www.coffsharbourlandcare.org.au
SUMMARY:Woolgoolga Creek Landcare Day 2
DESCRIPTION:Working Bees every first and third Saturday of the month\, contact site coordinator for time and meet location.  \n8.00-10.00 AM (spring\, summer and autum) and 8.30 AM -10.30 AM (winter June-August)
URL:https://www.coffsharbourlandcare.org.au/event/woolgoolga-creek-landcare-day-2/2025-02-15/
LOCATION:NSW
CATEGORIES:Working Bees
ORGANIZER;CN="Matt Dillon":MAILTO:chrl@coffslandcare.org.au
END:VEVENT
BEGIN:VEVENT
DTSTART;TZID=Australia/Melbourne:20250215T083000
DTEND;TZID=Australia/Melbourne:20250215T120000
DTSTAMP:20260422T210150
CREATED:20250224T001725Z
LAST-MODIFIED:20250224T001803Z
UID:10002571-1739608200-1739620800@www.coffsharbourlandcare.org.au
SUMMARY:Friends of Coffs Creek
DESCRIPTION:Contact Site Coordinator for meeting place and time.
URL:https://www.coffsharbourlandcare.org.au/event/friends-of-coffs-creek-4-3/2025-02-15/
LOCATION:NSW
CATEGORIES:Working Bees
END:VEVENT
BEGIN:VEVENT
DTSTART;TZID=Australia/Melbourne:20250220T090000
DTEND;TZID=Australia/Melbourne:20250220T120000
DTSTAMP:20260422T210150
CREATED:20250212T022301Z
LAST-MODIFIED:20250212T022437Z
UID:10002331-1740042000-1740052800@www.coffsharbourlandcare.org.au
SUMMARY:Darkum Beach Landcare
DESCRIPTION:Darkum Beach Landcare Site meets every 3rd Thursday of the month\, usually at 9-12 pm. Contact Paul on 0414 942 298 for updates on meeting times\, as they may vary each month.
URL:https://www.coffsharbourlandcare.org.au/event/darkum-beach-landcare-2/2025-02-20/
LOCATION:Darkum Beach LC\, Darkum Rd\, Mullaway\, NSW\, 2456\, Australia
CATEGORIES:Working Bees
ORGANIZER;CN="Paul & Chris Hatton":MAILTO:chrl@coffslandcare.org.au
GEO:-30.0811446;153.1982899
X-APPLE-STRUCTURED-LOCATION;VALUE=URI;X-ADDRESS=Darkum Beach LC Darkum Rd Mullaway NSW 2456 Australia;X-APPLE-RADIUS=500;X-TITLE=Darkum Rd:geo:153.1982899,-30.0811446
END:VEVENT
BEGIN:VEVENT
DTSTART;TZID=Australia/Melbourne:20250221T080000
DTEND;TZID=Australia/Melbourne:20250221T120000
DTSTAMP:20260422T210150
CREATED:20250212T015532Z
LAST-MODIFIED:20250212T020246Z
UID:10004826-1740124800-1740139200@www.coffsharbourlandcare.org.au
SUMMARY:Woolgoolga Main Beach Dunecare
DESCRIPTION:Working Bees\, every Friday\, 8:00 – 12noon. Contact site coordinator for location.
URL:https://www.coffsharbourlandcare.org.au/event/woolgoolga-main-beach-dunecare-4-2/2025-02-21/
LOCATION:NSW
CATEGORIES:Working Bees
END:VEVENT
BEGIN:VEVENT
DTSTART;TZID=Australia/Melbourne:20250223T080000
DTEND;TZID=Australia/Melbourne:20250223T100000
DTSTAMP:20260422T210150
CREATED:20250212T010844Z
LAST-MODIFIED:20250212T010845Z
UID:10002389-1740297600-1740304800@www.coffsharbourlandcare.org.au
SUMMARY:Emerald Beach Dunecare
DESCRIPTION:Volunteers meet on the 3rd Sunday of the month\, 8-10am with the exception of February\, March and April\, 2025
URL:https://www.coffsharbourlandcare.org.au/event/emerald-beach-dunecare-2-3/
LOCATION:Emerald Beach\, Emerald Beach Reserve\, Fiddaman Rd\, Emerald Beach\, New South Wales\, 2456\, Australia
CATEGORIES:Working Bees
ORGANIZER;CN="Graham Tupper":MAILTO:chrl@coffslandcare.org.au
END:VEVENT
BEGIN:VEVENT
DTSTART;TZID=Australia/Melbourne:20250225T073000
DTEND;TZID=Australia/Melbourne:20250225T100000
DTSTAMP:20260422T210151
CREATED:20250224T004350Z
LAST-MODIFIED:20250224T004350Z
UID:10002671-1740468600-1740477600@www.coffsharbourlandcare.org.au
SUMMARY:Red Rock Landcare
DESCRIPTION:Tuesdays from 7.30am. Also work at other times by arrangement contact site coordinator. \nContact: Coordinator Rose Treilibs on rtreilibs@gmail.com or phone 0418112390
URL:https://www.coffsharbourlandcare.org.au/event/red-rock-landcare-2-2/2025-02-25/
LOCATION:Lynch Cottage\, Red Rock\, Park St\, Red Rock\, New South Wales\, 2456\, Australia
CATEGORIES:Working Bees
ORGANIZER;CN="Rose & Vern Treilibs":MAILTO:rtreilibs@gmail.com
END:VEVENT
BEGIN:VEVENT
DTSTART;TZID=Australia/Melbourne:20250225T083000
DTEND;TZID=Australia/Melbourne:20250225T120000
DTSTAMP:20260422T210151
CREATED:20250224T002118Z
LAST-MODIFIED:20250224T002517Z
UID:10002570-1740472200-1740484800@www.coffsharbourlandcare.org.au
SUMMARY:Friends of Coffs Creek
DESCRIPTION:Contact Site Coordinator for meeting place and time.
URL:https://www.coffsharbourlandcare.org.au/event/friends-of-coffs-creek-4-4/2025-02-25/
LOCATION:NSW
CATEGORIES:Working Bees
END:VEVENT
BEGIN:VEVENT
DTSTART;TZID=Australia/Melbourne:20250227T083000
DTEND;TZID=Australia/Melbourne:20250227T120000
DTSTAMP:20260422T210151
CREATED:20250224T002118Z
LAST-MODIFIED:20250224T002517Z
UID:10005194-1740645000-1740657600@www.coffsharbourlandcare.org.au
SUMMARY:Friends of Coffs Creek
DESCRIPTION:Contact Site Coordinator for meeting place and time.
URL:https://www.coffsharbourlandcare.org.au/event/friends-of-coffs-creek-4-4/2025-02-27/
LOCATION:NSW
CATEGORIES:Working Bees
END:VEVENT
BEGIN:VEVENT
DTSTART;TZID=Australia/Melbourne:20250228T080000
DTEND;TZID=Australia/Melbourne:20250228T120000
DTSTAMP:20260422T210151
CREATED:20250212T015532Z
LAST-MODIFIED:20250212T020246Z
UID:10004827-1740729600-1740744000@www.coffsharbourlandcare.org.au
SUMMARY:Woolgoolga Main Beach Dunecare
DESCRIPTION:Working Bees\, every Friday\, 8:00 – 12noon. Contact site coordinator for location.
URL:https://www.coffsharbourlandcare.org.au/event/woolgoolga-main-beach-dunecare-4-2/2025-02-28/
LOCATION:NSW
CATEGORIES:Working Bees
END:VEVENT
END:VCALENDAR