BEGIN:VCALENDAR
VERSION:2.0
PRODID:-//Coffs Harbour Regional Landcare - ECPv6.15.20//NONSGML v1.0//EN
CALSCALE:GREGORIAN
METHOD:PUBLISH
X-ORIGINAL-URL:https://www.coffsharbourlandcare.org.au
X-WR-CALDESC:Events for Coffs Harbour Regional Landcare
REFRESH-INTERVAL;VALUE=DURATION:PT1H
X-Robots-Tag:noindex
X-PUBLISHED-TTL:PT1H
BEGIN:VTIMEZONE
TZID:Australia/Melbourne
BEGIN:STANDARD
TZOFFSETFROM:+1100
TZOFFSETTO:+1000
TZNAME:AEST
DTSTART:20240406T160000
END:STANDARD
BEGIN:DAYLIGHT
TZOFFSETFROM:+1000
TZOFFSETTO:+1100
TZNAME:AEDT
DTSTART:20241005T160000
END:DAYLIGHT
BEGIN:STANDARD
TZOFFSETFROM:+1100
TZOFFSETTO:+1000
TZNAME:AEST
DTSTART:20250405T160000
END:STANDARD
BEGIN:DAYLIGHT
TZOFFSETFROM:+1000
TZOFFSETTO:+1100
TZNAME:AEDT
DTSTART:20251004T160000
END:DAYLIGHT
BEGIN:STANDARD
TZOFFSETFROM:+1100
TZOFFSETTO:+1000
TZNAME:AEST
DTSTART:20260404T160000
END:STANDARD
BEGIN:DAYLIGHT
TZOFFSETFROM:+1000
TZOFFSETTO:+1100
TZNAME:AEDT
DTSTART:20261003T160000
END:DAYLIGHT
END:VTIMEZONE
BEGIN:VEVENT
DTSTART;TZID=Australia/Melbourne:20250301T080000
DTEND;TZID=Australia/Melbourne:20250301T100000
DTSTAMP:20260422T193806
CREATED:20250212T005526Z
LAST-MODIFIED:20250212T005727Z
UID:10004678-1740816000-1740823200@www.coffsharbourlandcare.org.au
SUMMARY:Woolgoolga Creek Landcare
DESCRIPTION:Working Bees every first and third Saturday of the month\, contact site coordinator for time and meet location.  \n8.00-10.00 AM (spring\, summer and autum) and 8.30 AM -10.30 AM (winter June-August)
URL:https://www.coffsharbourlandcare.org.au/event/woolgoolga-creek-landcare-2-2-2/2025-03-01/
LOCATION:NSW
CATEGORIES:Working Bees
END:VEVENT
BEGIN:VEVENT
DTSTART;TZID=Australia/Melbourne:20250301T083000
DTEND;TZID=Australia/Melbourne:20250301T103000
DTSTAMP:20260422T193806
CREATED:20250212T023755Z
LAST-MODIFIED:20250212T023836Z
UID:10002698-1740817800-1740825000@www.coffsharbourlandcare.org.au
SUMMARY:Fuller Street Dunecare\, Arrawarra Headland
DESCRIPTION:Working bees scheduled for the first Saturday of each month\, except Jan\, Feb\, starting at 8:30am\, generally 2 hours. \nContact Site Coordinator Greg Yeates on 0432 507 193 or 2dagyeates@gmail.com
URL:https://www.coffsharbourlandcare.org.au/event/fuller-street-dunecare-arrawarra-headland-2/2025-03-01/
LOCATION:NSW
CATEGORIES:Working Bees
ORGANIZER;CN="Greg Yeates":MAILTO:2dagyeates@gmail.com
END:VEVENT
BEGIN:VEVENT
DTSTART;TZID=Australia/Melbourne:20250301T083000
DTEND;TZID=Australia/Melbourne:20250301T120000
DTSTAMP:20260422T193806
CREATED:20250224T001556Z
LAST-MODIFIED:20250224T001556Z
UID:10002572-1740817800-1740830400@www.coffsharbourlandcare.org.au
SUMMARY:Friends of Coffs Creek
DESCRIPTION:Contact Site Coordinator for meeting place and time.
URL:https://www.coffsharbourlandcare.org.au/event/friends-of-coffs-creek-4-2/2025-03-01/
LOCATION:NSW
CATEGORIES:Working Bees
END:VEVENT
BEGIN:VEVENT
DTSTART;TZID=Australia/Melbourne:20250302T080000
DTEND;TZID=Australia/Melbourne:20250302T100000
DTSTAMP:20260422T193806
CREATED:20240229T040415Z
LAST-MODIFIED:20250224T224534Z
UID:10005408-1740902400-1740909600@www.coffsharbourlandcare.org.au
SUMMARY:Corindi Beach Dunecare
DESCRIPTION:Please contact coordinator to confirm meet place.
URL:https://www.coffsharbourlandcare.org.au/event/corindi-beach-dunecare/2025-03-02/
LOCATION:Corindi Beach
CATEGORIES:Working Bees
END:VEVENT
BEGIN:VEVENT
DTSTART;TZID=Australia/Melbourne:20250304T073000
DTEND;TZID=Australia/Melbourne:20250304T100000
DTSTAMP:20260422T193806
CREATED:20250224T004350Z
LAST-MODIFIED:20250224T004350Z
UID:10002672-1741073400-1741082400@www.coffsharbourlandcare.org.au
SUMMARY:Red Rock Landcare
DESCRIPTION:Tuesdays from 7.30am. Also work at other times by arrangement contact site coordinator. \nContact: Coordinator Rose Treilibs on rtreilibs@gmail.com or phone 0418112390
URL:https://www.coffsharbourlandcare.org.au/event/red-rock-landcare-2-2/2025-03-04/
LOCATION:Lynch Cottage\, Red Rock\, Park St\, Red Rock\, New South Wales\, 2456\, Australia
CATEGORIES:Working Bees
ORGANIZER;CN="Rose & Vern Treilibs":MAILTO:rtreilibs@gmail.com
END:VEVENT
BEGIN:VEVENT
DTSTART;TZID=Australia/Melbourne:20250304T083000
DTEND;TZID=Australia/Melbourne:20250304T120000
DTSTAMP:20260422T193806
CREATED:20250224T002118Z
LAST-MODIFIED:20250224T002517Z
UID:10005151-1741077000-1741089600@www.coffsharbourlandcare.org.au
SUMMARY:Friends of Coffs Creek
DESCRIPTION:Contact Site Coordinator for meeting place and time.
URL:https://www.coffsharbourlandcare.org.au/event/friends-of-coffs-creek-4-4/2025-03-04/
LOCATION:NSW
CATEGORIES:Working Bees
END:VEVENT
BEGIN:VEVENT
DTSTART;TZID=Australia/Melbourne:20250306T083000
DTEND;TZID=Australia/Melbourne:20250306T120000
DTSTAMP:20260422T193806
CREATED:20250224T002118Z
LAST-MODIFIED:20250224T002517Z
UID:10005195-1741249800-1741262400@www.coffsharbourlandcare.org.au
SUMMARY:Friends of Coffs Creek
DESCRIPTION:Contact Site Coordinator for meeting place and time.
URL:https://www.coffsharbourlandcare.org.au/event/friends-of-coffs-creek-4-4/2025-03-06/
LOCATION:NSW
CATEGORIES:Working Bees
END:VEVENT
BEGIN:VEVENT
DTSTART;TZID=Australia/Melbourne:20250307T080000
DTEND;TZID=Australia/Melbourne:20250307T120000
DTSTAMP:20260422T193806
CREATED:20250212T015532Z
LAST-MODIFIED:20250212T020246Z
UID:10004828-1741334400-1741348800@www.coffsharbourlandcare.org.au
SUMMARY:Woolgoolga Main Beach Dunecare
DESCRIPTION:Working Bees\, every Friday\, 8:00 – 12noon. Contact site coordinator for location.
URL:https://www.coffsharbourlandcare.org.au/event/woolgoolga-main-beach-dunecare-4-2/2025-03-07/
LOCATION:NSW
CATEGORIES:Working Bees
END:VEVENT
BEGIN:VEVENT
DTSTART;TZID=Australia/Melbourne:20250309T080000
DTEND;TZID=Australia/Melbourne:20250309T100000
DTSTAMP:20260422T193806
CREATED:20241002T042356Z
LAST-MODIFIED:20241002T042356Z
UID:10004606-1741507200-1741514400@www.coffsharbourlandcare.org.au
SUMMARY:Woopi Headland Landcare
DESCRIPTION:Working bees on the 2nd Sunday of the month 8:00 am to 10:00 am. Contact site coordinator for meet location.
URL:https://www.coffsharbourlandcare.org.au/event/woopi-headland-landcare/2025-03-09/
LOCATION:NSW
END:VEVENT
BEGIN:VEVENT
DTSTART;TZID=Australia/Melbourne:20250310T090000
DTEND;TZID=Australia/Melbourne:20250310T110000
DTSTAMP:20260422T193806
CREATED:20250216T234406Z
LAST-MODIFIED:20250216T234544Z
UID:10003366-1741597200-1741604400@www.coffsharbourlandcare.org.au
SUMMARY:Macauleys Headland Landcare
DESCRIPTION:Second Monday of the month 9 – 11am meet at Ocean Parade north car park. Restoring the vegetation on this site in the Regional Park.
URL:https://www.coffsharbourlandcare.org.au/event/macauleys-headland-landcare-2-2-2/2025-03-10/
LOCATION:Macauleys Headland\, Park Beach Parking North\, Ocean Parade\, Coffs Harbour\, NSW\, 2450\, Australia
CATEGORIES:Working Bees
END:VEVENT
BEGIN:VEVENT
DTSTART;TZID=Australia/Melbourne:20250311T073000
DTEND;TZID=Australia/Melbourne:20250311T100000
DTSTAMP:20260422T193806
CREATED:20250224T004350Z
LAST-MODIFIED:20250224T004350Z
UID:10005334-1741678200-1741687200@www.coffsharbourlandcare.org.au
SUMMARY:Red Rock Landcare
DESCRIPTION:Tuesdays from 7.30am. Also work at other times by arrangement contact site coordinator. \nContact: Coordinator Rose Treilibs on rtreilibs@gmail.com or phone 0418112390
URL:https://www.coffsharbourlandcare.org.au/event/red-rock-landcare-2-2/2025-03-11/
LOCATION:Lynch Cottage\, Red Rock\, Park St\, Red Rock\, New South Wales\, 2456\, Australia
CATEGORIES:Working Bees
ORGANIZER;CN="Rose & Vern Treilibs":MAILTO:rtreilibs@gmail.com
END:VEVENT
BEGIN:VEVENT
DTSTART;TZID=Australia/Melbourne:20250311T083000
DTEND;TZID=Australia/Melbourne:20250311T120000
DTSTAMP:20260422T193806
CREATED:20250224T002118Z
LAST-MODIFIED:20250224T002517Z
UID:10005152-1741681800-1741694400@www.coffsharbourlandcare.org.au
SUMMARY:Friends of Coffs Creek
DESCRIPTION:Contact Site Coordinator for meeting place and time.
URL:https://www.coffsharbourlandcare.org.au/event/friends-of-coffs-creek-4-4/2025-03-11/
LOCATION:NSW
CATEGORIES:Working Bees
END:VEVENT
BEGIN:VEVENT
DTSTART;TZID=Australia/Melbourne:20250312T080000
DTEND;TZID=Australia/Melbourne:20250312T170000
DTSTAMP:20260422T193806
CREATED:20250224T010328Z
LAST-MODIFIED:20250224T010328Z
UID:10003923-1741766400-1741798800@www.coffsharbourlandcare.org.au
SUMMARY:Woolgoolga Back Beach Dunecare
DESCRIPTION:Working bees on the 2nd Wednesdays of each month\, 8:00-11:00am\, meet at Market Street or the back beach picnic area at the end of High St. Contact organiser to confirm meet location.
URL:https://www.coffsharbourlandcare.org.au/event/woolgoolga-back-beach-dunecare-3-2/2025-03-12/
LOCATION:NSW
CATEGORIES:Working Bees
END:VEVENT
BEGIN:VEVENT
DTSTART;TZID=Australia/Melbourne:20250313T083000
DTEND;TZID=Australia/Melbourne:20250313T120000
DTSTAMP:20260422T193806
CREATED:20250224T002118Z
LAST-MODIFIED:20250224T002517Z
UID:10005196-1741854600-1741867200@www.coffsharbourlandcare.org.au
SUMMARY:Friends of Coffs Creek
DESCRIPTION:Contact Site Coordinator for meeting place and time.
URL:https://www.coffsharbourlandcare.org.au/event/friends-of-coffs-creek-4-4/2025-03-13/
LOCATION:NSW
CATEGORIES:Working Bees
END:VEVENT
BEGIN:VEVENT
DTSTART;TZID=Australia/Melbourne:20250314T080000
DTEND;TZID=Australia/Melbourne:20250314T120000
DTSTAMP:20260422T193806
CREATED:20250212T015532Z
LAST-MODIFIED:20250212T020246Z
UID:10004829-1741939200-1741953600@www.coffsharbourlandcare.org.au
SUMMARY:Woolgoolga Main Beach Dunecare
DESCRIPTION:Working Bees\, every Friday\, 8:00 – 12noon. Contact site coordinator for location.
URL:https://www.coffsharbourlandcare.org.au/event/woolgoolga-main-beach-dunecare-4-2/2025-03-14/
LOCATION:NSW
CATEGORIES:Working Bees
END:VEVENT
BEGIN:VEVENT
DTSTART;TZID=Australia/Melbourne:20250315T080000
DTEND;TZID=Australia/Melbourne:20250315T100000
DTSTAMP:20260422T193806
CREATED:20250212T010005Z
LAST-MODIFIED:20250212T010005Z
UID:10004689-1742025600-1742032800@www.coffsharbourlandcare.org.au
SUMMARY:Woolgoolga Creek Landcare Day 2
DESCRIPTION:Working Bees every first and third Saturday of the month\, contact site coordinator for time and meet location.  \n8.00-10.00 AM (spring\, summer and autum) and 8.30 AM -10.30 AM (winter June-August)
URL:https://www.coffsharbourlandcare.org.au/event/woolgoolga-creek-landcare-day-2/2025-03-15/
LOCATION:NSW
CATEGORIES:Working Bees
ORGANIZER;CN="Matt Dillon":MAILTO:chrl@coffslandcare.org.au
END:VEVENT
BEGIN:VEVENT
DTSTART;TZID=Australia/Melbourne:20250315T083000
DTEND;TZID=Australia/Melbourne:20250315T120000
DTSTAMP:20260422T193806
CREATED:20250224T001725Z
LAST-MODIFIED:20250224T001803Z
UID:10005141-1742027400-1742040000@www.coffsharbourlandcare.org.au
SUMMARY:Friends of Coffs Creek
DESCRIPTION:Contact Site Coordinator for meeting place and time.
URL:https://www.coffsharbourlandcare.org.au/event/friends-of-coffs-creek-4-3/2025-03-15/
LOCATION:NSW
CATEGORIES:Working Bees
END:VEVENT
BEGIN:VEVENT
DTSTART;TZID=Australia/Melbourne:20250318T073000
DTEND;TZID=Australia/Melbourne:20250318T100000
DTSTAMP:20260422T193806
CREATED:20250224T004350Z
LAST-MODIFIED:20250224T004350Z
UID:10005335-1742283000-1742292000@www.coffsharbourlandcare.org.au
SUMMARY:Red Rock Landcare
DESCRIPTION:Tuesdays from 7.30am. Also work at other times by arrangement contact site coordinator. \nContact: Coordinator Rose Treilibs on rtreilibs@gmail.com or phone 0418112390
URL:https://www.coffsharbourlandcare.org.au/event/red-rock-landcare-2-2/2025-03-18/
LOCATION:Lynch Cottage\, Red Rock\, Park St\, Red Rock\, New South Wales\, 2456\, Australia
CATEGORIES:Working Bees
ORGANIZER;CN="Rose & Vern Treilibs":MAILTO:rtreilibs@gmail.com
END:VEVENT
BEGIN:VEVENT
DTSTART;TZID=Australia/Melbourne:20250318T083000
DTEND;TZID=Australia/Melbourne:20250318T120000
DTSTAMP:20260422T193806
CREATED:20250224T002118Z
LAST-MODIFIED:20250224T002517Z
UID:10005153-1742286600-1742299200@www.coffsharbourlandcare.org.au
SUMMARY:Friends of Coffs Creek
DESCRIPTION:Contact Site Coordinator for meeting place and time.
URL:https://www.coffsharbourlandcare.org.au/event/friends-of-coffs-creek-4-4/2025-03-18/
LOCATION:NSW
CATEGORIES:Working Bees
END:VEVENT
BEGIN:VEVENT
DTSTART;TZID=Australia/Melbourne:20250320T083000
DTEND;TZID=Australia/Melbourne:20250320T120000
DTSTAMP:20260422T193806
CREATED:20250224T002118Z
LAST-MODIFIED:20250224T002517Z
UID:10005197-1742459400-1742472000@www.coffsharbourlandcare.org.au
SUMMARY:Friends of Coffs Creek
DESCRIPTION:Contact Site Coordinator for meeting place and time.
URL:https://www.coffsharbourlandcare.org.au/event/friends-of-coffs-creek-4-4/2025-03-20/
LOCATION:NSW
CATEGORIES:Working Bees
END:VEVENT
BEGIN:VEVENT
DTSTART;TZID=Australia/Melbourne:20250320T090000
DTEND;TZID=Australia/Melbourne:20250320T120000
DTSTAMP:20260422T193806
CREATED:20250212T022301Z
LAST-MODIFIED:20250212T022437Z
UID:10004902-1742461200-1742472000@www.coffsharbourlandcare.org.au
SUMMARY:Darkum Beach Landcare
DESCRIPTION:Darkum Beach Landcare Site meets every 3rd Thursday of the month\, usually at 9-12 pm. Contact Paul on 0414 942 298 for updates on meeting times\, as they may vary each month.
URL:https://www.coffsharbourlandcare.org.au/event/darkum-beach-landcare-2/2025-03-20/
LOCATION:Darkum Beach LC\, Darkum Rd\, Mullaway\, NSW\, 2456\, Australia
CATEGORIES:Working Bees
ORGANIZER;CN="Paul & Chris Hatton":MAILTO:chrl@coffslandcare.org.au
GEO:-30.0811446;153.1982899
X-APPLE-STRUCTURED-LOCATION;VALUE=URI;X-ADDRESS=Darkum Beach LC Darkum Rd Mullaway NSW 2456 Australia;X-APPLE-RADIUS=500;X-TITLE=Darkum Rd:geo:153.1982899,-30.0811446
END:VEVENT
BEGIN:VEVENT
DTSTART;TZID=Australia/Melbourne:20250321T080000
DTEND;TZID=Australia/Melbourne:20250321T120000
DTSTAMP:20260422T193806
CREATED:20250212T015532Z
LAST-MODIFIED:20250212T020246Z
UID:10004830-1742544000-1742558400@www.coffsharbourlandcare.org.au
SUMMARY:Woolgoolga Main Beach Dunecare
DESCRIPTION:Working Bees\, every Friday\, 8:00 – 12noon. Contact site coordinator for location.
URL:https://www.coffsharbourlandcare.org.au/event/woolgoolga-main-beach-dunecare-4-2/2025-03-21/
LOCATION:NSW
CATEGORIES:Working Bees
END:VEVENT
BEGIN:VEVENT
DTSTART;TZID=Australia/Melbourne:20250323T080000
DTEND;TZID=Australia/Melbourne:20250323T100000
DTSTAMP:20260422T193806
CREATED:20250212T011349Z
LAST-MODIFIED:20250212T011349Z
UID:10002388-1742716800-1742724000@www.coffsharbourlandcare.org.au
SUMMARY:Emerald Beach Dunecare
DESCRIPTION:
URL:https://www.coffsharbourlandcare.org.au/event/emerald-beach-dunecare-2-4/
LOCATION:Emerald Beach\, Emerald Beach Reserve\, Fiddaman Rd\, Emerald Beach\, New South Wales\, 2456\, Australia
CATEGORIES:Working Bees
ORGANIZER;CN="Graham Tupper":MAILTO:chrl@coffslandcare.org.au
END:VEVENT
BEGIN:VEVENT
DTSTART;TZID=Australia/Melbourne:20250325T073000
DTEND;TZID=Australia/Melbourne:20250325T100000
DTSTAMP:20260422T193806
CREATED:20250224T004350Z
LAST-MODIFIED:20250224T004350Z
UID:10005336-1742887800-1742896800@www.coffsharbourlandcare.org.au
SUMMARY:Red Rock Landcare
DESCRIPTION:Tuesdays from 7.30am. Also work at other times by arrangement contact site coordinator. \nContact: Coordinator Rose Treilibs on rtreilibs@gmail.com or phone 0418112390
URL:https://www.coffsharbourlandcare.org.au/event/red-rock-landcare-2-2/2025-03-25/
LOCATION:Lynch Cottage\, Red Rock\, Park St\, Red Rock\, New South Wales\, 2456\, Australia
CATEGORIES:Working Bees
ORGANIZER;CN="Rose & Vern Treilibs":MAILTO:rtreilibs@gmail.com
END:VEVENT
BEGIN:VEVENT
DTSTART;TZID=Australia/Melbourne:20250325T083000
DTEND;TZID=Australia/Melbourne:20250325T120000
DTSTAMP:20260422T193806
CREATED:20250224T002118Z
LAST-MODIFIED:20250224T002517Z
UID:10005154-1742891400-1742904000@www.coffsharbourlandcare.org.au
SUMMARY:Friends of Coffs Creek
DESCRIPTION:Contact Site Coordinator for meeting place and time.
URL:https://www.coffsharbourlandcare.org.au/event/friends-of-coffs-creek-4-4/2025-03-25/
LOCATION:NSW
CATEGORIES:Working Bees
END:VEVENT
BEGIN:VEVENT
DTSTART;TZID=Australia/Melbourne:20250327T083000
DTEND;TZID=Australia/Melbourne:20250327T120000
DTSTAMP:20260422T193806
CREATED:20250224T002118Z
LAST-MODIFIED:20250224T002517Z
UID:10005198-1743064200-1743076800@www.coffsharbourlandcare.org.au
SUMMARY:Friends of Coffs Creek
DESCRIPTION:Contact Site Coordinator for meeting place and time.
URL:https://www.coffsharbourlandcare.org.au/event/friends-of-coffs-creek-4-4/2025-03-27/
LOCATION:NSW
CATEGORIES:Working Bees
END:VEVENT
BEGIN:VEVENT
DTSTART;TZID=Australia/Melbourne:20250328T080000
DTEND;TZID=Australia/Melbourne:20250328T120000
DTSTAMP:20260422T193806
CREATED:20250212T015532Z
LAST-MODIFIED:20250212T020246Z
UID:10004831-1743148800-1743163200@www.coffsharbourlandcare.org.au
SUMMARY:Woolgoolga Main Beach Dunecare
DESCRIPTION:Working Bees\, every Friday\, 8:00 – 12noon. Contact site coordinator for location.
URL:https://www.coffsharbourlandcare.org.au/event/woolgoolga-main-beach-dunecare-4-2/2025-03-28/
LOCATION:NSW
CATEGORIES:Working Bees
END:VEVENT
END:VCALENDAR