BEGIN:VCALENDAR
VERSION:2.0
PRODID:-//Coffs Harbour Regional Landcare - ECPv6.15.20//NONSGML v1.0//EN
CALSCALE:GREGORIAN
METHOD:PUBLISH
X-WR-CALNAME:Coffs Harbour Regional Landcare
X-ORIGINAL-URL:https://www.coffsharbourlandcare.org.au
X-WR-CALDESC:Events for Coffs Harbour Regional Landcare
REFRESH-INTERVAL;VALUE=DURATION:PT1H
X-Robots-Tag:noindex
X-PUBLISHED-TTL:PT1H
BEGIN:VTIMEZONE
TZID:Australia/Melbourne
BEGIN:STANDARD
TZOFFSETFROM:+1100
TZOFFSETTO:+1000
TZNAME:AEST
DTSTART:20240406T160000
END:STANDARD
BEGIN:DAYLIGHT
TZOFFSETFROM:+1000
TZOFFSETTO:+1100
TZNAME:AEDT
DTSTART:20241005T160000
END:DAYLIGHT
BEGIN:STANDARD
TZOFFSETFROM:+1100
TZOFFSETTO:+1000
TZNAME:AEST
DTSTART:20250405T160000
END:STANDARD
BEGIN:DAYLIGHT
TZOFFSETFROM:+1000
TZOFFSETTO:+1100
TZNAME:AEDT
DTSTART:20251004T160000
END:DAYLIGHT
BEGIN:STANDARD
TZOFFSETFROM:+1100
TZOFFSETTO:+1000
TZNAME:AEST
DTSTART:20260404T160000
END:STANDARD
BEGIN:DAYLIGHT
TZOFFSETFROM:+1000
TZOFFSETTO:+1100
TZNAME:AEDT
DTSTART:20261003T160000
END:DAYLIGHT
END:VTIMEZONE
BEGIN:VEVENT
DTSTART;TZID=Australia/Melbourne:20250701T073000
DTEND;TZID=Australia/Melbourne:20250701T100000
DTSTAMP:20260422T125638
CREATED:20250224T004350Z
LAST-MODIFIED:20250224T004350Z
UID:10005350-1751355000-1751364000@www.coffsharbourlandcare.org.au
SUMMARY:Red Rock Landcare
DESCRIPTION:Tuesdays from 7.30am. Also work at other times by arrangement contact site coordinator. \nContact: Coordinator Rose Treilibs on rtreilibs@gmail.com or phone 0418112390
URL:https://www.coffsharbourlandcare.org.au/event/red-rock-landcare-2-2/2025-07-01/
LOCATION:Lynch Cottage\, Red Rock\, Park St\, Red Rock\, New South Wales\, 2456\, Australia
CATEGORIES:Working Bees
ORGANIZER;CN="Rose & Vern Treilibs":MAILTO:rtreilibs@gmail.com
END:VEVENT
BEGIN:VEVENT
DTSTART;TZID=Australia/Melbourne:20250701T083000
DTEND;TZID=Australia/Melbourne:20250701T120000
DTSTAMP:20260422T125638
CREATED:20250224T002118Z
LAST-MODIFIED:20250224T002517Z
UID:10005168-1751358600-1751371200@www.coffsharbourlandcare.org.au
SUMMARY:Friends of Coffs Creek
DESCRIPTION:Contact Site Coordinator for meeting place and time.
URL:https://www.coffsharbourlandcare.org.au/event/friends-of-coffs-creek-4-4/2025-07-01/
LOCATION:NSW
CATEGORIES:Working Bees
END:VEVENT
BEGIN:VEVENT
DTSTART;TZID=Australia/Melbourne:20250703T083000
DTEND;TZID=Australia/Melbourne:20250703T120000
DTSTAMP:20260422T125638
CREATED:20250224T002118Z
LAST-MODIFIED:20250224T002517Z
UID:10005212-1751531400-1751544000@www.coffsharbourlandcare.org.au
SUMMARY:Friends of Coffs Creek
DESCRIPTION:Contact Site Coordinator for meeting place and time.
URL:https://www.coffsharbourlandcare.org.au/event/friends-of-coffs-creek-4-4/2025-07-03/
LOCATION:NSW
CATEGORIES:Working Bees
END:VEVENT
BEGIN:VEVENT
DTSTART;TZID=Australia/Melbourne:20250704T080000
DTEND;TZID=Australia/Melbourne:20250704T120000
DTSTAMP:20260422T125638
CREATED:20250212T015532Z
LAST-MODIFIED:20250212T020246Z
UID:10004845-1751616000-1751630400@www.coffsharbourlandcare.org.au
SUMMARY:Woolgoolga Main Beach Dunecare
DESCRIPTION:Working Bees\, every Friday\, 8:00 – 12noon. Contact site coordinator for location.
URL:https://www.coffsharbourlandcare.org.au/event/woolgoolga-main-beach-dunecare-4-2/2025-07-04/
LOCATION:NSW
CATEGORIES:Working Bees
END:VEVENT
BEGIN:VEVENT
DTSTART;TZID=Australia/Melbourne:20250705T080000
DTEND;TZID=Australia/Melbourne:20250705T100000
DTSTAMP:20260422T125638
CREATED:20250212T005526Z
LAST-MODIFIED:20250212T005727Z
UID:10004682-1751702400-1751709600@www.coffsharbourlandcare.org.au
SUMMARY:Woolgoolga Creek Landcare
DESCRIPTION:Working Bees every first and third Saturday of the month\, contact site coordinator for time and meet location.  \n8.00-10.00 AM (spring\, summer and autum) and 8.30 AM -10.30 AM (winter June-August)
URL:https://www.coffsharbourlandcare.org.au/event/woolgoolga-creek-landcare-2-2-2/2025-07-05/
LOCATION:NSW
CATEGORIES:Working Bees
END:VEVENT
BEGIN:VEVENT
DTSTART;TZID=Australia/Melbourne:20250705T083000
DTEND;TZID=Australia/Melbourne:20250705T103000
DTSTAMP:20260422T125638
CREATED:20250212T023755Z
LAST-MODIFIED:20250212T023836Z
UID:10004962-1751704200-1751711400@www.coffsharbourlandcare.org.au
SUMMARY:Fuller Street Dunecare\, Arrawarra Headland
DESCRIPTION:Working bees scheduled for the first Saturday of each month\, except Jan\, Feb\, starting at 8:30am\, generally 2 hours. \nContact Site Coordinator Greg Yeates on 0432 507 193 or 2dagyeates@gmail.com
URL:https://www.coffsharbourlandcare.org.au/event/fuller-street-dunecare-arrawarra-headland-2/2025-07-05/
LOCATION:NSW
CATEGORIES:Working Bees
ORGANIZER;CN="Greg Yeates":MAILTO:2dagyeates@gmail.com
END:VEVENT
BEGIN:VEVENT
DTSTART;TZID=Australia/Melbourne:20250705T083000
DTEND;TZID=Australia/Melbourne:20250705T120000
DTSTAMP:20260422T125638
CREATED:20250224T001556Z
LAST-MODIFIED:20250224T001556Z
UID:10005135-1751704200-1751716800@www.coffsharbourlandcare.org.au
SUMMARY:Friends of Coffs Creek
DESCRIPTION:Contact Site Coordinator for meeting place and time.
URL:https://www.coffsharbourlandcare.org.au/event/friends-of-coffs-creek-4-2/2025-07-05/
LOCATION:NSW
CATEGORIES:Working Bees
END:VEVENT
BEGIN:VEVENT
DTSTART;TZID=Australia/Melbourne:20250706T080000
DTEND;TZID=Australia/Melbourne:20250706T100000
DTSTAMP:20260422T125638
CREATED:20240229T040415Z
LAST-MODIFIED:20250224T224534Z
UID:10005412-1751788800-1751796000@www.coffsharbourlandcare.org.au
SUMMARY:Corindi Beach Dunecare
DESCRIPTION:Please contact coordinator to confirm meet place.
URL:https://www.coffsharbourlandcare.org.au/event/corindi-beach-dunecare/2025-07-06/
LOCATION:Corindi Beach
CATEGORIES:Working Bees
END:VEVENT
BEGIN:VEVENT
DTSTART;TZID=Australia/Melbourne:20250708T073000
DTEND;TZID=Australia/Melbourne:20250708T100000
DTSTAMP:20260422T125638
CREATED:20250224T004350Z
LAST-MODIFIED:20250224T004350Z
UID:10005351-1751959800-1751968800@www.coffsharbourlandcare.org.au
SUMMARY:Red Rock Landcare
DESCRIPTION:Tuesdays from 7.30am. Also work at other times by arrangement contact site coordinator. \nContact: Coordinator Rose Treilibs on rtreilibs@gmail.com or phone 0418112390
URL:https://www.coffsharbourlandcare.org.au/event/red-rock-landcare-2-2/2025-07-08/
LOCATION:Lynch Cottage\, Red Rock\, Park St\, Red Rock\, New South Wales\, 2456\, Australia
CATEGORIES:Working Bees
ORGANIZER;CN="Rose & Vern Treilibs":MAILTO:rtreilibs@gmail.com
END:VEVENT
BEGIN:VEVENT
DTSTART;TZID=Australia/Melbourne:20250708T083000
DTEND;TZID=Australia/Melbourne:20250708T120000
DTSTAMP:20260422T125638
CREATED:20250224T002118Z
LAST-MODIFIED:20250224T002517Z
UID:10005169-1751963400-1751976000@www.coffsharbourlandcare.org.au
SUMMARY:Friends of Coffs Creek
DESCRIPTION:Contact Site Coordinator for meeting place and time.
URL:https://www.coffsharbourlandcare.org.au/event/friends-of-coffs-creek-4-4/2025-07-08/
LOCATION:NSW
CATEGORIES:Working Bees
END:VEVENT
BEGIN:VEVENT
DTSTART;TZID=Australia/Melbourne:20250709T080000
DTEND;TZID=Australia/Melbourne:20250709T170000
DTSTAMP:20260422T125638
CREATED:20250224T010328Z
LAST-MODIFIED:20250224T010328Z
UID:10005400-1752048000-1752080400@www.coffsharbourlandcare.org.au
SUMMARY:Woolgoolga Back Beach Dunecare
DESCRIPTION:Working bees on the 2nd Wednesdays of each month\, 8:00-11:00am\, meet at Market Street or the back beach picnic area at the end of High St. Contact organiser to confirm meet location.
URL:https://www.coffsharbourlandcare.org.au/event/woolgoolga-back-beach-dunecare-3-2/2025-07-09/
LOCATION:NSW
CATEGORIES:Working Bees
END:VEVENT
BEGIN:VEVENT
DTSTART;TZID=Australia/Melbourne:20250710T083000
DTEND;TZID=Australia/Melbourne:20250710T120000
DTSTAMP:20260422T125638
CREATED:20250224T002118Z
LAST-MODIFIED:20250224T002517Z
UID:10005213-1752136200-1752148800@www.coffsharbourlandcare.org.au
SUMMARY:Friends of Coffs Creek
DESCRIPTION:Contact Site Coordinator for meeting place and time.
URL:https://www.coffsharbourlandcare.org.au/event/friends-of-coffs-creek-4-4/2025-07-10/
LOCATION:NSW
CATEGORIES:Working Bees
END:VEVENT
BEGIN:VEVENT
DTSTART;TZID=Australia/Melbourne:20250711T080000
DTEND;TZID=Australia/Melbourne:20250711T120000
DTSTAMP:20260422T125638
CREATED:20250212T015532Z
LAST-MODIFIED:20250212T020246Z
UID:10004846-1752220800-1752235200@www.coffsharbourlandcare.org.au
SUMMARY:Woolgoolga Main Beach Dunecare
DESCRIPTION:Working Bees\, every Friday\, 8:00 – 12noon. Contact site coordinator for location.
URL:https://www.coffsharbourlandcare.org.au/event/woolgoolga-main-beach-dunecare-4-2/2025-07-11/
LOCATION:NSW
CATEGORIES:Working Bees
END:VEVENT
BEGIN:VEVENT
DTSTART;TZID=Australia/Melbourne:20250713T080000
DTEND;TZID=Australia/Melbourne:20250713T100000
DTSTAMP:20260422T125638
CREATED:20241002T042356Z
LAST-MODIFIED:20241002T042356Z
UID:10004610-1752393600-1752400800@www.coffsharbourlandcare.org.au
SUMMARY:Woopi Headland Landcare
DESCRIPTION:Working bees on the 2nd Sunday of the month 8:00 am to 10:00 am. Contact site coordinator for meet location.
URL:https://www.coffsharbourlandcare.org.au/event/woopi-headland-landcare/2025-07-13/
LOCATION:NSW
END:VEVENT
BEGIN:VEVENT
DTSTART;TZID=Australia/Melbourne:20250714T090000
DTEND;TZID=Australia/Melbourne:20250714T110000
DTSTAMP:20260422T125638
CREATED:20250216T234406Z
LAST-MODIFIED:20250216T234544Z
UID:10004971-1752483600-1752490800@www.coffsharbourlandcare.org.au
SUMMARY:Macauleys Headland Landcare
DESCRIPTION:Second Monday of the month 9 – 11am meet at Ocean Parade north car park. Restoring the vegetation on this site in the Regional Park.
URL:https://www.coffsharbourlandcare.org.au/event/macauleys-headland-landcare-2-2-2/2025-07-14/
LOCATION:Macauleys Headland\, Park Beach Parking North\, Ocean Parade\, Coffs Harbour\, NSW\, 2450\, Australia
CATEGORIES:Working Bees
END:VEVENT
BEGIN:VEVENT
DTSTART;TZID=Australia/Melbourne:20250715T073000
DTEND;TZID=Australia/Melbourne:20250715T100000
DTSTAMP:20260422T125638
CREATED:20250224T004350Z
LAST-MODIFIED:20250224T004350Z
UID:10005352-1752564600-1752573600@www.coffsharbourlandcare.org.au
SUMMARY:Red Rock Landcare
DESCRIPTION:Tuesdays from 7.30am. Also work at other times by arrangement contact site coordinator. \nContact: Coordinator Rose Treilibs on rtreilibs@gmail.com or phone 0418112390
URL:https://www.coffsharbourlandcare.org.au/event/red-rock-landcare-2-2/2025-07-15/
LOCATION:Lynch Cottage\, Red Rock\, Park St\, Red Rock\, New South Wales\, 2456\, Australia
CATEGORIES:Working Bees
ORGANIZER;CN="Rose & Vern Treilibs":MAILTO:rtreilibs@gmail.com
END:VEVENT
BEGIN:VEVENT
DTSTART;TZID=Australia/Melbourne:20250715T083000
DTEND;TZID=Australia/Melbourne:20250715T120000
DTSTAMP:20260422T125638
CREATED:20250224T002118Z
LAST-MODIFIED:20250224T002517Z
UID:10005170-1752568200-1752580800@www.coffsharbourlandcare.org.au
SUMMARY:Friends of Coffs Creek
DESCRIPTION:Contact Site Coordinator for meeting place and time.
URL:https://www.coffsharbourlandcare.org.au/event/friends-of-coffs-creek-4-4/2025-07-15/
LOCATION:NSW
CATEGORIES:Working Bees
END:VEVENT
BEGIN:VEVENT
DTSTART;TZID=Australia/Melbourne:20250717T083000
DTEND;TZID=Australia/Melbourne:20250717T120000
DTSTAMP:20260422T125638
CREATED:20250224T002118Z
LAST-MODIFIED:20250224T002517Z
UID:10005214-1752741000-1752753600@www.coffsharbourlandcare.org.au
SUMMARY:Friends of Coffs Creek
DESCRIPTION:Contact Site Coordinator for meeting place and time.
URL:https://www.coffsharbourlandcare.org.au/event/friends-of-coffs-creek-4-4/2025-07-17/
LOCATION:NSW
CATEGORIES:Working Bees
END:VEVENT
BEGIN:VEVENT
DTSTART;TZID=Australia/Melbourne:20250717T090000
DTEND;TZID=Australia/Melbourne:20250717T120000
DTSTAMP:20260422T125638
CREATED:20250212T022301Z
LAST-MODIFIED:20250212T022437Z
UID:10004906-1752742800-1752753600@www.coffsharbourlandcare.org.au
SUMMARY:Darkum Beach Landcare
DESCRIPTION:Darkum Beach Landcare Site meets every 3rd Thursday of the month\, usually at 9-12 pm. Contact Paul on 0414 942 298 for updates on meeting times\, as they may vary each month.
URL:https://www.coffsharbourlandcare.org.au/event/darkum-beach-landcare-2/2025-07-17/
LOCATION:Darkum Beach LC\, Darkum Rd\, Mullaway\, NSW\, 2456\, Australia
CATEGORIES:Working Bees
ORGANIZER;CN="Paul & Chris Hatton":MAILTO:chrl@coffslandcare.org.au
GEO:-30.0811446;153.1982899
X-APPLE-STRUCTURED-LOCATION;VALUE=URI;X-ADDRESS=Darkum Beach LC Darkum Rd Mullaway NSW 2456 Australia;X-APPLE-RADIUS=500;X-TITLE=Darkum Rd:geo:153.1982899,-30.0811446
END:VEVENT
BEGIN:VEVENT
DTSTART;TZID=Australia/Melbourne:20250718T080000
DTEND;TZID=Australia/Melbourne:20250718T120000
DTSTAMP:20260422T125638
CREATED:20250212T015532Z
LAST-MODIFIED:20250212T020246Z
UID:10004847-1752825600-1752840000@www.coffsharbourlandcare.org.au
SUMMARY:Woolgoolga Main Beach Dunecare
DESCRIPTION:Working Bees\, every Friday\, 8:00 – 12noon. Contact site coordinator for location.
URL:https://www.coffsharbourlandcare.org.au/event/woolgoolga-main-beach-dunecare-4-2/2025-07-18/
LOCATION:NSW
CATEGORIES:Working Bees
END:VEVENT
BEGIN:VEVENT
DTSTART;TZID=Australia/Melbourne:20250719T080000
DTEND;TZID=Australia/Melbourne:20250719T100000
DTSTAMP:20260422T125638
CREATED:20250212T010005Z
LAST-MODIFIED:20250212T010005Z
UID:10004693-1752912000-1752919200@www.coffsharbourlandcare.org.au
SUMMARY:Woolgoolga Creek Landcare Day 2
DESCRIPTION:Working Bees every first and third Saturday of the month\, contact site coordinator for time and meet location.  \n8.00-10.00 AM (spring\, summer and autum) and 8.30 AM -10.30 AM (winter June-August)
URL:https://www.coffsharbourlandcare.org.au/event/woolgoolga-creek-landcare-day-2/2025-07-19/
LOCATION:NSW
CATEGORIES:Working Bees
ORGANIZER;CN="Matt Dillon":MAILTO:chrl@coffslandcare.org.au
END:VEVENT
BEGIN:VEVENT
DTSTART;TZID=Australia/Melbourne:20250719T083000
DTEND;TZID=Australia/Melbourne:20250719T120000
DTSTAMP:20260422T125638
CREATED:20250224T001725Z
LAST-MODIFIED:20250224T001803Z
UID:10005145-1752913800-1752926400@www.coffsharbourlandcare.org.au
SUMMARY:Friends of Coffs Creek
DESCRIPTION:Contact Site Coordinator for meeting place and time.
URL:https://www.coffsharbourlandcare.org.au/event/friends-of-coffs-creek-4-3/2025-07-19/
LOCATION:NSW
CATEGORIES:Working Bees
END:VEVENT
BEGIN:VEVENT
DTSTART;TZID=Australia/Melbourne:20250720T080000
DTEND;TZID=Australia/Melbourne:20250720T100000
DTSTAMP:20260422T125638
CREATED:20250205T001917Z
LAST-MODIFIED:20250212T011125Z
UID:10004630-1752998400-1753005600@www.coffsharbourlandcare.org.au
SUMMARY:Emerald Beach Dunecare
DESCRIPTION:Volunteers will meet on the 3rd Sunday of the month\, 8-10am from June
URL:https://www.coffsharbourlandcare.org.au/event/emerald-beach-dunecare-2-2/2025-07-20/
LOCATION:Emerald Beach\, Emerald Beach Reserve\, Fiddaman Rd\, Emerald Beach\, New South Wales\, 2456\, Australia
CATEGORIES:Working Bees
ORGANIZER;CN="Graham Tupper":MAILTO:chrl@coffslandcare.org.au
END:VEVENT
BEGIN:VEVENT
DTSTART;TZID=Australia/Melbourne:20250722T073000
DTEND;TZID=Australia/Melbourne:20250722T100000
DTSTAMP:20260422T125638
CREATED:20250224T004350Z
LAST-MODIFIED:20250224T004350Z
UID:10005353-1753169400-1753178400@www.coffsharbourlandcare.org.au
SUMMARY:Red Rock Landcare
DESCRIPTION:Tuesdays from 7.30am. Also work at other times by arrangement contact site coordinator. \nContact: Coordinator Rose Treilibs on rtreilibs@gmail.com or phone 0418112390
URL:https://www.coffsharbourlandcare.org.au/event/red-rock-landcare-2-2/2025-07-22/
LOCATION:Lynch Cottage\, Red Rock\, Park St\, Red Rock\, New South Wales\, 2456\, Australia
CATEGORIES:Working Bees
ORGANIZER;CN="Rose & Vern Treilibs":MAILTO:rtreilibs@gmail.com
END:VEVENT
BEGIN:VEVENT
DTSTART;TZID=Australia/Melbourne:20250722T083000
DTEND;TZID=Australia/Melbourne:20250722T120000
DTSTAMP:20260422T125638
CREATED:20250224T002118Z
LAST-MODIFIED:20250224T002517Z
UID:10005171-1753173000-1753185600@www.coffsharbourlandcare.org.au
SUMMARY:Friends of Coffs Creek
DESCRIPTION:Contact Site Coordinator for meeting place and time.
URL:https://www.coffsharbourlandcare.org.au/event/friends-of-coffs-creek-4-4/2025-07-22/
LOCATION:NSW
CATEGORIES:Working Bees
END:VEVENT
BEGIN:VEVENT
DTSTART;TZID=Australia/Melbourne:20250724T083000
DTEND;TZID=Australia/Melbourne:20250724T120000
DTSTAMP:20260422T125638
CREATED:20250224T002118Z
LAST-MODIFIED:20250224T002517Z
UID:10005215-1753345800-1753358400@www.coffsharbourlandcare.org.au
SUMMARY:Friends of Coffs Creek
DESCRIPTION:Contact Site Coordinator for meeting place and time.
URL:https://www.coffsharbourlandcare.org.au/event/friends-of-coffs-creek-4-4/2025-07-24/
LOCATION:NSW
CATEGORIES:Working Bees
END:VEVENT
BEGIN:VEVENT
DTSTART;TZID=Australia/Melbourne:20250725T080000
DTEND;TZID=Australia/Melbourne:20250725T120000
DTSTAMP:20260422T125638
CREATED:20250212T015532Z
LAST-MODIFIED:20250212T020246Z
UID:10004848-1753430400-1753444800@www.coffsharbourlandcare.org.au
SUMMARY:Woolgoolga Main Beach Dunecare
DESCRIPTION:Working Bees\, every Friday\, 8:00 – 12noon. Contact site coordinator for location.
URL:https://www.coffsharbourlandcare.org.au/event/woolgoolga-main-beach-dunecare-4-2/2025-07-25/
LOCATION:NSW
CATEGORIES:Working Bees
END:VEVENT
BEGIN:VEVENT
DTSTART;TZID=Australia/Melbourne:20250729T073000
DTEND;TZID=Australia/Melbourne:20250729T100000
DTSTAMP:20260422T125638
CREATED:20250224T004350Z
LAST-MODIFIED:20250224T004350Z
UID:10005354-1753774200-1753783200@www.coffsharbourlandcare.org.au
SUMMARY:Red Rock Landcare
DESCRIPTION:Tuesdays from 7.30am. Also work at other times by arrangement contact site coordinator. \nContact: Coordinator Rose Treilibs on rtreilibs@gmail.com or phone 0418112390
URL:https://www.coffsharbourlandcare.org.au/event/red-rock-landcare-2-2/2025-07-29/
LOCATION:Lynch Cottage\, Red Rock\, Park St\, Red Rock\, New South Wales\, 2456\, Australia
CATEGORIES:Working Bees
ORGANIZER;CN="Rose & Vern Treilibs":MAILTO:rtreilibs@gmail.com
END:VEVENT
BEGIN:VEVENT
DTSTART;TZID=Australia/Melbourne:20250729T083000
DTEND;TZID=Australia/Melbourne:20250729T120000
DTSTAMP:20260422T125638
CREATED:20250224T002118Z
LAST-MODIFIED:20250224T002517Z
UID:10005172-1753777800-1753790400@www.coffsharbourlandcare.org.au
SUMMARY:Friends of Coffs Creek
DESCRIPTION:Contact Site Coordinator for meeting place and time.
URL:https://www.coffsharbourlandcare.org.au/event/friends-of-coffs-creek-4-4/2025-07-29/
LOCATION:NSW
CATEGORIES:Working Bees
END:VEVENT
BEGIN:VEVENT
DTSTART;TZID=Australia/Melbourne:20250731T083000
DTEND;TZID=Australia/Melbourne:20250731T120000
DTSTAMP:20260422T125638
CREATED:20250224T002118Z
LAST-MODIFIED:20250224T002517Z
UID:10005216-1753950600-1753963200@www.coffsharbourlandcare.org.au
SUMMARY:Friends of Coffs Creek
DESCRIPTION:Contact Site Coordinator for meeting place and time.
URL:https://www.coffsharbourlandcare.org.au/event/friends-of-coffs-creek-4-4/2025-07-31/
LOCATION:NSW
CATEGORIES:Working Bees
END:VEVENT
END:VCALENDAR