BEGIN:VCALENDAR
VERSION:2.0
PRODID:-//Coffs Harbour Regional Landcare - ECPv6.15.20//NONSGML v1.0//EN
CALSCALE:GREGORIAN
METHOD:PUBLISH
X-ORIGINAL-URL:https://www.coffsharbourlandcare.org.au
X-WR-CALDESC:Events for Coffs Harbour Regional Landcare
REFRESH-INTERVAL;VALUE=DURATION:PT1H
X-Robots-Tag:noindex
X-PUBLISHED-TTL:PT1H
BEGIN:VTIMEZONE
TZID:Australia/Melbourne
BEGIN:STANDARD
TZOFFSETFROM:+1100
TZOFFSETTO:+1000
TZNAME:AEST
DTSTART:20240406T160000
END:STANDARD
BEGIN:DAYLIGHT
TZOFFSETFROM:+1000
TZOFFSETTO:+1100
TZNAME:AEDT
DTSTART:20241005T160000
END:DAYLIGHT
BEGIN:STANDARD
TZOFFSETFROM:+1100
TZOFFSETTO:+1000
TZNAME:AEST
DTSTART:20250405T160000
END:STANDARD
BEGIN:DAYLIGHT
TZOFFSETFROM:+1000
TZOFFSETTO:+1100
TZNAME:AEDT
DTSTART:20251004T160000
END:DAYLIGHT
BEGIN:STANDARD
TZOFFSETFROM:+1100
TZOFFSETTO:+1000
TZNAME:AEST
DTSTART:20260404T160000
END:STANDARD
BEGIN:DAYLIGHT
TZOFFSETFROM:+1000
TZOFFSETTO:+1100
TZNAME:AEDT
DTSTART:20261003T160000
END:DAYLIGHT
END:VTIMEZONE
BEGIN:VEVENT
DTSTART;TZID=Australia/Melbourne:20250801T080000
DTEND;TZID=Australia/Melbourne:20250801T120000
DTSTAMP:20260422T112105
CREATED:20250212T015532Z
LAST-MODIFIED:20250212T020246Z
UID:10004849-1754035200-1754049600@www.coffsharbourlandcare.org.au
SUMMARY:Woolgoolga Main Beach Dunecare
DESCRIPTION:Working Bees\, every Friday\, 8:00 – 12noon. Contact site coordinator for location.
URL:https://www.coffsharbourlandcare.org.au/event/woolgoolga-main-beach-dunecare-4-2/2025-08-01/
LOCATION:NSW
CATEGORIES:Working Bees
END:VEVENT
BEGIN:VEVENT
DTSTART;TZID=Australia/Melbourne:20250802T080000
DTEND;TZID=Australia/Melbourne:20250802T100000
DTSTAMP:20260422T112105
CREATED:20250212T005526Z
LAST-MODIFIED:20250212T005727Z
UID:10004683-1754121600-1754128800@www.coffsharbourlandcare.org.au
SUMMARY:Woolgoolga Creek Landcare
DESCRIPTION:Working Bees every first and third Saturday of the month\, contact site coordinator for time and meet location.  \n8.00-10.00 AM (spring\, summer and autum) and 8.30 AM -10.30 AM (winter June-August)
URL:https://www.coffsharbourlandcare.org.au/event/woolgoolga-creek-landcare-2-2-2/2025-08-02/
LOCATION:NSW
CATEGORIES:Working Bees
END:VEVENT
BEGIN:VEVENT
DTSTART;TZID=Australia/Melbourne:20250802T083000
DTEND;TZID=Australia/Melbourne:20250802T103000
DTSTAMP:20260422T112105
CREATED:20250212T023755Z
LAST-MODIFIED:20250212T023836Z
UID:10004963-1754123400-1754130600@www.coffsharbourlandcare.org.au
SUMMARY:Fuller Street Dunecare\, Arrawarra Headland
DESCRIPTION:Working bees scheduled for the first Saturday of each month\, except Jan\, Feb\, starting at 8:30am\, generally 2 hours. \nContact Site Coordinator Greg Yeates on 0432 507 193 or 2dagyeates@gmail.com
URL:https://www.coffsharbourlandcare.org.au/event/fuller-street-dunecare-arrawarra-headland-2/2025-08-02/
LOCATION:NSW
CATEGORIES:Working Bees
ORGANIZER;CN="Greg Yeates":MAILTO:2dagyeates@gmail.com
END:VEVENT
BEGIN:VEVENT
DTSTART;TZID=Australia/Melbourne:20250802T083000
DTEND;TZID=Australia/Melbourne:20250802T120000
DTSTAMP:20260422T112105
CREATED:20250224T001556Z
LAST-MODIFIED:20250224T001556Z
UID:10005136-1754123400-1754136000@www.coffsharbourlandcare.org.au
SUMMARY:Friends of Coffs Creek
DESCRIPTION:Contact Site Coordinator for meeting place and time.
URL:https://www.coffsharbourlandcare.org.au/event/friends-of-coffs-creek-4-2/2025-08-02/
LOCATION:NSW
CATEGORIES:Working Bees
END:VEVENT
BEGIN:VEVENT
DTSTART;TZID=Australia/Melbourne:20250803T080000
DTEND;TZID=Australia/Melbourne:20250803T100000
DTSTAMP:20260422T112105
CREATED:20240229T040415Z
LAST-MODIFIED:20250224T224534Z
UID:10005413-1754208000-1754215200@www.coffsharbourlandcare.org.au
SUMMARY:Corindi Beach Dunecare
DESCRIPTION:Please contact coordinator to confirm meet place.
URL:https://www.coffsharbourlandcare.org.au/event/corindi-beach-dunecare/2025-08-03/
LOCATION:Corindi Beach
CATEGORIES:Working Bees
END:VEVENT
BEGIN:VEVENT
DTSTART;TZID=Australia/Melbourne:20250805T073000
DTEND;TZID=Australia/Melbourne:20250805T100000
DTSTAMP:20260422T112105
CREATED:20250224T004350Z
LAST-MODIFIED:20250224T004350Z
UID:10005355-1754379000-1754388000@www.coffsharbourlandcare.org.au
SUMMARY:Red Rock Landcare
DESCRIPTION:Tuesdays from 7.30am. Also work at other times by arrangement contact site coordinator. \nContact: Coordinator Rose Treilibs on rtreilibs@gmail.com or phone 0418112390
URL:https://www.coffsharbourlandcare.org.au/event/red-rock-landcare-2-2/2025-08-05/
LOCATION:Lynch Cottage\, Red Rock\, Park St\, Red Rock\, New South Wales\, 2456\, Australia
CATEGORIES:Working Bees
ORGANIZER;CN="Rose & Vern Treilibs":MAILTO:rtreilibs@gmail.com
END:VEVENT
BEGIN:VEVENT
DTSTART;TZID=Australia/Melbourne:20250805T083000
DTEND;TZID=Australia/Melbourne:20250805T120000
DTSTAMP:20260422T112105
CREATED:20250224T002118Z
LAST-MODIFIED:20250224T002517Z
UID:10005173-1754382600-1754395200@www.coffsharbourlandcare.org.au
SUMMARY:Friends of Coffs Creek
DESCRIPTION:Contact Site Coordinator for meeting place and time.
URL:https://www.coffsharbourlandcare.org.au/event/friends-of-coffs-creek-4-4/2025-08-05/
LOCATION:NSW
CATEGORIES:Working Bees
END:VEVENT
BEGIN:VEVENT
DTSTART;TZID=Australia/Melbourne:20250807T083000
DTEND;TZID=Australia/Melbourne:20250807T120000
DTSTAMP:20260422T112105
CREATED:20250224T002118Z
LAST-MODIFIED:20250224T002517Z
UID:10005217-1754555400-1754568000@www.coffsharbourlandcare.org.au
SUMMARY:Friends of Coffs Creek
DESCRIPTION:Contact Site Coordinator for meeting place and time.
URL:https://www.coffsharbourlandcare.org.au/event/friends-of-coffs-creek-4-4/2025-08-07/
LOCATION:NSW
CATEGORIES:Working Bees
END:VEVENT
BEGIN:VEVENT
DTSTART;TZID=Australia/Melbourne:20250808T080000
DTEND;TZID=Australia/Melbourne:20250808T120000
DTSTAMP:20260422T112105
CREATED:20250212T015532Z
LAST-MODIFIED:20250212T020246Z
UID:10004850-1754640000-1754654400@www.coffsharbourlandcare.org.au
SUMMARY:Woolgoolga Main Beach Dunecare
DESCRIPTION:Working Bees\, every Friday\, 8:00 – 12noon. Contact site coordinator for location.
URL:https://www.coffsharbourlandcare.org.au/event/woolgoolga-main-beach-dunecare-4-2/2025-08-08/
LOCATION:NSW
CATEGORIES:Working Bees
END:VEVENT
BEGIN:VEVENT
DTSTART;TZID=Australia/Melbourne:20250810T080000
DTEND;TZID=Australia/Melbourne:20250810T100000
DTSTAMP:20260422T112105
CREATED:20241002T042356Z
LAST-MODIFIED:20241002T042356Z
UID:10004611-1754812800-1754820000@www.coffsharbourlandcare.org.au
SUMMARY:Woopi Headland Landcare
DESCRIPTION:Working bees on the 2nd Sunday of the month 8:00 am to 10:00 am. Contact site coordinator for meet location.
URL:https://www.coffsharbourlandcare.org.au/event/woopi-headland-landcare/2025-08-10/
LOCATION:NSW
END:VEVENT
BEGIN:VEVENT
DTSTART;TZID=Australia/Melbourne:20250811T090000
DTEND;TZID=Australia/Melbourne:20250811T110000
DTSTAMP:20260422T112105
CREATED:20250216T234406Z
LAST-MODIFIED:20250216T234544Z
UID:10004972-1754902800-1754910000@www.coffsharbourlandcare.org.au
SUMMARY:Macauleys Headland Landcare
DESCRIPTION:Second Monday of the month 9 – 11am meet at Ocean Parade north car park. Restoring the vegetation on this site in the Regional Park.
URL:https://www.coffsharbourlandcare.org.au/event/macauleys-headland-landcare-2-2-2/2025-08-11/
LOCATION:Macauleys Headland\, Park Beach Parking North\, Ocean Parade\, Coffs Harbour\, NSW\, 2450\, Australia
CATEGORIES:Working Bees
END:VEVENT
BEGIN:VEVENT
DTSTART;TZID=Australia/Melbourne:20250812T073000
DTEND;TZID=Australia/Melbourne:20250812T100000
DTSTAMP:20260422T112105
CREATED:20250224T004350Z
LAST-MODIFIED:20250224T004350Z
UID:10005356-1754983800-1754992800@www.coffsharbourlandcare.org.au
SUMMARY:Red Rock Landcare
DESCRIPTION:Tuesdays from 7.30am. Also work at other times by arrangement contact site coordinator. \nContact: Coordinator Rose Treilibs on rtreilibs@gmail.com or phone 0418112390
URL:https://www.coffsharbourlandcare.org.au/event/red-rock-landcare-2-2/2025-08-12/
LOCATION:Lynch Cottage\, Red Rock\, Park St\, Red Rock\, New South Wales\, 2456\, Australia
CATEGORIES:Working Bees
ORGANIZER;CN="Rose & Vern Treilibs":MAILTO:rtreilibs@gmail.com
END:VEVENT
BEGIN:VEVENT
DTSTART;TZID=Australia/Melbourne:20250812T083000
DTEND;TZID=Australia/Melbourne:20250812T120000
DTSTAMP:20260422T112105
CREATED:20250224T002118Z
LAST-MODIFIED:20250224T002517Z
UID:10005174-1754987400-1755000000@www.coffsharbourlandcare.org.au
SUMMARY:Friends of Coffs Creek
DESCRIPTION:Contact Site Coordinator for meeting place and time.
URL:https://www.coffsharbourlandcare.org.au/event/friends-of-coffs-creek-4-4/2025-08-12/
LOCATION:NSW
CATEGORIES:Working Bees
END:VEVENT
BEGIN:VEVENT
DTSTART;TZID=Australia/Melbourne:20250813T080000
DTEND;TZID=Australia/Melbourne:20250813T170000
DTSTAMP:20260422T112105
CREATED:20250224T010328Z
LAST-MODIFIED:20250224T010328Z
UID:10005401-1755072000-1755104400@www.coffsharbourlandcare.org.au
SUMMARY:Woolgoolga Back Beach Dunecare
DESCRIPTION:Working bees on the 2nd Wednesdays of each month\, 8:00-11:00am\, meet at Market Street or the back beach picnic area at the end of High St. Contact organiser to confirm meet location.
URL:https://www.coffsharbourlandcare.org.au/event/woolgoolga-back-beach-dunecare-3-2/2025-08-13/
LOCATION:NSW
CATEGORIES:Working Bees
END:VEVENT
BEGIN:VEVENT
DTSTART;TZID=Australia/Melbourne:20250814T083000
DTEND;TZID=Australia/Melbourne:20250814T120000
DTSTAMP:20260422T112105
CREATED:20250224T002118Z
LAST-MODIFIED:20250224T002517Z
UID:10005218-1755160200-1755172800@www.coffsharbourlandcare.org.au
SUMMARY:Friends of Coffs Creek
DESCRIPTION:Contact Site Coordinator for meeting place and time.
URL:https://www.coffsharbourlandcare.org.au/event/friends-of-coffs-creek-4-4/2025-08-14/
LOCATION:NSW
CATEGORIES:Working Bees
END:VEVENT
BEGIN:VEVENT
DTSTART;TZID=Australia/Melbourne:20250815T080000
DTEND;TZID=Australia/Melbourne:20250815T120000
DTSTAMP:20260422T112105
CREATED:20250212T015532Z
LAST-MODIFIED:20250212T020246Z
UID:10004851-1755244800-1755259200@www.coffsharbourlandcare.org.au
SUMMARY:Woolgoolga Main Beach Dunecare
DESCRIPTION:Working Bees\, every Friday\, 8:00 – 12noon. Contact site coordinator for location.
URL:https://www.coffsharbourlandcare.org.au/event/woolgoolga-main-beach-dunecare-4-2/2025-08-15/
LOCATION:NSW
CATEGORIES:Working Bees
END:VEVENT
BEGIN:VEVENT
DTSTART;TZID=Australia/Melbourne:20250816T080000
DTEND;TZID=Australia/Melbourne:20250816T100000
DTSTAMP:20260422T112105
CREATED:20250212T010005Z
LAST-MODIFIED:20250212T010005Z
UID:10004694-1755331200-1755338400@www.coffsharbourlandcare.org.au
SUMMARY:Woolgoolga Creek Landcare Day 2
DESCRIPTION:Working Bees every first and third Saturday of the month\, contact site coordinator for time and meet location.  \n8.00-10.00 AM (spring\, summer and autum) and 8.30 AM -10.30 AM (winter June-August)
URL:https://www.coffsharbourlandcare.org.au/event/woolgoolga-creek-landcare-day-2/2025-08-16/
LOCATION:NSW
CATEGORIES:Working Bees
ORGANIZER;CN="Matt Dillon":MAILTO:chrl@coffslandcare.org.au
END:VEVENT
BEGIN:VEVENT
DTSTART;TZID=Australia/Melbourne:20250816T083000
DTEND;TZID=Australia/Melbourne:20250816T120000
DTSTAMP:20260422T112105
CREATED:20250224T001725Z
LAST-MODIFIED:20250224T001803Z
UID:10005146-1755333000-1755345600@www.coffsharbourlandcare.org.au
SUMMARY:Friends of Coffs Creek
DESCRIPTION:Contact Site Coordinator for meeting place and time.
URL:https://www.coffsharbourlandcare.org.au/event/friends-of-coffs-creek-4-3/2025-08-16/
LOCATION:NSW
CATEGORIES:Working Bees
END:VEVENT
BEGIN:VEVENT
DTSTART;TZID=Australia/Melbourne:20250817T080000
DTEND;TZID=Australia/Melbourne:20250817T100000
DTSTAMP:20260422T112105
CREATED:20250205T001917Z
LAST-MODIFIED:20250212T011125Z
UID:10004631-1755417600-1755424800@www.coffsharbourlandcare.org.au
SUMMARY:Emerald Beach Dunecare
DESCRIPTION:Volunteers will meet on the 3rd Sunday of the month\, 8-10am from June
URL:https://www.coffsharbourlandcare.org.au/event/emerald-beach-dunecare-2-2/2025-08-17/
LOCATION:Emerald Beach\, Emerald Beach Reserve\, Fiddaman Rd\, Emerald Beach\, New South Wales\, 2456\, Australia
CATEGORIES:Working Bees
ORGANIZER;CN="Graham Tupper":MAILTO:chrl@coffslandcare.org.au
END:VEVENT
BEGIN:VEVENT
DTSTART;TZID=Australia/Melbourne:20250819T073000
DTEND;TZID=Australia/Melbourne:20250819T100000
DTSTAMP:20260422T112105
CREATED:20250224T004350Z
LAST-MODIFIED:20250224T004350Z
UID:10005357-1755588600-1755597600@www.coffsharbourlandcare.org.au
SUMMARY:Red Rock Landcare
DESCRIPTION:Tuesdays from 7.30am. Also work at other times by arrangement contact site coordinator. \nContact: Coordinator Rose Treilibs on rtreilibs@gmail.com or phone 0418112390
URL:https://www.coffsharbourlandcare.org.au/event/red-rock-landcare-2-2/2025-08-19/
LOCATION:Lynch Cottage\, Red Rock\, Park St\, Red Rock\, New South Wales\, 2456\, Australia
CATEGORIES:Working Bees
ORGANIZER;CN="Rose & Vern Treilibs":MAILTO:rtreilibs@gmail.com
END:VEVENT
BEGIN:VEVENT
DTSTART;TZID=Australia/Melbourne:20250819T083000
DTEND;TZID=Australia/Melbourne:20250819T120000
DTSTAMP:20260422T112105
CREATED:20250224T002118Z
LAST-MODIFIED:20250224T002517Z
UID:10005175-1755592200-1755604800@www.coffsharbourlandcare.org.au
SUMMARY:Friends of Coffs Creek
DESCRIPTION:Contact Site Coordinator for meeting place and time.
URL:https://www.coffsharbourlandcare.org.au/event/friends-of-coffs-creek-4-4/2025-08-19/
LOCATION:NSW
CATEGORIES:Working Bees
END:VEVENT
BEGIN:VEVENT
DTSTART;TZID=Australia/Melbourne:20250821T083000
DTEND;TZID=Australia/Melbourne:20250821T120000
DTSTAMP:20260422T112105
CREATED:20250224T002118Z
LAST-MODIFIED:20250224T002517Z
UID:10005219-1755765000-1755777600@www.coffsharbourlandcare.org.au
SUMMARY:Friends of Coffs Creek
DESCRIPTION:Contact Site Coordinator for meeting place and time.
URL:https://www.coffsharbourlandcare.org.au/event/friends-of-coffs-creek-4-4/2025-08-21/
LOCATION:NSW
CATEGORIES:Working Bees
END:VEVENT
BEGIN:VEVENT
DTSTART;TZID=Australia/Melbourne:20250821T090000
DTEND;TZID=Australia/Melbourne:20250821T120000
DTSTAMP:20260422T112105
CREATED:20250212T022301Z
LAST-MODIFIED:20250212T022437Z
UID:10004907-1755766800-1755777600@www.coffsharbourlandcare.org.au
SUMMARY:Darkum Beach Landcare
DESCRIPTION:Darkum Beach Landcare Site meets every 3rd Thursday of the month\, usually at 9-12 pm. Contact Paul on 0414 942 298 for updates on meeting times\, as they may vary each month.
URL:https://www.coffsharbourlandcare.org.au/event/darkum-beach-landcare-2/2025-08-21/
LOCATION:Darkum Beach LC\, Darkum Rd\, Mullaway\, NSW\, 2456\, Australia
CATEGORIES:Working Bees
ORGANIZER;CN="Paul & Chris Hatton":MAILTO:chrl@coffslandcare.org.au
GEO:-30.0811446;153.1982899
X-APPLE-STRUCTURED-LOCATION;VALUE=URI;X-ADDRESS=Darkum Beach LC Darkum Rd Mullaway NSW 2456 Australia;X-APPLE-RADIUS=500;X-TITLE=Darkum Rd:geo:153.1982899,-30.0811446
END:VEVENT
BEGIN:VEVENT
DTSTART;TZID=Australia/Melbourne:20250822T080000
DTEND;TZID=Australia/Melbourne:20250822T120000
DTSTAMP:20260422T112105
CREATED:20250212T015532Z
LAST-MODIFIED:20250212T020246Z
UID:10004852-1755849600-1755864000@www.coffsharbourlandcare.org.au
SUMMARY:Woolgoolga Main Beach Dunecare
DESCRIPTION:Working Bees\, every Friday\, 8:00 – 12noon. Contact site coordinator for location.
URL:https://www.coffsharbourlandcare.org.au/event/woolgoolga-main-beach-dunecare-4-2/2025-08-22/
LOCATION:NSW
CATEGORIES:Working Bees
END:VEVENT
BEGIN:VEVENT
DTSTART;TZID=Australia/Melbourne:20250826T073000
DTEND;TZID=Australia/Melbourne:20250826T100000
DTSTAMP:20260422T112105
CREATED:20250224T004350Z
LAST-MODIFIED:20250224T004350Z
UID:10005358-1756193400-1756202400@www.coffsharbourlandcare.org.au
SUMMARY:Red Rock Landcare
DESCRIPTION:Tuesdays from 7.30am. Also work at other times by arrangement contact site coordinator. \nContact: Coordinator Rose Treilibs on rtreilibs@gmail.com or phone 0418112390
URL:https://www.coffsharbourlandcare.org.au/event/red-rock-landcare-2-2/2025-08-26/
LOCATION:Lynch Cottage\, Red Rock\, Park St\, Red Rock\, New South Wales\, 2456\, Australia
CATEGORIES:Working Bees
ORGANIZER;CN="Rose & Vern Treilibs":MAILTO:rtreilibs@gmail.com
END:VEVENT
BEGIN:VEVENT
DTSTART;TZID=Australia/Melbourne:20250826T083000
DTEND;TZID=Australia/Melbourne:20250826T120000
DTSTAMP:20260422T112105
CREATED:20250224T002118Z
LAST-MODIFIED:20250224T002517Z
UID:10005176-1756197000-1756209600@www.coffsharbourlandcare.org.au
SUMMARY:Friends of Coffs Creek
DESCRIPTION:Contact Site Coordinator for meeting place and time.
URL:https://www.coffsharbourlandcare.org.au/event/friends-of-coffs-creek-4-4/2025-08-26/
LOCATION:NSW
CATEGORIES:Working Bees
END:VEVENT
BEGIN:VEVENT
DTSTART;TZID=Australia/Melbourne:20250828T083000
DTEND;TZID=Australia/Melbourne:20250828T120000
DTSTAMP:20260422T112105
CREATED:20250224T002118Z
LAST-MODIFIED:20250224T002517Z
UID:10005220-1756369800-1756382400@www.coffsharbourlandcare.org.au
SUMMARY:Friends of Coffs Creek
DESCRIPTION:Contact Site Coordinator for meeting place and time.
URL:https://www.coffsharbourlandcare.org.au/event/friends-of-coffs-creek-4-4/2025-08-28/
LOCATION:NSW
CATEGORIES:Working Bees
END:VEVENT
BEGIN:VEVENT
DTSTART;TZID=Australia/Melbourne:20250829T080000
DTEND;TZID=Australia/Melbourne:20250829T120000
DTSTAMP:20260422T112105
CREATED:20250212T015532Z
LAST-MODIFIED:20250212T020246Z
UID:10004853-1756454400-1756468800@www.coffsharbourlandcare.org.au
SUMMARY:Woolgoolga Main Beach Dunecare
DESCRIPTION:Working Bees\, every Friday\, 8:00 – 12noon. Contact site coordinator for location.
URL:https://www.coffsharbourlandcare.org.au/event/woolgoolga-main-beach-dunecare-4-2/2025-08-29/
LOCATION:NSW
CATEGORIES:Working Bees
END:VEVENT
END:VCALENDAR