BEGIN:VCALENDAR
VERSION:2.0
PRODID:-//Coffs Harbour Regional Landcare - ECPv6.15.20//NONSGML v1.0//EN
CALSCALE:GREGORIAN
METHOD:PUBLISH
X-WR-CALNAME:Coffs Harbour Regional Landcare
X-ORIGINAL-URL:https://www.coffsharbourlandcare.org.au
X-WR-CALDESC:Events for Coffs Harbour Regional Landcare
REFRESH-INTERVAL;VALUE=DURATION:PT1H
X-Robots-Tag:noindex
X-PUBLISHED-TTL:PT1H
BEGIN:VTIMEZONE
TZID:Australia/Melbourne
BEGIN:STANDARD
TZOFFSETFROM:+1100
TZOFFSETTO:+1000
TZNAME:AEST
DTSTART:20240406T160000
END:STANDARD
BEGIN:DAYLIGHT
TZOFFSETFROM:+1000
TZOFFSETTO:+1100
TZNAME:AEDT
DTSTART:20241005T160000
END:DAYLIGHT
BEGIN:STANDARD
TZOFFSETFROM:+1100
TZOFFSETTO:+1000
TZNAME:AEST
DTSTART:20250405T160000
END:STANDARD
BEGIN:DAYLIGHT
TZOFFSETFROM:+1000
TZOFFSETTO:+1100
TZNAME:AEDT
DTSTART:20251004T160000
END:DAYLIGHT
BEGIN:STANDARD
TZOFFSETFROM:+1100
TZOFFSETTO:+1000
TZNAME:AEST
DTSTART:20260404T160000
END:STANDARD
BEGIN:DAYLIGHT
TZOFFSETFROM:+1000
TZOFFSETTO:+1100
TZNAME:AEDT
DTSTART:20261003T160000
END:DAYLIGHT
END:VTIMEZONE
BEGIN:VEVENT
DTSTART;TZID=Australia/Melbourne:20250902T073000
DTEND;TZID=Australia/Melbourne:20250902T100000
DTSTAMP:20260422T094010
CREATED:20250224T004350Z
LAST-MODIFIED:20250224T004350Z
UID:10005359-1756798200-1756807200@www.coffsharbourlandcare.org.au
SUMMARY:Red Rock Landcare
DESCRIPTION:Tuesdays from 7.30am. Also work at other times by arrangement contact site coordinator. \nContact: Coordinator Rose Treilibs on rtreilibs@gmail.com or phone 0418112390
URL:https://www.coffsharbourlandcare.org.au/event/red-rock-landcare-2-2/2025-09-02/
LOCATION:Lynch Cottage\, Red Rock\, Park St\, Red Rock\, New South Wales\, 2456\, Australia
CATEGORIES:Working Bees
ORGANIZER;CN="Rose & Vern Treilibs":MAILTO:rtreilibs@gmail.com
END:VEVENT
BEGIN:VEVENT
DTSTART;TZID=Australia/Melbourne:20250902T083000
DTEND;TZID=Australia/Melbourne:20250902T120000
DTSTAMP:20260422T094010
CREATED:20250224T002118Z
LAST-MODIFIED:20250224T002517Z
UID:10005177-1756801800-1756814400@www.coffsharbourlandcare.org.au
SUMMARY:Friends of Coffs Creek
DESCRIPTION:Contact Site Coordinator for meeting place and time.
URL:https://www.coffsharbourlandcare.org.au/event/friends-of-coffs-creek-4-4/2025-09-02/
LOCATION:NSW
CATEGORIES:Working Bees
END:VEVENT
BEGIN:VEVENT
DTSTART;TZID=Australia/Melbourne:20250904T083000
DTEND;TZID=Australia/Melbourne:20250904T120000
DTSTAMP:20260422T094010
CREATED:20250224T002118Z
LAST-MODIFIED:20250224T002517Z
UID:10005221-1756974600-1756987200@www.coffsharbourlandcare.org.au
SUMMARY:Friends of Coffs Creek
DESCRIPTION:Contact Site Coordinator for meeting place and time.
URL:https://www.coffsharbourlandcare.org.au/event/friends-of-coffs-creek-4-4/2025-09-04/
LOCATION:NSW
CATEGORIES:Working Bees
END:VEVENT
BEGIN:VEVENT
DTSTART;TZID=Australia/Melbourne:20250905T080000
DTEND;TZID=Australia/Melbourne:20250905T120000
DTSTAMP:20260422T094010
CREATED:20250212T015532Z
LAST-MODIFIED:20250212T020246Z
UID:10004854-1757059200-1757073600@www.coffsharbourlandcare.org.au
SUMMARY:Woolgoolga Main Beach Dunecare
DESCRIPTION:Working Bees\, every Friday\, 8:00 – 12noon. Contact site coordinator for location.
URL:https://www.coffsharbourlandcare.org.au/event/woolgoolga-main-beach-dunecare-4-2/2025-09-05/
LOCATION:NSW
CATEGORIES:Working Bees
END:VEVENT
BEGIN:VEVENT
DTSTART;TZID=Australia/Melbourne:20250906T080000
DTEND;TZID=Australia/Melbourne:20250906T100000
DTSTAMP:20260422T094010
CREATED:20250212T005526Z
LAST-MODIFIED:20250212T005727Z
UID:10004684-1757145600-1757152800@www.coffsharbourlandcare.org.au
SUMMARY:Woolgoolga Creek Landcare
DESCRIPTION:Working Bees every first and third Saturday of the month\, contact site coordinator for time and meet location.  \n8.00-10.00 AM (spring\, summer and autum) and 8.30 AM -10.30 AM (winter June-August)
URL:https://www.coffsharbourlandcare.org.au/event/woolgoolga-creek-landcare-2-2-2/2025-09-06/
LOCATION:NSW
CATEGORIES:Working Bees
END:VEVENT
BEGIN:VEVENT
DTSTART;TZID=Australia/Melbourne:20250906T083000
DTEND;TZID=Australia/Melbourne:20250906T103000
DTSTAMP:20260422T094010
CREATED:20250212T023755Z
LAST-MODIFIED:20250212T023836Z
UID:10004964-1757147400-1757154600@www.coffsharbourlandcare.org.au
SUMMARY:Fuller Street Dunecare\, Arrawarra Headland
DESCRIPTION:Working bees scheduled for the first Saturday of each month\, except Jan\, Feb\, starting at 8:30am\, generally 2 hours. \nContact Site Coordinator Greg Yeates on 0432 507 193 or 2dagyeates@gmail.com
URL:https://www.coffsharbourlandcare.org.au/event/fuller-street-dunecare-arrawarra-headland-2/2025-09-06/
LOCATION:NSW
CATEGORIES:Working Bees
ORGANIZER;CN="Greg Yeates":MAILTO:2dagyeates@gmail.com
END:VEVENT
BEGIN:VEVENT
DTSTART;TZID=Australia/Melbourne:20250906T083000
DTEND;TZID=Australia/Melbourne:20250906T120000
DTSTAMP:20260422T094010
CREATED:20250224T001556Z
LAST-MODIFIED:20250224T001556Z
UID:10005137-1757147400-1757160000@www.coffsharbourlandcare.org.au
SUMMARY:Friends of Coffs Creek
DESCRIPTION:Contact Site Coordinator for meeting place and time.
URL:https://www.coffsharbourlandcare.org.au/event/friends-of-coffs-creek-4-2/2025-09-06/
LOCATION:NSW
CATEGORIES:Working Bees
END:VEVENT
BEGIN:VEVENT
DTSTART;TZID=Australia/Melbourne:20250907T080000
DTEND;TZID=Australia/Melbourne:20250907T100000
DTSTAMP:20260422T094010
CREATED:20240229T040415Z
LAST-MODIFIED:20250224T224534Z
UID:10005414-1757232000-1757239200@www.coffsharbourlandcare.org.au
SUMMARY:Corindi Beach Dunecare
DESCRIPTION:Please contact coordinator to confirm meet place.
URL:https://www.coffsharbourlandcare.org.au/event/corindi-beach-dunecare/2025-09-07/
LOCATION:Corindi Beach
CATEGORIES:Working Bees
END:VEVENT
BEGIN:VEVENT
DTSTART;TZID=Australia/Melbourne:20250908T090000
DTEND;TZID=Australia/Melbourne:20250908T110000
DTSTAMP:20260422T094010
CREATED:20250216T234406Z
LAST-MODIFIED:20250216T234544Z
UID:10004973-1757322000-1757329200@www.coffsharbourlandcare.org.au
SUMMARY:Macauleys Headland Landcare
DESCRIPTION:Second Monday of the month 9 – 11am meet at Ocean Parade north car park. Restoring the vegetation on this site in the Regional Park.
URL:https://www.coffsharbourlandcare.org.au/event/macauleys-headland-landcare-2-2-2/2025-09-08/
LOCATION:Macauleys Headland\, Park Beach Parking North\, Ocean Parade\, Coffs Harbour\, NSW\, 2450\, Australia
CATEGORIES:Working Bees
END:VEVENT
BEGIN:VEVENT
DTSTART;TZID=Australia/Melbourne:20250909T073000
DTEND;TZID=Australia/Melbourne:20250909T100000
DTSTAMP:20260422T094010
CREATED:20250224T004350Z
LAST-MODIFIED:20250224T004350Z
UID:10005360-1757403000-1757412000@www.coffsharbourlandcare.org.au
SUMMARY:Red Rock Landcare
DESCRIPTION:Tuesdays from 7.30am. Also work at other times by arrangement contact site coordinator. \nContact: Coordinator Rose Treilibs on rtreilibs@gmail.com or phone 0418112390
URL:https://www.coffsharbourlandcare.org.au/event/red-rock-landcare-2-2/2025-09-09/
LOCATION:Lynch Cottage\, Red Rock\, Park St\, Red Rock\, New South Wales\, 2456\, Australia
CATEGORIES:Working Bees
ORGANIZER;CN="Rose & Vern Treilibs":MAILTO:rtreilibs@gmail.com
END:VEVENT
BEGIN:VEVENT
DTSTART;TZID=Australia/Melbourne:20250909T083000
DTEND;TZID=Australia/Melbourne:20250909T120000
DTSTAMP:20260422T094010
CREATED:20250224T002118Z
LAST-MODIFIED:20250224T002517Z
UID:10005178-1757406600-1757419200@www.coffsharbourlandcare.org.au
SUMMARY:Friends of Coffs Creek
DESCRIPTION:Contact Site Coordinator for meeting place and time.
URL:https://www.coffsharbourlandcare.org.au/event/friends-of-coffs-creek-4-4/2025-09-09/
LOCATION:NSW
CATEGORIES:Working Bees
END:VEVENT
BEGIN:VEVENT
DTSTART;TZID=Australia/Melbourne:20250910T080000
DTEND;TZID=Australia/Melbourne:20250910T170000
DTSTAMP:20260422T094010
CREATED:20250224T010328Z
LAST-MODIFIED:20250224T010328Z
UID:10005402-1757491200-1757523600@www.coffsharbourlandcare.org.au
SUMMARY:Woolgoolga Back Beach Dunecare
DESCRIPTION:Working bees on the 2nd Wednesdays of each month\, 8:00-11:00am\, meet at Market Street or the back beach picnic area at the end of High St. Contact organiser to confirm meet location.
URL:https://www.coffsharbourlandcare.org.au/event/woolgoolga-back-beach-dunecare-3-2/2025-09-10/
LOCATION:NSW
CATEGORIES:Working Bees
END:VEVENT
BEGIN:VEVENT
DTSTART;TZID=Australia/Melbourne:20250911T083000
DTEND;TZID=Australia/Melbourne:20250911T120000
DTSTAMP:20260422T094010
CREATED:20250224T002118Z
LAST-MODIFIED:20250224T002517Z
UID:10005222-1757579400-1757592000@www.coffsharbourlandcare.org.au
SUMMARY:Friends of Coffs Creek
DESCRIPTION:Contact Site Coordinator for meeting place and time.
URL:https://www.coffsharbourlandcare.org.au/event/friends-of-coffs-creek-4-4/2025-09-11/
LOCATION:NSW
CATEGORIES:Working Bees
END:VEVENT
BEGIN:VEVENT
DTSTART;TZID=Australia/Melbourne:20250912T080000
DTEND;TZID=Australia/Melbourne:20250912T120000
DTSTAMP:20260422T094010
CREATED:20250212T015532Z
LAST-MODIFIED:20250212T020246Z
UID:10004855-1757664000-1757678400@www.coffsharbourlandcare.org.au
SUMMARY:Woolgoolga Main Beach Dunecare
DESCRIPTION:Working Bees\, every Friday\, 8:00 – 12noon. Contact site coordinator for location.
URL:https://www.coffsharbourlandcare.org.au/event/woolgoolga-main-beach-dunecare-4-2/2025-09-12/
LOCATION:NSW
CATEGORIES:Working Bees
END:VEVENT
BEGIN:VEVENT
DTSTART;TZID=Australia/Melbourne:20250916T073000
DTEND;TZID=Australia/Melbourne:20250916T100000
DTSTAMP:20260422T094010
CREATED:20250224T004350Z
LAST-MODIFIED:20250224T004350Z
UID:10005361-1758007800-1758016800@www.coffsharbourlandcare.org.au
SUMMARY:Red Rock Landcare
DESCRIPTION:Tuesdays from 7.30am. Also work at other times by arrangement contact site coordinator. \nContact: Coordinator Rose Treilibs on rtreilibs@gmail.com or phone 0418112390
URL:https://www.coffsharbourlandcare.org.au/event/red-rock-landcare-2-2/2025-09-16/
LOCATION:Lynch Cottage\, Red Rock\, Park St\, Red Rock\, New South Wales\, 2456\, Australia
CATEGORIES:Working Bees
ORGANIZER;CN="Rose & Vern Treilibs":MAILTO:rtreilibs@gmail.com
END:VEVENT
BEGIN:VEVENT
DTSTART;TZID=Australia/Melbourne:20250916T083000
DTEND;TZID=Australia/Melbourne:20250916T120000
DTSTAMP:20260422T094010
CREATED:20250224T002118Z
LAST-MODIFIED:20250224T002517Z
UID:10005179-1758011400-1758024000@www.coffsharbourlandcare.org.au
SUMMARY:Friends of Coffs Creek
DESCRIPTION:Contact Site Coordinator for meeting place and time.
URL:https://www.coffsharbourlandcare.org.au/event/friends-of-coffs-creek-4-4/2025-09-16/
LOCATION:NSW
CATEGORIES:Working Bees
END:VEVENT
BEGIN:VEVENT
DTSTART;TZID=Australia/Melbourne:20250918T083000
DTEND;TZID=Australia/Melbourne:20250918T120000
DTSTAMP:20260422T094010
CREATED:20250224T002118Z
LAST-MODIFIED:20250224T002517Z
UID:10005223-1758184200-1758196800@www.coffsharbourlandcare.org.au
SUMMARY:Friends of Coffs Creek
DESCRIPTION:Contact Site Coordinator for meeting place and time.
URL:https://www.coffsharbourlandcare.org.au/event/friends-of-coffs-creek-4-4/2025-09-18/
LOCATION:NSW
CATEGORIES:Working Bees
END:VEVENT
BEGIN:VEVENT
DTSTART;TZID=Australia/Melbourne:20250918T090000
DTEND;TZID=Australia/Melbourne:20250918T120000
DTSTAMP:20260422T094010
CREATED:20250212T022301Z
LAST-MODIFIED:20250212T022437Z
UID:10004908-1758186000-1758196800@www.coffsharbourlandcare.org.au
SUMMARY:Darkum Beach Landcare
DESCRIPTION:Darkum Beach Landcare Site meets every 3rd Thursday of the month\, usually at 9-12 pm. Contact Paul on 0414 942 298 for updates on meeting times\, as they may vary each month.
URL:https://www.coffsharbourlandcare.org.au/event/darkum-beach-landcare-2/2025-09-18/
LOCATION:Darkum Beach LC\, Darkum Rd\, Mullaway\, NSW\, 2456\, Australia
CATEGORIES:Working Bees
ORGANIZER;CN="Paul & Chris Hatton":MAILTO:chrl@coffslandcare.org.au
GEO:-30.0811446;153.1982899
X-APPLE-STRUCTURED-LOCATION;VALUE=URI;X-ADDRESS=Darkum Beach LC Darkum Rd Mullaway NSW 2456 Australia;X-APPLE-RADIUS=500;X-TITLE=Darkum Rd:geo:153.1982899,-30.0811446
END:VEVENT
BEGIN:VEVENT
DTSTART;TZID=Australia/Melbourne:20250919T080000
DTEND;TZID=Australia/Melbourne:20250919T120000
DTSTAMP:20260422T094010
CREATED:20250212T015532Z
LAST-MODIFIED:20250212T020246Z
UID:10004856-1758268800-1758283200@www.coffsharbourlandcare.org.au
SUMMARY:Woolgoolga Main Beach Dunecare
DESCRIPTION:Working Bees\, every Friday\, 8:00 – 12noon. Contact site coordinator for location.
URL:https://www.coffsharbourlandcare.org.au/event/woolgoolga-main-beach-dunecare-4-2/2025-09-19/
LOCATION:NSW
CATEGORIES:Working Bees
END:VEVENT
BEGIN:VEVENT
DTSTART;TZID=Australia/Melbourne:20250920T080000
DTEND;TZID=Australia/Melbourne:20250920T100000
DTSTAMP:20260422T094010
CREATED:20250212T010005Z
LAST-MODIFIED:20250212T010005Z
UID:10004695-1758355200-1758362400@www.coffsharbourlandcare.org.au
SUMMARY:Woolgoolga Creek Landcare Day 2
DESCRIPTION:Working Bees every first and third Saturday of the month\, contact site coordinator for time and meet location.  \n8.00-10.00 AM (spring\, summer and autum) and 8.30 AM -10.30 AM (winter June-August)
URL:https://www.coffsharbourlandcare.org.au/event/woolgoolga-creek-landcare-day-2/2025-09-20/
LOCATION:NSW
CATEGORIES:Working Bees
ORGANIZER;CN="Matt Dillon":MAILTO:chrl@coffslandcare.org.au
END:VEVENT
BEGIN:VEVENT
DTSTART;TZID=Australia/Melbourne:20250920T083000
DTEND;TZID=Australia/Melbourne:20250920T120000
DTSTAMP:20260422T094010
CREATED:20250224T001725Z
LAST-MODIFIED:20250224T001803Z
UID:10005147-1758357000-1758369600@www.coffsharbourlandcare.org.au
SUMMARY:Friends of Coffs Creek
DESCRIPTION:Contact Site Coordinator for meeting place and time.
URL:https://www.coffsharbourlandcare.org.au/event/friends-of-coffs-creek-4-3/2025-09-20/
LOCATION:NSW
CATEGORIES:Working Bees
END:VEVENT
BEGIN:VEVENT
DTSTART;TZID=Australia/Melbourne:20250921T080000
DTEND;TZID=Australia/Melbourne:20250921T100000
DTSTAMP:20260422T094010
CREATED:20250205T001917Z
LAST-MODIFIED:20250212T011125Z
UID:10004632-1758441600-1758448800@www.coffsharbourlandcare.org.au
SUMMARY:Emerald Beach Dunecare
DESCRIPTION:Volunteers will meet on the 3rd Sunday of the month\, 8-10am from June
URL:https://www.coffsharbourlandcare.org.au/event/emerald-beach-dunecare-2-2/2025-09-21/
LOCATION:Emerald Beach\, Emerald Beach Reserve\, Fiddaman Rd\, Emerald Beach\, New South Wales\, 2456\, Australia
CATEGORIES:Working Bees
ORGANIZER;CN="Graham Tupper":MAILTO:chrl@coffslandcare.org.au
END:VEVENT
BEGIN:VEVENT
DTSTART;TZID=Australia/Melbourne:20250923T073000
DTEND;TZID=Australia/Melbourne:20250923T100000
DTSTAMP:20260422T094010
CREATED:20250224T004350Z
LAST-MODIFIED:20250224T004350Z
UID:10005362-1758612600-1758621600@www.coffsharbourlandcare.org.au
SUMMARY:Red Rock Landcare
DESCRIPTION:Tuesdays from 7.30am. Also work at other times by arrangement contact site coordinator. \nContact: Coordinator Rose Treilibs on rtreilibs@gmail.com or phone 0418112390
URL:https://www.coffsharbourlandcare.org.au/event/red-rock-landcare-2-2/2025-09-23/
LOCATION:Lynch Cottage\, Red Rock\, Park St\, Red Rock\, New South Wales\, 2456\, Australia
CATEGORIES:Working Bees
ORGANIZER;CN="Rose & Vern Treilibs":MAILTO:rtreilibs@gmail.com
END:VEVENT
BEGIN:VEVENT
DTSTART;TZID=Australia/Melbourne:20250923T083000
DTEND;TZID=Australia/Melbourne:20250923T120000
DTSTAMP:20260422T094010
CREATED:20250224T002118Z
LAST-MODIFIED:20250224T002517Z
UID:10005180-1758616200-1758628800@www.coffsharbourlandcare.org.au
SUMMARY:Friends of Coffs Creek
DESCRIPTION:Contact Site Coordinator for meeting place and time.
URL:https://www.coffsharbourlandcare.org.au/event/friends-of-coffs-creek-4-4/2025-09-23/
LOCATION:NSW
CATEGORIES:Working Bees
END:VEVENT
BEGIN:VEVENT
DTSTART;TZID=Australia/Melbourne:20250925T083000
DTEND;TZID=Australia/Melbourne:20250925T120000
DTSTAMP:20260422T094010
CREATED:20250224T002118Z
LAST-MODIFIED:20250224T002517Z
UID:10005224-1758789000-1758801600@www.coffsharbourlandcare.org.au
SUMMARY:Friends of Coffs Creek
DESCRIPTION:Contact Site Coordinator for meeting place and time.
URL:https://www.coffsharbourlandcare.org.au/event/friends-of-coffs-creek-4-4/2025-09-25/
LOCATION:NSW
CATEGORIES:Working Bees
END:VEVENT
BEGIN:VEVENT
DTSTART;TZID=Australia/Melbourne:20250926T080000
DTEND;TZID=Australia/Melbourne:20250926T120000
DTSTAMP:20260422T094010
CREATED:20250212T015532Z
LAST-MODIFIED:20250212T020246Z
UID:10004857-1758873600-1758888000@www.coffsharbourlandcare.org.au
SUMMARY:Woolgoolga Main Beach Dunecare
DESCRIPTION:Working Bees\, every Friday\, 8:00 – 12noon. Contact site coordinator for location.
URL:https://www.coffsharbourlandcare.org.au/event/woolgoolga-main-beach-dunecare-4-2/2025-09-26/
LOCATION:NSW
CATEGORIES:Working Bees
END:VEVENT
BEGIN:VEVENT
DTSTART;TZID=Australia/Melbourne:20250930T073000
DTEND;TZID=Australia/Melbourne:20250930T100000
DTSTAMP:20260422T094010
CREATED:20250224T004350Z
LAST-MODIFIED:20250224T004350Z
UID:10005363-1759217400-1759226400@www.coffsharbourlandcare.org.au
SUMMARY:Red Rock Landcare
DESCRIPTION:Tuesdays from 7.30am. Also work at other times by arrangement contact site coordinator. \nContact: Coordinator Rose Treilibs on rtreilibs@gmail.com or phone 0418112390
URL:https://www.coffsharbourlandcare.org.au/event/red-rock-landcare-2-2/2025-09-30/
LOCATION:Lynch Cottage\, Red Rock\, Park St\, Red Rock\, New South Wales\, 2456\, Australia
CATEGORIES:Working Bees
ORGANIZER;CN="Rose & Vern Treilibs":MAILTO:rtreilibs@gmail.com
END:VEVENT
BEGIN:VEVENT
DTSTART;TZID=Australia/Melbourne:20250930T083000
DTEND;TZID=Australia/Melbourne:20250930T120000
DTSTAMP:20260422T094010
CREATED:20250224T002118Z
LAST-MODIFIED:20250224T002517Z
UID:10005181-1759221000-1759233600@www.coffsharbourlandcare.org.au
SUMMARY:Friends of Coffs Creek
DESCRIPTION:Contact Site Coordinator for meeting place and time.
URL:https://www.coffsharbourlandcare.org.au/event/friends-of-coffs-creek-4-4/2025-09-30/
LOCATION:NSW
CATEGORIES:Working Bees
END:VEVENT
END:VCALENDAR