BEGIN:VCALENDAR
VERSION:2.0
PRODID:-//Coffs Harbour Regional Landcare - ECPv6.15.20//NONSGML v1.0//EN
CALSCALE:GREGORIAN
METHOD:PUBLISH
X-WR-CALNAME:Coffs Harbour Regional Landcare
X-ORIGINAL-URL:https://www.coffsharbourlandcare.org.au
X-WR-CALDESC:Events for Coffs Harbour Regional Landcare
REFRESH-INTERVAL;VALUE=DURATION:PT1H
X-Robots-Tag:noindex
X-PUBLISHED-TTL:PT1H
BEGIN:VTIMEZONE
TZID:Australia/Melbourne
BEGIN:STANDARD
TZOFFSETFROM:+1100
TZOFFSETTO:+1000
TZNAME:AEST
DTSTART:20240406T160000
END:STANDARD
BEGIN:DAYLIGHT
TZOFFSETFROM:+1000
TZOFFSETTO:+1100
TZNAME:AEDT
DTSTART:20241005T160000
END:DAYLIGHT
BEGIN:STANDARD
TZOFFSETFROM:+1100
TZOFFSETTO:+1000
TZNAME:AEST
DTSTART:20250405T160000
END:STANDARD
BEGIN:DAYLIGHT
TZOFFSETFROM:+1000
TZOFFSETTO:+1100
TZNAME:AEDT
DTSTART:20251004T160000
END:DAYLIGHT
BEGIN:STANDARD
TZOFFSETFROM:+1100
TZOFFSETTO:+1000
TZNAME:AEST
DTSTART:20260404T160000
END:STANDARD
BEGIN:DAYLIGHT
TZOFFSETFROM:+1000
TZOFFSETTO:+1100
TZNAME:AEDT
DTSTART:20261003T160000
END:DAYLIGHT
END:VTIMEZONE
BEGIN:VEVENT
DTSTART;TZID=Australia/Melbourne:20251002T083000
DTEND;TZID=Australia/Melbourne:20251002T120000
DTSTAMP:20260422T080513
CREATED:20250224T002118Z
LAST-MODIFIED:20250224T002517Z
UID:10005225-1759393800-1759406400@www.coffsharbourlandcare.org.au
SUMMARY:Friends of Coffs Creek
DESCRIPTION:Contact Site Coordinator for meeting place and time.
URL:https://www.coffsharbourlandcare.org.au/event/friends-of-coffs-creek-4-4/2025-10-02/
LOCATION:NSW
CATEGORIES:Working Bees
END:VEVENT
BEGIN:VEVENT
DTSTART;TZID=Australia/Melbourne:20251003T080000
DTEND;TZID=Australia/Melbourne:20251003T120000
DTSTAMP:20260422T080513
CREATED:20250212T015532Z
LAST-MODIFIED:20250212T020246Z
UID:10004858-1759478400-1759492800@www.coffsharbourlandcare.org.au
SUMMARY:Woolgoolga Main Beach Dunecare
DESCRIPTION:Working Bees\, every Friday\, 8:00 – 12noon. Contact site coordinator for location.
URL:https://www.coffsharbourlandcare.org.au/event/woolgoolga-main-beach-dunecare-4-2/2025-10-03/
LOCATION:NSW
CATEGORIES:Working Bees
END:VEVENT
BEGIN:VEVENT
DTSTART;TZID=Australia/Melbourne:20251004T080000
DTEND;TZID=Australia/Melbourne:20251004T100000
DTSTAMP:20260422T080513
CREATED:20250212T005526Z
LAST-MODIFIED:20250212T005727Z
UID:10004685-1759564800-1759572000@www.coffsharbourlandcare.org.au
SUMMARY:Woolgoolga Creek Landcare
DESCRIPTION:Working Bees every first and third Saturday of the month\, contact site coordinator for time and meet location.  \n8.00-10.00 AM (spring\, summer and autum) and 8.30 AM -10.30 AM (winter June-August)
URL:https://www.coffsharbourlandcare.org.au/event/woolgoolga-creek-landcare-2-2-2/2025-10-04/
LOCATION:NSW
CATEGORIES:Working Bees
END:VEVENT
BEGIN:VEVENT
DTSTART;TZID=Australia/Melbourne:20251004T083000
DTEND;TZID=Australia/Melbourne:20251004T103000
DTSTAMP:20260422T080513
CREATED:20250212T023755Z
LAST-MODIFIED:20250212T023836Z
UID:10004965-1759566600-1759573800@www.coffsharbourlandcare.org.au
SUMMARY:Fuller Street Dunecare\, Arrawarra Headland
DESCRIPTION:Working bees scheduled for the first Saturday of each month\, except Jan\, Feb\, starting at 8:30am\, generally 2 hours. \nContact Site Coordinator Greg Yeates on 0432 507 193 or 2dagyeates@gmail.com
URL:https://www.coffsharbourlandcare.org.au/event/fuller-street-dunecare-arrawarra-headland-2/2025-10-04/
LOCATION:NSW
CATEGORIES:Working Bees
ORGANIZER;CN="Greg Yeates":MAILTO:2dagyeates@gmail.com
END:VEVENT
BEGIN:VEVENT
DTSTART;TZID=Australia/Melbourne:20251004T083000
DTEND;TZID=Australia/Melbourne:20251004T120000
DTSTAMP:20260422T080513
CREATED:20250224T001556Z
LAST-MODIFIED:20250224T001556Z
UID:10005138-1759566600-1759579200@www.coffsharbourlandcare.org.au
SUMMARY:Friends of Coffs Creek
DESCRIPTION:Contact Site Coordinator for meeting place and time.
URL:https://www.coffsharbourlandcare.org.au/event/friends-of-coffs-creek-4-2/2025-10-04/
LOCATION:NSW
CATEGORIES:Working Bees
END:VEVENT
BEGIN:VEVENT
DTSTART;TZID=Australia/Melbourne:20251005T080000
DTEND;TZID=Australia/Melbourne:20251005T100000
DTSTAMP:20260422T080513
CREATED:20240229T040415Z
LAST-MODIFIED:20250224T224534Z
UID:10005415-1759651200-1759658400@www.coffsharbourlandcare.org.au
SUMMARY:Corindi Beach Dunecare
DESCRIPTION:Please contact coordinator to confirm meet place.
URL:https://www.coffsharbourlandcare.org.au/event/corindi-beach-dunecare/2025-10-05/
LOCATION:Corindi Beach
CATEGORIES:Working Bees
END:VEVENT
BEGIN:VEVENT
DTSTART;TZID=Australia/Melbourne:20251007T073000
DTEND;TZID=Australia/Melbourne:20251007T100000
DTSTAMP:20260422T080513
CREATED:20250224T004350Z
LAST-MODIFIED:20250224T004350Z
UID:10005364-1759822200-1759831200@www.coffsharbourlandcare.org.au
SUMMARY:Red Rock Landcare
DESCRIPTION:Tuesdays from 7.30am. Also work at other times by arrangement contact site coordinator. \nContact: Coordinator Rose Treilibs on rtreilibs@gmail.com or phone 0418112390
URL:https://www.coffsharbourlandcare.org.au/event/red-rock-landcare-2-2/2025-10-07/
LOCATION:Lynch Cottage\, Red Rock\, Park St\, Red Rock\, New South Wales\, 2456\, Australia
CATEGORIES:Working Bees
ORGANIZER;CN="Rose & Vern Treilibs":MAILTO:rtreilibs@gmail.com
END:VEVENT
BEGIN:VEVENT
DTSTART;TZID=Australia/Melbourne:20251007T083000
DTEND;TZID=Australia/Melbourne:20251007T120000
DTSTAMP:20260422T080513
CREATED:20250224T002118Z
LAST-MODIFIED:20250224T002517Z
UID:10005182-1759825800-1759838400@www.coffsharbourlandcare.org.au
SUMMARY:Friends of Coffs Creek
DESCRIPTION:Contact Site Coordinator for meeting place and time.
URL:https://www.coffsharbourlandcare.org.au/event/friends-of-coffs-creek-4-4/2025-10-07/
LOCATION:NSW
CATEGORIES:Working Bees
END:VEVENT
BEGIN:VEVENT
DTSTART;TZID=Australia/Melbourne:20251008T080000
DTEND;TZID=Australia/Melbourne:20251008T170000
DTSTAMP:20260422T080513
CREATED:20250224T010328Z
LAST-MODIFIED:20250224T010328Z
UID:10005403-1759910400-1759942800@www.coffsharbourlandcare.org.au
SUMMARY:Woolgoolga Back Beach Dunecare
DESCRIPTION:Working bees on the 2nd Wednesdays of each month\, 8:00-11:00am\, meet at Market Street or the back beach picnic area at the end of High St. Contact organiser to confirm meet location.
URL:https://www.coffsharbourlandcare.org.au/event/woolgoolga-back-beach-dunecare-3-2/2025-10-08/
LOCATION:NSW
CATEGORIES:Working Bees
END:VEVENT
BEGIN:VEVENT
DTSTART;TZID=Australia/Melbourne:20251009T083000
DTEND;TZID=Australia/Melbourne:20251009T120000
DTSTAMP:20260422T080513
CREATED:20250224T002118Z
LAST-MODIFIED:20250224T002517Z
UID:10005226-1759998600-1760011200@www.coffsharbourlandcare.org.au
SUMMARY:Friends of Coffs Creek
DESCRIPTION:Contact Site Coordinator for meeting place and time.
URL:https://www.coffsharbourlandcare.org.au/event/friends-of-coffs-creek-4-4/2025-10-09/
LOCATION:NSW
CATEGORIES:Working Bees
END:VEVENT
BEGIN:VEVENT
DTSTART;TZID=Australia/Melbourne:20251010T080000
DTEND;TZID=Australia/Melbourne:20251010T120000
DTSTAMP:20260422T080513
CREATED:20250212T015532Z
LAST-MODIFIED:20250212T020246Z
UID:10004859-1760083200-1760097600@www.coffsharbourlandcare.org.au
SUMMARY:Woolgoolga Main Beach Dunecare
DESCRIPTION:Working Bees\, every Friday\, 8:00 – 12noon. Contact site coordinator for location.
URL:https://www.coffsharbourlandcare.org.au/event/woolgoolga-main-beach-dunecare-4-2/2025-10-10/
LOCATION:NSW
CATEGORIES:Working Bees
END:VEVENT
BEGIN:VEVENT
DTSTART;TZID=Australia/Melbourne:20251013T090000
DTEND;TZID=Australia/Melbourne:20251013T110000
DTSTAMP:20260422T080513
CREATED:20250216T234406Z
LAST-MODIFIED:20250216T234544Z
UID:10004974-1760346000-1760353200@www.coffsharbourlandcare.org.au
SUMMARY:Macauleys Headland Landcare
DESCRIPTION:Second Monday of the month 9 – 11am meet at Ocean Parade north car park. Restoring the vegetation on this site in the Regional Park.
URL:https://www.coffsharbourlandcare.org.au/event/macauleys-headland-landcare-2-2-2/2025-10-13/
LOCATION:Macauleys Headland\, Park Beach Parking North\, Ocean Parade\, Coffs Harbour\, NSW\, 2450\, Australia
CATEGORIES:Working Bees
END:VEVENT
BEGIN:VEVENT
DTSTART;TZID=Australia/Melbourne:20251014T073000
DTEND;TZID=Australia/Melbourne:20251014T100000
DTSTAMP:20260422T080513
CREATED:20250224T004350Z
LAST-MODIFIED:20250224T004350Z
UID:10005365-1760427000-1760436000@www.coffsharbourlandcare.org.au
SUMMARY:Red Rock Landcare
DESCRIPTION:Tuesdays from 7.30am. Also work at other times by arrangement contact site coordinator. \nContact: Coordinator Rose Treilibs on rtreilibs@gmail.com or phone 0418112390
URL:https://www.coffsharbourlandcare.org.au/event/red-rock-landcare-2-2/2025-10-14/
LOCATION:Lynch Cottage\, Red Rock\, Park St\, Red Rock\, New South Wales\, 2456\, Australia
CATEGORIES:Working Bees
ORGANIZER;CN="Rose & Vern Treilibs":MAILTO:rtreilibs@gmail.com
END:VEVENT
BEGIN:VEVENT
DTSTART;TZID=Australia/Melbourne:20251014T083000
DTEND;TZID=Australia/Melbourne:20251014T120000
DTSTAMP:20260422T080513
CREATED:20250224T002118Z
LAST-MODIFIED:20250224T002517Z
UID:10005183-1760430600-1760443200@www.coffsharbourlandcare.org.au
SUMMARY:Friends of Coffs Creek
DESCRIPTION:Contact Site Coordinator for meeting place and time.
URL:https://www.coffsharbourlandcare.org.au/event/friends-of-coffs-creek-4-4/2025-10-14/
LOCATION:NSW
CATEGORIES:Working Bees
END:VEVENT
BEGIN:VEVENT
DTSTART;TZID=Australia/Melbourne:20251016T083000
DTEND;TZID=Australia/Melbourne:20251016T120000
DTSTAMP:20260422T080513
CREATED:20250224T002118Z
LAST-MODIFIED:20250224T002517Z
UID:10005227-1760603400-1760616000@www.coffsharbourlandcare.org.au
SUMMARY:Friends of Coffs Creek
DESCRIPTION:Contact Site Coordinator for meeting place and time.
URL:https://www.coffsharbourlandcare.org.au/event/friends-of-coffs-creek-4-4/2025-10-16/
LOCATION:NSW
CATEGORIES:Working Bees
END:VEVENT
BEGIN:VEVENT
DTSTART;TZID=Australia/Melbourne:20251016T090000
DTEND;TZID=Australia/Melbourne:20251016T120000
DTSTAMP:20260422T080513
CREATED:20250212T022301Z
LAST-MODIFIED:20250212T022437Z
UID:10004909-1760605200-1760616000@www.coffsharbourlandcare.org.au
SUMMARY:Darkum Beach Landcare
DESCRIPTION:Darkum Beach Landcare Site meets every 3rd Thursday of the month\, usually at 9-12 pm. Contact Paul on 0414 942 298 for updates on meeting times\, as they may vary each month.
URL:https://www.coffsharbourlandcare.org.au/event/darkum-beach-landcare-2/2025-10-16/
LOCATION:Darkum Beach LC\, Darkum Rd\, Mullaway\, NSW\, 2456\, Australia
CATEGORIES:Working Bees
ORGANIZER;CN="Paul & Chris Hatton":MAILTO:chrl@coffslandcare.org.au
GEO:-30.0811446;153.1982899
X-APPLE-STRUCTURED-LOCATION;VALUE=URI;X-ADDRESS=Darkum Beach LC Darkum Rd Mullaway NSW 2456 Australia;X-APPLE-RADIUS=500;X-TITLE=Darkum Rd:geo:153.1982899,-30.0811446
END:VEVENT
BEGIN:VEVENT
DTSTART;TZID=Australia/Melbourne:20251017T080000
DTEND;TZID=Australia/Melbourne:20251017T120000
DTSTAMP:20260422T080513
CREATED:20250212T015532Z
LAST-MODIFIED:20250212T020246Z
UID:10004860-1760688000-1760702400@www.coffsharbourlandcare.org.au
SUMMARY:Woolgoolga Main Beach Dunecare
DESCRIPTION:Working Bees\, every Friday\, 8:00 – 12noon. Contact site coordinator for location.
URL:https://www.coffsharbourlandcare.org.au/event/woolgoolga-main-beach-dunecare-4-2/2025-10-17/
LOCATION:NSW
CATEGORIES:Working Bees
END:VEVENT
BEGIN:VEVENT
DTSTART;TZID=Australia/Melbourne:20251018T080000
DTEND;TZID=Australia/Melbourne:20251018T100000
DTSTAMP:20260422T080513
CREATED:20250212T010005Z
LAST-MODIFIED:20250212T010005Z
UID:10004696-1760774400-1760781600@www.coffsharbourlandcare.org.au
SUMMARY:Woolgoolga Creek Landcare Day 2
DESCRIPTION:Working Bees every first and third Saturday of the month\, contact site coordinator for time and meet location.  \n8.00-10.00 AM (spring\, summer and autum) and 8.30 AM -10.30 AM (winter June-August)
URL:https://www.coffsharbourlandcare.org.au/event/woolgoolga-creek-landcare-day-2/2025-10-18/
LOCATION:NSW
CATEGORIES:Working Bees
ORGANIZER;CN="Matt Dillon":MAILTO:chrl@coffslandcare.org.au
END:VEVENT
BEGIN:VEVENT
DTSTART;TZID=Australia/Melbourne:20251018T083000
DTEND;TZID=Australia/Melbourne:20251018T120000
DTSTAMP:20260422T080513
CREATED:20250224T001725Z
LAST-MODIFIED:20250224T001803Z
UID:10005148-1760776200-1760788800@www.coffsharbourlandcare.org.au
SUMMARY:Friends of Coffs Creek
DESCRIPTION:Contact Site Coordinator for meeting place and time.
URL:https://www.coffsharbourlandcare.org.au/event/friends-of-coffs-creek-4-3/2025-10-18/
LOCATION:NSW
CATEGORIES:Working Bees
END:VEVENT
BEGIN:VEVENT
DTSTART;TZID=Australia/Melbourne:20251019T080000
DTEND;TZID=Australia/Melbourne:20251019T100000
DTSTAMP:20260422T080514
CREATED:20250205T001917Z
LAST-MODIFIED:20250212T011125Z
UID:10004633-1760860800-1760868000@www.coffsharbourlandcare.org.au
SUMMARY:Emerald Beach Dunecare
DESCRIPTION:Volunteers will meet on the 3rd Sunday of the month\, 8-10am from June
URL:https://www.coffsharbourlandcare.org.au/event/emerald-beach-dunecare-2-2/2025-10-19/
LOCATION:Emerald Beach\, Emerald Beach Reserve\, Fiddaman Rd\, Emerald Beach\, New South Wales\, 2456\, Australia
CATEGORIES:Working Bees
ORGANIZER;CN="Graham Tupper":MAILTO:chrl@coffslandcare.org.au
END:VEVENT
BEGIN:VEVENT
DTSTART;TZID=Australia/Melbourne:20251021T073000
DTEND;TZID=Australia/Melbourne:20251021T100000
DTSTAMP:20260422T080514
CREATED:20250224T004350Z
LAST-MODIFIED:20250224T004350Z
UID:10005366-1761031800-1761040800@www.coffsharbourlandcare.org.au
SUMMARY:Red Rock Landcare
DESCRIPTION:Tuesdays from 7.30am. Also work at other times by arrangement contact site coordinator. \nContact: Coordinator Rose Treilibs on rtreilibs@gmail.com or phone 0418112390
URL:https://www.coffsharbourlandcare.org.au/event/red-rock-landcare-2-2/2025-10-21/
LOCATION:Lynch Cottage\, Red Rock\, Park St\, Red Rock\, New South Wales\, 2456\, Australia
CATEGORIES:Working Bees
ORGANIZER;CN="Rose & Vern Treilibs":MAILTO:rtreilibs@gmail.com
END:VEVENT
BEGIN:VEVENT
DTSTART;TZID=Australia/Melbourne:20251021T083000
DTEND;TZID=Australia/Melbourne:20251021T120000
DTSTAMP:20260422T080514
CREATED:20250224T002118Z
LAST-MODIFIED:20250224T002517Z
UID:10005184-1761035400-1761048000@www.coffsharbourlandcare.org.au
SUMMARY:Friends of Coffs Creek
DESCRIPTION:Contact Site Coordinator for meeting place and time.
URL:https://www.coffsharbourlandcare.org.au/event/friends-of-coffs-creek-4-4/2025-10-21/
LOCATION:NSW
CATEGORIES:Working Bees
END:VEVENT
BEGIN:VEVENT
DTSTART;TZID=Australia/Melbourne:20251023T083000
DTEND;TZID=Australia/Melbourne:20251023T120000
DTSTAMP:20260422T080514
CREATED:20250224T002118Z
LAST-MODIFIED:20250224T002517Z
UID:10005228-1761208200-1761220800@www.coffsharbourlandcare.org.au
SUMMARY:Friends of Coffs Creek
DESCRIPTION:Contact Site Coordinator for meeting place and time.
URL:https://www.coffsharbourlandcare.org.au/event/friends-of-coffs-creek-4-4/2025-10-23/
LOCATION:NSW
CATEGORIES:Working Bees
END:VEVENT
BEGIN:VEVENT
DTSTART;TZID=Australia/Melbourne:20251024T080000
DTEND;TZID=Australia/Melbourne:20251024T120000
DTSTAMP:20260422T080514
CREATED:20250212T015532Z
LAST-MODIFIED:20250212T020246Z
UID:10004861-1761292800-1761307200@www.coffsharbourlandcare.org.au
SUMMARY:Woolgoolga Main Beach Dunecare
DESCRIPTION:Working Bees\, every Friday\, 8:00 – 12noon. Contact site coordinator for location.
URL:https://www.coffsharbourlandcare.org.au/event/woolgoolga-main-beach-dunecare-4-2/2025-10-24/
LOCATION:NSW
CATEGORIES:Working Bees
END:VEVENT
BEGIN:VEVENT
DTSTART;TZID=Australia/Melbourne:20251028T073000
DTEND;TZID=Australia/Melbourne:20251028T100000
DTSTAMP:20260422T080514
CREATED:20250224T004350Z
LAST-MODIFIED:20250224T004350Z
UID:10005367-1761636600-1761645600@www.coffsharbourlandcare.org.au
SUMMARY:Red Rock Landcare
DESCRIPTION:Tuesdays from 7.30am. Also work at other times by arrangement contact site coordinator. \nContact: Coordinator Rose Treilibs on rtreilibs@gmail.com or phone 0418112390
URL:https://www.coffsharbourlandcare.org.au/event/red-rock-landcare-2-2/2025-10-28/
LOCATION:Lynch Cottage\, Red Rock\, Park St\, Red Rock\, New South Wales\, 2456\, Australia
CATEGORIES:Working Bees
ORGANIZER;CN="Rose & Vern Treilibs":MAILTO:rtreilibs@gmail.com
END:VEVENT
BEGIN:VEVENT
DTSTART;TZID=Australia/Melbourne:20251028T083000
DTEND;TZID=Australia/Melbourne:20251028T120000
DTSTAMP:20260422T080514
CREATED:20250224T002118Z
LAST-MODIFIED:20250224T002517Z
UID:10005185-1761640200-1761652800@www.coffsharbourlandcare.org.au
SUMMARY:Friends of Coffs Creek
DESCRIPTION:Contact Site Coordinator for meeting place and time.
URL:https://www.coffsharbourlandcare.org.au/event/friends-of-coffs-creek-4-4/2025-10-28/
LOCATION:NSW
CATEGORIES:Working Bees
END:VEVENT
BEGIN:VEVENT
DTSTART;TZID=Australia/Melbourne:20251030T083000
DTEND;TZID=Australia/Melbourne:20251030T120000
DTSTAMP:20260422T080514
CREATED:20250224T002118Z
LAST-MODIFIED:20250224T002517Z
UID:10005229-1761813000-1761825600@www.coffsharbourlandcare.org.au
SUMMARY:Friends of Coffs Creek
DESCRIPTION:Contact Site Coordinator for meeting place and time.
URL:https://www.coffsharbourlandcare.org.au/event/friends-of-coffs-creek-4-4/2025-10-30/
LOCATION:NSW
CATEGORIES:Working Bees
END:VEVENT
BEGIN:VEVENT
DTSTART;TZID=Australia/Melbourne:20251031T080000
DTEND;TZID=Australia/Melbourne:20251031T120000
DTSTAMP:20260422T080514
CREATED:20250212T015532Z
LAST-MODIFIED:20250212T020246Z
UID:10004862-1761897600-1761912000@www.coffsharbourlandcare.org.au
SUMMARY:Woolgoolga Main Beach Dunecare
DESCRIPTION:Working Bees\, every Friday\, 8:00 – 12noon. Contact site coordinator for location.
URL:https://www.coffsharbourlandcare.org.au/event/woolgoolga-main-beach-dunecare-4-2/2025-10-31/
LOCATION:NSW
CATEGORIES:Working Bees
END:VEVENT
END:VCALENDAR