BEGIN:VCALENDAR
VERSION:2.0
PRODID:-//Coffs Harbour Regional Landcare - ECPv6.15.20//NONSGML v1.0//EN
CALSCALE:GREGORIAN
METHOD:PUBLISH
X-ORIGINAL-URL:https://www.coffsharbourlandcare.org.au
X-WR-CALDESC:Events for Coffs Harbour Regional Landcare
REFRESH-INTERVAL;VALUE=DURATION:PT1H
X-Robots-Tag:noindex
X-PUBLISHED-TTL:PT1H
BEGIN:VTIMEZONE
TZID:Australia/Melbourne
BEGIN:STANDARD
TZOFFSETFROM:+1100
TZOFFSETTO:+1000
TZNAME:AEST
DTSTART:20240406T160000
END:STANDARD
BEGIN:DAYLIGHT
TZOFFSETFROM:+1000
TZOFFSETTO:+1100
TZNAME:AEDT
DTSTART:20241005T160000
END:DAYLIGHT
BEGIN:STANDARD
TZOFFSETFROM:+1100
TZOFFSETTO:+1000
TZNAME:AEST
DTSTART:20250405T160000
END:STANDARD
BEGIN:DAYLIGHT
TZOFFSETFROM:+1000
TZOFFSETTO:+1100
TZNAME:AEDT
DTSTART:20251004T160000
END:DAYLIGHT
BEGIN:STANDARD
TZOFFSETFROM:+1100
TZOFFSETTO:+1000
TZNAME:AEST
DTSTART:20260404T160000
END:STANDARD
BEGIN:DAYLIGHT
TZOFFSETFROM:+1000
TZOFFSETTO:+1100
TZNAME:AEDT
DTSTART:20261003T160000
END:DAYLIGHT
END:VTIMEZONE
BEGIN:VEVENT
DTSTART;TZID=Australia/Melbourne:20251221T090000
DTEND;TZID=Australia/Melbourne:20251221T110000
DTSTAMP:20260421T230110
CREATED:20250217T012939Z
LAST-MODIFIED:20250217T013155Z
UID:10005022-1766307600-1766314800@www.coffsharbourlandcare.org.au
SUMMARY:Sawtell Dunecare
DESCRIPTION:Meeting weekly on Sundays 9:00am\, rotating between Murrays Beach and Boambee Headland. Contact site coordinator to confirm meet location.
URL:https://www.coffsharbourlandcare.org.au/event/sawtell-dunecare-2/2025-12-21/
CATEGORIES:Working Bees
ORGANIZER;CN="Barry Powells":MAILTO:chrl@coffslandcare.org.au
END:VEVENT
BEGIN:VEVENT
DTSTART;TZID=Australia/Melbourne:20251214T090000
DTEND;TZID=Australia/Melbourne:20251214T110000
DTSTAMP:20260421T230110
CREATED:20250217T012939Z
LAST-MODIFIED:20250217T013155Z
UID:10005021-1765702800-1765710000@www.coffsharbourlandcare.org.au
SUMMARY:Sawtell Dunecare
DESCRIPTION:Meeting weekly on Sundays 9:00am\, rotating between Murrays Beach and Boambee Headland. Contact site coordinator to confirm meet location.
URL:https://www.coffsharbourlandcare.org.au/event/sawtell-dunecare-2/2025-12-14/
CATEGORIES:Working Bees
ORGANIZER;CN="Barry Powells":MAILTO:chrl@coffslandcare.org.au
END:VEVENT
BEGIN:VEVENT
DTSTART;TZID=Australia/Melbourne:20251207T090000
DTEND;TZID=Australia/Melbourne:20251207T110000
DTSTAMP:20260421T230110
CREATED:20250217T012939Z
LAST-MODIFIED:20250217T013155Z
UID:10005020-1765098000-1765105200@www.coffsharbourlandcare.org.au
SUMMARY:Sawtell Dunecare
DESCRIPTION:Meeting weekly on Sundays 9:00am\, rotating between Murrays Beach and Boambee Headland. Contact site coordinator to confirm meet location.
URL:https://www.coffsharbourlandcare.org.au/event/sawtell-dunecare-2/2025-12-07/
CATEGORIES:Working Bees
ORGANIZER;CN="Barry Powells":MAILTO:chrl@coffslandcare.org.au
END:VEVENT
BEGIN:VEVENT
DTSTART;TZID=Australia/Melbourne:20251130T090000
DTEND;TZID=Australia/Melbourne:20251130T110000
DTSTAMP:20260421T230110
CREATED:20250217T012939Z
LAST-MODIFIED:20250217T013155Z
UID:10005019-1764493200-1764500400@www.coffsharbourlandcare.org.au
SUMMARY:Sawtell Dunecare
DESCRIPTION:Meeting weekly on Sundays 9:00am\, rotating between Murrays Beach and Boambee Headland. Contact site coordinator to confirm meet location.
URL:https://www.coffsharbourlandcare.org.au/event/sawtell-dunecare-2/2025-11-30/
CATEGORIES:Working Bees
ORGANIZER;CN="Barry Powells":MAILTO:chrl@coffslandcare.org.au
END:VEVENT
BEGIN:VEVENT
DTSTART;TZID=Australia/Melbourne:20251123T090000
DTEND;TZID=Australia/Melbourne:20251123T110000
DTSTAMP:20260421T230110
CREATED:20250217T012939Z
LAST-MODIFIED:20250217T013155Z
UID:10005018-1763888400-1763895600@www.coffsharbourlandcare.org.au
SUMMARY:Sawtell Dunecare
DESCRIPTION:Meeting weekly on Sundays 9:00am\, rotating between Murrays Beach and Boambee Headland. Contact site coordinator to confirm meet location.
URL:https://www.coffsharbourlandcare.org.au/event/sawtell-dunecare-2/2025-11-23/
CATEGORIES:Working Bees
ORGANIZER;CN="Barry Powells":MAILTO:chrl@coffslandcare.org.au
END:VEVENT
BEGIN:VEVENT
DTSTART;TZID=Australia/Melbourne:20251116T090000
DTEND;TZID=Australia/Melbourne:20251116T110000
DTSTAMP:20260421T230110
CREATED:20250217T012939Z
LAST-MODIFIED:20250217T013155Z
UID:10005017-1763283600-1763290800@www.coffsharbourlandcare.org.au
SUMMARY:Sawtell Dunecare
DESCRIPTION:Meeting weekly on Sundays 9:00am\, rotating between Murrays Beach and Boambee Headland. Contact site coordinator to confirm meet location.
URL:https://www.coffsharbourlandcare.org.au/event/sawtell-dunecare-2/2025-11-16/
CATEGORIES:Working Bees
ORGANIZER;CN="Barry Powells":MAILTO:chrl@coffslandcare.org.au
END:VEVENT
BEGIN:VEVENT
DTSTART;TZID=Australia/Melbourne:20251109T090000
DTEND;TZID=Australia/Melbourne:20251109T110000
DTSTAMP:20260421T230110
CREATED:20250217T012939Z
LAST-MODIFIED:20250217T013155Z
UID:10005016-1762678800-1762686000@www.coffsharbourlandcare.org.au
SUMMARY:Sawtell Dunecare
DESCRIPTION:Meeting weekly on Sundays 9:00am\, rotating between Murrays Beach and Boambee Headland. Contact site coordinator to confirm meet location.
URL:https://www.coffsharbourlandcare.org.au/event/sawtell-dunecare-2/2025-11-09/
CATEGORIES:Working Bees
ORGANIZER;CN="Barry Powells":MAILTO:chrl@coffslandcare.org.au
END:VEVENT
BEGIN:VEVENT
DTSTART;TZID=Australia/Melbourne:20251102T090000
DTEND;TZID=Australia/Melbourne:20251102T110000
DTSTAMP:20260421T230110
CREATED:20250217T012939Z
LAST-MODIFIED:20250217T013155Z
UID:10005015-1762074000-1762081200@www.coffsharbourlandcare.org.au
SUMMARY:Sawtell Dunecare
DESCRIPTION:Meeting weekly on Sundays 9:00am\, rotating between Murrays Beach and Boambee Headland. Contact site coordinator to confirm meet location.
URL:https://www.coffsharbourlandcare.org.au/event/sawtell-dunecare-2/2025-11-02/
CATEGORIES:Working Bees
ORGANIZER;CN="Barry Powells":MAILTO:chrl@coffslandcare.org.au
END:VEVENT
BEGIN:VEVENT
DTSTART;TZID=Australia/Melbourne:20251026T090000
DTEND;TZID=Australia/Melbourne:20251026T110000
DTSTAMP:20260421T230110
CREATED:20250217T012939Z
LAST-MODIFIED:20250217T013155Z
UID:10005014-1761469200-1761476400@www.coffsharbourlandcare.org.au
SUMMARY:Sawtell Dunecare
DESCRIPTION:Meeting weekly on Sundays 9:00am\, rotating between Murrays Beach and Boambee Headland. Contact site coordinator to confirm meet location.
URL:https://www.coffsharbourlandcare.org.au/event/sawtell-dunecare-2/2025-10-26/
CATEGORIES:Working Bees
ORGANIZER;CN="Barry Powells":MAILTO:chrl@coffslandcare.org.au
END:VEVENT
BEGIN:VEVENT
DTSTART;TZID=Australia/Melbourne:20251019T090000
DTEND;TZID=Australia/Melbourne:20251019T110000
DTSTAMP:20260421T230110
CREATED:20250217T012939Z
LAST-MODIFIED:20250217T013155Z
UID:10005013-1760864400-1760871600@www.coffsharbourlandcare.org.au
SUMMARY:Sawtell Dunecare
DESCRIPTION:Meeting weekly on Sundays 9:00am\, rotating between Murrays Beach and Boambee Headland. Contact site coordinator to confirm meet location.
URL:https://www.coffsharbourlandcare.org.au/event/sawtell-dunecare-2/2025-10-19/
CATEGORIES:Working Bees
ORGANIZER;CN="Barry Powells":MAILTO:chrl@coffslandcare.org.au
END:VEVENT
BEGIN:VEVENT
DTSTART;TZID=Australia/Melbourne:20251012T090000
DTEND;TZID=Australia/Melbourne:20251012T110000
DTSTAMP:20260421T230110
CREATED:20250217T012939Z
LAST-MODIFIED:20250217T013155Z
UID:10005012-1760259600-1760266800@www.coffsharbourlandcare.org.au
SUMMARY:Sawtell Dunecare
DESCRIPTION:Meeting weekly on Sundays 9:00am\, rotating between Murrays Beach and Boambee Headland. Contact site coordinator to confirm meet location.
URL:https://www.coffsharbourlandcare.org.au/event/sawtell-dunecare-2/2025-10-12/
CATEGORIES:Working Bees
ORGANIZER;CN="Barry Powells":MAILTO:chrl@coffslandcare.org.au
END:VEVENT
BEGIN:VEVENT
DTSTART;TZID=Australia/Melbourne:20251005T090000
DTEND;TZID=Australia/Melbourne:20251005T110000
DTSTAMP:20260421T230110
CREATED:20250217T012939Z
LAST-MODIFIED:20250217T013155Z
UID:10005011-1759654800-1759662000@www.coffsharbourlandcare.org.au
SUMMARY:Sawtell Dunecare
DESCRIPTION:Meeting weekly on Sundays 9:00am\, rotating between Murrays Beach and Boambee Headland. Contact site coordinator to confirm meet location.
URL:https://www.coffsharbourlandcare.org.au/event/sawtell-dunecare-2/2025-10-05/
CATEGORIES:Working Bees
ORGANIZER;CN="Barry Powells":MAILTO:chrl@coffslandcare.org.au
END:VEVENT
BEGIN:VEVENT
DTSTART;TZID=Australia/Melbourne:20250928T090000
DTEND;TZID=Australia/Melbourne:20250928T110000
DTSTAMP:20260421T230110
CREATED:20250217T012939Z
LAST-MODIFIED:20250217T013155Z
UID:10005010-1759050000-1759057200@www.coffsharbourlandcare.org.au
SUMMARY:Sawtell Dunecare
DESCRIPTION:Meeting weekly on Sundays 9:00am\, rotating between Murrays Beach and Boambee Headland. Contact site coordinator to confirm meet location.
URL:https://www.coffsharbourlandcare.org.au/event/sawtell-dunecare-2/2025-09-28/
CATEGORIES:Working Bees
ORGANIZER;CN="Barry Powells":MAILTO:chrl@coffslandcare.org.au
END:VEVENT
BEGIN:VEVENT
DTSTART;TZID=Australia/Melbourne:20250921T090000
DTEND;TZID=Australia/Melbourne:20250921T110000
DTSTAMP:20260421T230110
CREATED:20250217T012939Z
LAST-MODIFIED:20250217T013155Z
UID:10005009-1758445200-1758452400@www.coffsharbourlandcare.org.au
SUMMARY:Sawtell Dunecare
DESCRIPTION:Meeting weekly on Sundays 9:00am\, rotating between Murrays Beach and Boambee Headland. Contact site coordinator to confirm meet location.
URL:https://www.coffsharbourlandcare.org.au/event/sawtell-dunecare-2/2025-09-21/
CATEGORIES:Working Bees
ORGANIZER;CN="Barry Powells":MAILTO:chrl@coffslandcare.org.au
END:VEVENT
BEGIN:VEVENT
DTSTART;TZID=Australia/Melbourne:20250914T090000
DTEND;TZID=Australia/Melbourne:20250914T110000
DTSTAMP:20260421T230110
CREATED:20250217T012939Z
LAST-MODIFIED:20250217T013155Z
UID:10005008-1757840400-1757847600@www.coffsharbourlandcare.org.au
SUMMARY:Sawtell Dunecare
DESCRIPTION:Meeting weekly on Sundays 9:00am\, rotating between Murrays Beach and Boambee Headland. Contact site coordinator to confirm meet location.
URL:https://www.coffsharbourlandcare.org.au/event/sawtell-dunecare-2/2025-09-14/
CATEGORIES:Working Bees
ORGANIZER;CN="Barry Powells":MAILTO:chrl@coffslandcare.org.au
END:VEVENT
BEGIN:VEVENT
DTSTART;TZID=Australia/Melbourne:20250907T090000
DTEND;TZID=Australia/Melbourne:20250907T110000
DTSTAMP:20260421T230110
CREATED:20250217T012939Z
LAST-MODIFIED:20250217T013155Z
UID:10005007-1757235600-1757242800@www.coffsharbourlandcare.org.au
SUMMARY:Sawtell Dunecare
DESCRIPTION:Meeting weekly on Sundays 9:00am\, rotating between Murrays Beach and Boambee Headland. Contact site coordinator to confirm meet location.
URL:https://www.coffsharbourlandcare.org.au/event/sawtell-dunecare-2/2025-09-07/
CATEGORIES:Working Bees
ORGANIZER;CN="Barry Powells":MAILTO:chrl@coffslandcare.org.au
END:VEVENT
BEGIN:VEVENT
DTSTART;TZID=Australia/Melbourne:20250831T090000
DTEND;TZID=Australia/Melbourne:20250831T110000
DTSTAMP:20260421T230110
CREATED:20250217T012939Z
LAST-MODIFIED:20250217T013155Z
UID:10005006-1756630800-1756638000@www.coffsharbourlandcare.org.au
SUMMARY:Sawtell Dunecare
DESCRIPTION:Meeting weekly on Sundays 9:00am\, rotating between Murrays Beach and Boambee Headland. Contact site coordinator to confirm meet location.
URL:https://www.coffsharbourlandcare.org.au/event/sawtell-dunecare-2/2025-08-31/
CATEGORIES:Working Bees
ORGANIZER;CN="Barry Powells":MAILTO:chrl@coffslandcare.org.au
END:VEVENT
BEGIN:VEVENT
DTSTART;TZID=Australia/Melbourne:20250824T090000
DTEND;TZID=Australia/Melbourne:20250824T110000
DTSTAMP:20260421T230110
CREATED:20250217T012939Z
LAST-MODIFIED:20250217T013155Z
UID:10005005-1756026000-1756033200@www.coffsharbourlandcare.org.au
SUMMARY:Sawtell Dunecare
DESCRIPTION:Meeting weekly on Sundays 9:00am\, rotating between Murrays Beach and Boambee Headland. Contact site coordinator to confirm meet location.
URL:https://www.coffsharbourlandcare.org.au/event/sawtell-dunecare-2/2025-08-24/
CATEGORIES:Working Bees
ORGANIZER;CN="Barry Powells":MAILTO:chrl@coffslandcare.org.au
END:VEVENT
BEGIN:VEVENT
DTSTART;TZID=Australia/Melbourne:20250817T090000
DTEND;TZID=Australia/Melbourne:20250817T110000
DTSTAMP:20260421T230110
CREATED:20250217T012939Z
LAST-MODIFIED:20250217T013155Z
UID:10005004-1755421200-1755428400@www.coffsharbourlandcare.org.au
SUMMARY:Sawtell Dunecare
DESCRIPTION:Meeting weekly on Sundays 9:00am\, rotating between Murrays Beach and Boambee Headland. Contact site coordinator to confirm meet location.
URL:https://www.coffsharbourlandcare.org.au/event/sawtell-dunecare-2/2025-08-17/
CATEGORIES:Working Bees
ORGANIZER;CN="Barry Powells":MAILTO:chrl@coffslandcare.org.au
END:VEVENT
BEGIN:VEVENT
DTSTART;TZID=Australia/Melbourne:20250810T090000
DTEND;TZID=Australia/Melbourne:20250810T110000
DTSTAMP:20260421T230110
CREATED:20250217T012939Z
LAST-MODIFIED:20250217T013155Z
UID:10005003-1754816400-1754823600@www.coffsharbourlandcare.org.au
SUMMARY:Sawtell Dunecare
DESCRIPTION:Meeting weekly on Sundays 9:00am\, rotating between Murrays Beach and Boambee Headland. Contact site coordinator to confirm meet location.
URL:https://www.coffsharbourlandcare.org.au/event/sawtell-dunecare-2/2025-08-10/
CATEGORIES:Working Bees
ORGANIZER;CN="Barry Powells":MAILTO:chrl@coffslandcare.org.au
END:VEVENT
BEGIN:VEVENT
DTSTART;TZID=Australia/Melbourne:20250803T090000
DTEND;TZID=Australia/Melbourne:20250803T110000
DTSTAMP:20260421T230110
CREATED:20250217T012939Z
LAST-MODIFIED:20250217T013155Z
UID:10005002-1754211600-1754218800@www.coffsharbourlandcare.org.au
SUMMARY:Sawtell Dunecare
DESCRIPTION:Meeting weekly on Sundays 9:00am\, rotating between Murrays Beach and Boambee Headland. Contact site coordinator to confirm meet location.
URL:https://www.coffsharbourlandcare.org.au/event/sawtell-dunecare-2/2025-08-03/
CATEGORIES:Working Bees
ORGANIZER;CN="Barry Powells":MAILTO:chrl@coffslandcare.org.au
END:VEVENT
BEGIN:VEVENT
DTSTART;TZID=Australia/Melbourne:20250727T090000
DTEND;TZID=Australia/Melbourne:20250727T110000
DTSTAMP:20260421T230110
CREATED:20250217T012939Z
LAST-MODIFIED:20250217T013155Z
UID:10005001-1753606800-1753614000@www.coffsharbourlandcare.org.au
SUMMARY:Sawtell Dunecare
DESCRIPTION:Meeting weekly on Sundays 9:00am\, rotating between Murrays Beach and Boambee Headland. Contact site coordinator to confirm meet location.
URL:https://www.coffsharbourlandcare.org.au/event/sawtell-dunecare-2/2025-07-27/
CATEGORIES:Working Bees
ORGANIZER;CN="Barry Powells":MAILTO:chrl@coffslandcare.org.au
END:VEVENT
BEGIN:VEVENT
DTSTART;TZID=Australia/Melbourne:20250720T090000
DTEND;TZID=Australia/Melbourne:20250720T110000
DTSTAMP:20260421T230110
CREATED:20250217T012939Z
LAST-MODIFIED:20250217T013155Z
UID:10005000-1753002000-1753009200@www.coffsharbourlandcare.org.au
SUMMARY:Sawtell Dunecare
DESCRIPTION:Meeting weekly on Sundays 9:00am\, rotating between Murrays Beach and Boambee Headland. Contact site coordinator to confirm meet location.
URL:https://www.coffsharbourlandcare.org.au/event/sawtell-dunecare-2/2025-07-20/
CATEGORIES:Working Bees
ORGANIZER;CN="Barry Powells":MAILTO:chrl@coffslandcare.org.au
END:VEVENT
BEGIN:VEVENT
DTSTART;TZID=Australia/Melbourne:20250713T090000
DTEND;TZID=Australia/Melbourne:20250713T110000
DTSTAMP:20260421T230110
CREATED:20250217T012939Z
LAST-MODIFIED:20250217T013155Z
UID:10004999-1752397200-1752404400@www.coffsharbourlandcare.org.au
SUMMARY:Sawtell Dunecare
DESCRIPTION:Meeting weekly on Sundays 9:00am\, rotating between Murrays Beach and Boambee Headland. Contact site coordinator to confirm meet location.
URL:https://www.coffsharbourlandcare.org.au/event/sawtell-dunecare-2/2025-07-13/
CATEGORIES:Working Bees
ORGANIZER;CN="Barry Powells":MAILTO:chrl@coffslandcare.org.au
END:VEVENT
BEGIN:VEVENT
DTSTART;TZID=Australia/Melbourne:20250706T090000
DTEND;TZID=Australia/Melbourne:20250706T110000
DTSTAMP:20260421T230110
CREATED:20250217T012939Z
LAST-MODIFIED:20250217T013155Z
UID:10004998-1751792400-1751799600@www.coffsharbourlandcare.org.au
SUMMARY:Sawtell Dunecare
DESCRIPTION:Meeting weekly on Sundays 9:00am\, rotating between Murrays Beach and Boambee Headland. Contact site coordinator to confirm meet location.
URL:https://www.coffsharbourlandcare.org.au/event/sawtell-dunecare-2/2025-07-06/
CATEGORIES:Working Bees
ORGANIZER;CN="Barry Powells":MAILTO:chrl@coffslandcare.org.au
END:VEVENT
BEGIN:VEVENT
DTSTART;TZID=Australia/Melbourne:20250629T090000
DTEND;TZID=Australia/Melbourne:20250629T110000
DTSTAMP:20260421T230110
CREATED:20250217T012939Z
LAST-MODIFIED:20250217T013155Z
UID:10004997-1751187600-1751194800@www.coffsharbourlandcare.org.au
SUMMARY:Sawtell Dunecare
DESCRIPTION:Meeting weekly on Sundays 9:00am\, rotating between Murrays Beach and Boambee Headland. Contact site coordinator to confirm meet location.
URL:https://www.coffsharbourlandcare.org.au/event/sawtell-dunecare-2/2025-06-29/
CATEGORIES:Working Bees
ORGANIZER;CN="Barry Powells":MAILTO:chrl@coffslandcare.org.au
END:VEVENT
BEGIN:VEVENT
DTSTART;TZID=Australia/Melbourne:20250622T090000
DTEND;TZID=Australia/Melbourne:20250622T110000
DTSTAMP:20260421T230110
CREATED:20250217T012939Z
LAST-MODIFIED:20250217T013155Z
UID:10004996-1750582800-1750590000@www.coffsharbourlandcare.org.au
SUMMARY:Sawtell Dunecare
DESCRIPTION:Meeting weekly on Sundays 9:00am\, rotating between Murrays Beach and Boambee Headland. Contact site coordinator to confirm meet location.
URL:https://www.coffsharbourlandcare.org.au/event/sawtell-dunecare-2/2025-06-22/
CATEGORIES:Working Bees
ORGANIZER;CN="Barry Powells":MAILTO:chrl@coffslandcare.org.au
END:VEVENT
BEGIN:VEVENT
DTSTART;TZID=Australia/Melbourne:20250615T090000
DTEND;TZID=Australia/Melbourne:20250615T110000
DTSTAMP:20260421T230110
CREATED:20250217T012939Z
LAST-MODIFIED:20250217T013155Z
UID:10004995-1749978000-1749985200@www.coffsharbourlandcare.org.au
SUMMARY:Sawtell Dunecare
DESCRIPTION:Meeting weekly on Sundays 9:00am\, rotating between Murrays Beach and Boambee Headland. Contact site coordinator to confirm meet location.
URL:https://www.coffsharbourlandcare.org.au/event/sawtell-dunecare-2/2025-06-15/
CATEGORIES:Working Bees
ORGANIZER;CN="Barry Powells":MAILTO:chrl@coffslandcare.org.au
END:VEVENT
BEGIN:VEVENT
DTSTART;TZID=Australia/Melbourne:20250608T090000
DTEND;TZID=Australia/Melbourne:20250608T110000
DTSTAMP:20260421T230110
CREATED:20250217T012939Z
LAST-MODIFIED:20250217T013155Z
UID:10004994-1749373200-1749380400@www.coffsharbourlandcare.org.au
SUMMARY:Sawtell Dunecare
DESCRIPTION:Meeting weekly on Sundays 9:00am\, rotating between Murrays Beach and Boambee Headland. Contact site coordinator to confirm meet location.
URL:https://www.coffsharbourlandcare.org.au/event/sawtell-dunecare-2/2025-06-08/
CATEGORIES:Working Bees
ORGANIZER;CN="Barry Powells":MAILTO:chrl@coffslandcare.org.au
END:VEVENT
BEGIN:VEVENT
DTSTART;TZID=Australia/Melbourne:20250601T090000
DTEND;TZID=Australia/Melbourne:20250601T110000
DTSTAMP:20260421T230110
CREATED:20250217T012939Z
LAST-MODIFIED:20250217T013155Z
UID:10004993-1748768400-1748775600@www.coffsharbourlandcare.org.au
SUMMARY:Sawtell Dunecare
DESCRIPTION:Meeting weekly on Sundays 9:00am\, rotating between Murrays Beach and Boambee Headland. Contact site coordinator to confirm meet location.
URL:https://www.coffsharbourlandcare.org.au/event/sawtell-dunecare-2/2025-06-01/
CATEGORIES:Working Bees
ORGANIZER;CN="Barry Powells":MAILTO:chrl@coffslandcare.org.au
END:VEVENT
END:VCALENDAR