BEGIN:VCALENDAR
VERSION:2.0
PRODID:-//Coffs Harbour Regional Landcare - ECPv6.15.20//NONSGML v1.0//EN
CALSCALE:GREGORIAN
METHOD:PUBLISH
X-WR-CALNAME:Coffs Harbour Regional Landcare
X-ORIGINAL-URL:https://www.coffsharbourlandcare.org.au
X-WR-CALDESC:Events for Coffs Harbour Regional Landcare
REFRESH-INTERVAL;VALUE=DURATION:PT1H
X-Robots-Tag:noindex
X-PUBLISHED-TTL:PT1H
BEGIN:VTIMEZONE
TZID:Australia/Melbourne
BEGIN:STANDARD
TZOFFSETFROM:+1100
TZOFFSETTO:+1000
TZNAME:AEST
DTSTART:20240406T160000
END:STANDARD
BEGIN:DAYLIGHT
TZOFFSETFROM:+1000
TZOFFSETTO:+1100
TZNAME:AEDT
DTSTART:20241005T160000
END:DAYLIGHT
BEGIN:STANDARD
TZOFFSETFROM:+1100
TZOFFSETTO:+1000
TZNAME:AEST
DTSTART:20250405T160000
END:STANDARD
BEGIN:DAYLIGHT
TZOFFSETFROM:+1000
TZOFFSETTO:+1100
TZNAME:AEDT
DTSTART:20251004T160000
END:DAYLIGHT
BEGIN:STANDARD
TZOFFSETFROM:+1100
TZOFFSETTO:+1000
TZNAME:AEST
DTSTART:20260404T160000
END:STANDARD
BEGIN:DAYLIGHT
TZOFFSETFROM:+1000
TZOFFSETTO:+1100
TZNAME:AEDT
DTSTART:20261003T160000
END:DAYLIGHT
BEGIN:STANDARD
TZOFFSETFROM:+1100
TZOFFSETTO:+1000
TZNAME:AEST
DTSTART:20270403T160000
END:STANDARD
BEGIN:DAYLIGHT
TZOFFSETFROM:+1000
TZOFFSETTO:+1100
TZNAME:AEDT
DTSTART:20271002T160000
END:DAYLIGHT
END:VTIMEZONE
BEGIN:VEVENT
DTSTART;TZID=Australia/Melbourne:20260420T080000
DTEND;TZID=Australia/Melbourne:20260420T100000
DTSTAMP:20260422T111436
CREATED:20260120T035428Z
LAST-MODIFIED:20260120T035428Z
UID:10005653-1776672000-1776679200@www.coffsharbourlandcare.org.au
SUMMARY:Woolgoolga Lake Landcare 2026
DESCRIPTION:Meets every Monday 8:00 to 10:00 AM. Please contact coordinator for meet location.
URL:https://www.coffsharbourlandcare.org.au/event/woolgoolga-lake-landcare-2026/2026-04-20/
LOCATION:Woolgoolga Lake Landcare Site\, Killawarra Close\, Safety Beach\, NSW\, 2456\, Australia
CATEGORIES:Woolgoolga Lake,Working Bees
ORGANIZER;CN="Christopher Blair":MAILTO:chrl@coffslandcare.org.au
GEO:-30.0977301;153.1950922
X-APPLE-STRUCTURED-LOCATION;VALUE=URI;X-ADDRESS=Woolgoolga Lake Landcare Site Killawarra Close Safety Beach NSW 2456 Australia;X-APPLE-RADIUS=500;X-TITLE=Killawarra Close:geo:153.1950922,-30.0977301
END:VEVENT
BEGIN:VEVENT
DTSTART;TZID=Australia/Melbourne:20260413T080000
DTEND;TZID=Australia/Melbourne:20260413T100000
DTSTAMP:20260422T111436
CREATED:20260120T035428Z
LAST-MODIFIED:20260120T035428Z
UID:10005652-1776067200-1776074400@www.coffsharbourlandcare.org.au
SUMMARY:Woolgoolga Lake Landcare 2026
DESCRIPTION:Meets every Monday 8:00 to 10:00 AM. Please contact coordinator for meet location.
URL:https://www.coffsharbourlandcare.org.au/event/woolgoolga-lake-landcare-2026/2026-04-13/
LOCATION:Woolgoolga Lake Landcare Site\, Killawarra Close\, Safety Beach\, NSW\, 2456\, Australia
CATEGORIES:Woolgoolga Lake,Working Bees
ORGANIZER;CN="Christopher Blair":MAILTO:chrl@coffslandcare.org.au
GEO:-30.0977301;153.1950922
X-APPLE-STRUCTURED-LOCATION;VALUE=URI;X-ADDRESS=Woolgoolga Lake Landcare Site Killawarra Close Safety Beach NSW 2456 Australia;X-APPLE-RADIUS=500;X-TITLE=Killawarra Close:geo:153.1950922,-30.0977301
END:VEVENT
BEGIN:VEVENT
DTSTART;TZID=Australia/Melbourne:20260406T080000
DTEND;TZID=Australia/Melbourne:20260406T100000
DTSTAMP:20260422T111436
CREATED:20260120T035428Z
LAST-MODIFIED:20260120T035428Z
UID:10005651-1775462400-1775469600@www.coffsharbourlandcare.org.au
SUMMARY:Woolgoolga Lake Landcare 2026
DESCRIPTION:Meets every Monday 8:00 to 10:00 AM. Please contact coordinator for meet location.
URL:https://www.coffsharbourlandcare.org.au/event/woolgoolga-lake-landcare-2026/2026-04-06/
LOCATION:Woolgoolga Lake Landcare Site\, Killawarra Close\, Safety Beach\, NSW\, 2456\, Australia
CATEGORIES:Woolgoolga Lake,Working Bees
ORGANIZER;CN="Christopher Blair":MAILTO:chrl@coffslandcare.org.au
GEO:-30.0977301;153.1950922
X-APPLE-STRUCTURED-LOCATION;VALUE=URI;X-ADDRESS=Woolgoolga Lake Landcare Site Killawarra Close Safety Beach NSW 2456 Australia;X-APPLE-RADIUS=500;X-TITLE=Killawarra Close:geo:153.1950922,-30.0977301
END:VEVENT
BEGIN:VEVENT
DTSTART;TZID=Australia/Melbourne:20260330T080000
DTEND;TZID=Australia/Melbourne:20260330T100000
DTSTAMP:20260422T111436
CREATED:20260120T035428Z
LAST-MODIFIED:20260120T035428Z
UID:10005650-1774857600-1774864800@www.coffsharbourlandcare.org.au
SUMMARY:Woolgoolga Lake Landcare 2026
DESCRIPTION:Meets every Monday 8:00 to 10:00 AM. Please contact coordinator for meet location.
URL:https://www.coffsharbourlandcare.org.au/event/woolgoolga-lake-landcare-2026/2026-03-30/
LOCATION:Woolgoolga Lake Landcare Site\, Killawarra Close\, Safety Beach\, NSW\, 2456\, Australia
CATEGORIES:Woolgoolga Lake,Working Bees
ORGANIZER;CN="Christopher Blair":MAILTO:chrl@coffslandcare.org.au
GEO:-30.0977301;153.1950922
X-APPLE-STRUCTURED-LOCATION;VALUE=URI;X-ADDRESS=Woolgoolga Lake Landcare Site Killawarra Close Safety Beach NSW 2456 Australia;X-APPLE-RADIUS=500;X-TITLE=Killawarra Close:geo:153.1950922,-30.0977301
END:VEVENT
BEGIN:VEVENT
DTSTART;TZID=Australia/Melbourne:20260323T080000
DTEND;TZID=Australia/Melbourne:20260323T100000
DTSTAMP:20260422T111436
CREATED:20260120T035428Z
LAST-MODIFIED:20260120T035428Z
UID:10005649-1774252800-1774260000@www.coffsharbourlandcare.org.au
SUMMARY:Woolgoolga Lake Landcare 2026
DESCRIPTION:Meets every Monday 8:00 to 10:00 AM. Please contact coordinator for meet location.
URL:https://www.coffsharbourlandcare.org.au/event/woolgoolga-lake-landcare-2026/2026-03-23/
LOCATION:Woolgoolga Lake Landcare Site\, Killawarra Close\, Safety Beach\, NSW\, 2456\, Australia
CATEGORIES:Woolgoolga Lake,Working Bees
ORGANIZER;CN="Christopher Blair":MAILTO:chrl@coffslandcare.org.au
GEO:-30.0977301;153.1950922
X-APPLE-STRUCTURED-LOCATION;VALUE=URI;X-ADDRESS=Woolgoolga Lake Landcare Site Killawarra Close Safety Beach NSW 2456 Australia;X-APPLE-RADIUS=500;X-TITLE=Killawarra Close:geo:153.1950922,-30.0977301
END:VEVENT
BEGIN:VEVENT
DTSTART;TZID=Australia/Melbourne:20260316T080000
DTEND;TZID=Australia/Melbourne:20260316T100000
DTSTAMP:20260422T111436
CREATED:20260120T035428Z
LAST-MODIFIED:20260120T035428Z
UID:10005648-1773648000-1773655200@www.coffsharbourlandcare.org.au
SUMMARY:Woolgoolga Lake Landcare 2026
DESCRIPTION:Meets every Monday 8:00 to 10:00 AM. Please contact coordinator for meet location.
URL:https://www.coffsharbourlandcare.org.au/event/woolgoolga-lake-landcare-2026/2026-03-16/
LOCATION:Woolgoolga Lake Landcare Site\, Killawarra Close\, Safety Beach\, NSW\, 2456\, Australia
CATEGORIES:Woolgoolga Lake,Working Bees
ORGANIZER;CN="Christopher Blair":MAILTO:chrl@coffslandcare.org.au
GEO:-30.0977301;153.1950922
X-APPLE-STRUCTURED-LOCATION;VALUE=URI;X-ADDRESS=Woolgoolga Lake Landcare Site Killawarra Close Safety Beach NSW 2456 Australia;X-APPLE-RADIUS=500;X-TITLE=Killawarra Close:geo:153.1950922,-30.0977301
END:VEVENT
BEGIN:VEVENT
DTSTART;TZID=Australia/Melbourne:20260309T080000
DTEND;TZID=Australia/Melbourne:20260309T100000
DTSTAMP:20260422T111436
CREATED:20260120T035428Z
LAST-MODIFIED:20260120T035428Z
UID:10005647-1773043200-1773050400@www.coffsharbourlandcare.org.au
SUMMARY:Woolgoolga Lake Landcare 2026
DESCRIPTION:Meets every Monday 8:00 to 10:00 AM. Please contact coordinator for meet location.
URL:https://www.coffsharbourlandcare.org.au/event/woolgoolga-lake-landcare-2026/2026-03-09/
LOCATION:Woolgoolga Lake Landcare Site\, Killawarra Close\, Safety Beach\, NSW\, 2456\, Australia
CATEGORIES:Woolgoolga Lake,Working Bees
ORGANIZER;CN="Christopher Blair":MAILTO:chrl@coffslandcare.org.au
GEO:-30.0977301;153.1950922
X-APPLE-STRUCTURED-LOCATION;VALUE=URI;X-ADDRESS=Woolgoolga Lake Landcare Site Killawarra Close Safety Beach NSW 2456 Australia;X-APPLE-RADIUS=500;X-TITLE=Killawarra Close:geo:153.1950922,-30.0977301
END:VEVENT
BEGIN:VEVENT
DTSTART;TZID=Australia/Melbourne:20260302T080000
DTEND;TZID=Australia/Melbourne:20260302T100000
DTSTAMP:20260422T111436
CREATED:20260120T035428Z
LAST-MODIFIED:20260120T035428Z
UID:10005646-1772438400-1772445600@www.coffsharbourlandcare.org.au
SUMMARY:Woolgoolga Lake Landcare 2026
DESCRIPTION:Meets every Monday 8:00 to 10:00 AM. Please contact coordinator for meet location.
URL:https://www.coffsharbourlandcare.org.au/event/woolgoolga-lake-landcare-2026/2026-03-02/
LOCATION:Woolgoolga Lake Landcare Site\, Killawarra Close\, Safety Beach\, NSW\, 2456\, Australia
CATEGORIES:Woolgoolga Lake,Working Bees
ORGANIZER;CN="Christopher Blair":MAILTO:chrl@coffslandcare.org.au
GEO:-30.0977301;153.1950922
X-APPLE-STRUCTURED-LOCATION;VALUE=URI;X-ADDRESS=Woolgoolga Lake Landcare Site Killawarra Close Safety Beach NSW 2456 Australia;X-APPLE-RADIUS=500;X-TITLE=Killawarra Close:geo:153.1950922,-30.0977301
END:VEVENT
BEGIN:VEVENT
DTSTART;TZID=Australia/Melbourne:20260223T080000
DTEND;TZID=Australia/Melbourne:20260223T100000
DTSTAMP:20260422T111436
CREATED:20260120T035428Z
LAST-MODIFIED:20260120T035428Z
UID:10005645-1771833600-1771840800@www.coffsharbourlandcare.org.au
SUMMARY:Woolgoolga Lake Landcare 2026
DESCRIPTION:Meets every Monday 8:00 to 10:00 AM. Please contact coordinator for meet location.
URL:https://www.coffsharbourlandcare.org.au/event/woolgoolga-lake-landcare-2026/2026-02-23/
LOCATION:Woolgoolga Lake Landcare Site\, Killawarra Close\, Safety Beach\, NSW\, 2456\, Australia
CATEGORIES:Woolgoolga Lake,Working Bees
ORGANIZER;CN="Christopher Blair":MAILTO:chrl@coffslandcare.org.au
GEO:-30.0977301;153.1950922
X-APPLE-STRUCTURED-LOCATION;VALUE=URI;X-ADDRESS=Woolgoolga Lake Landcare Site Killawarra Close Safety Beach NSW 2456 Australia;X-APPLE-RADIUS=500;X-TITLE=Killawarra Close:geo:153.1950922,-30.0977301
END:VEVENT
BEGIN:VEVENT
DTSTART;TZID=Australia/Melbourne:20260216T080000
DTEND;TZID=Australia/Melbourne:20260216T100000
DTSTAMP:20260422T111436
CREATED:20260120T035428Z
LAST-MODIFIED:20260120T035428Z
UID:10005644-1771228800-1771236000@www.coffsharbourlandcare.org.au
SUMMARY:Woolgoolga Lake Landcare 2026
DESCRIPTION:Meets every Monday 8:00 to 10:00 AM. Please contact coordinator for meet location.
URL:https://www.coffsharbourlandcare.org.au/event/woolgoolga-lake-landcare-2026/2026-02-16/
LOCATION:Woolgoolga Lake Landcare Site\, Killawarra Close\, Safety Beach\, NSW\, 2456\, Australia
CATEGORIES:Woolgoolga Lake,Working Bees
ORGANIZER;CN="Christopher Blair":MAILTO:chrl@coffslandcare.org.au
GEO:-30.0977301;153.1950922
X-APPLE-STRUCTURED-LOCATION;VALUE=URI;X-ADDRESS=Woolgoolga Lake Landcare Site Killawarra Close Safety Beach NSW 2456 Australia;X-APPLE-RADIUS=500;X-TITLE=Killawarra Close:geo:153.1950922,-30.0977301
END:VEVENT
BEGIN:VEVENT
DTSTART;TZID=Australia/Melbourne:20260209T080000
DTEND;TZID=Australia/Melbourne:20260209T100000
DTSTAMP:20260422T111436
CREATED:20260120T035428Z
LAST-MODIFIED:20260120T035428Z
UID:10005643-1770624000-1770631200@www.coffsharbourlandcare.org.au
SUMMARY:Woolgoolga Lake Landcare 2026
DESCRIPTION:Meets every Monday 8:00 to 10:00 AM. Please contact coordinator for meet location.
URL:https://www.coffsharbourlandcare.org.au/event/woolgoolga-lake-landcare-2026/2026-02-09/
LOCATION:Woolgoolga Lake Landcare Site\, Killawarra Close\, Safety Beach\, NSW\, 2456\, Australia
CATEGORIES:Woolgoolga Lake,Working Bees
ORGANIZER;CN="Christopher Blair":MAILTO:chrl@coffslandcare.org.au
GEO:-30.0977301;153.1950922
X-APPLE-STRUCTURED-LOCATION;VALUE=URI;X-ADDRESS=Woolgoolga Lake Landcare Site Killawarra Close Safety Beach NSW 2456 Australia;X-APPLE-RADIUS=500;X-TITLE=Killawarra Close:geo:153.1950922,-30.0977301
END:VEVENT
BEGIN:VEVENT
DTSTART;TZID=Australia/Melbourne:20260202T080000
DTEND;TZID=Australia/Melbourne:20260202T100000
DTSTAMP:20260422T111436
CREATED:20260120T035428Z
LAST-MODIFIED:20260120T035428Z
UID:10005642-1770019200-1770026400@www.coffsharbourlandcare.org.au
SUMMARY:Woolgoolga Lake Landcare 2026
DESCRIPTION:Meets every Monday 8:00 to 10:00 AM. Please contact coordinator for meet location.
URL:https://www.coffsharbourlandcare.org.au/event/woolgoolga-lake-landcare-2026/2026-02-02/
LOCATION:Woolgoolga Lake Landcare Site\, Killawarra Close\, Safety Beach\, NSW\, 2456\, Australia
CATEGORIES:Woolgoolga Lake,Working Bees
ORGANIZER;CN="Christopher Blair":MAILTO:chrl@coffslandcare.org.au
GEO:-30.0977301;153.1950922
X-APPLE-STRUCTURED-LOCATION;VALUE=URI;X-ADDRESS=Woolgoolga Lake Landcare Site Killawarra Close Safety Beach NSW 2456 Australia;X-APPLE-RADIUS=500;X-TITLE=Killawarra Close:geo:153.1950922,-30.0977301
END:VEVENT
BEGIN:VEVENT
DTSTART;TZID=Australia/Melbourne:20251222T080000
DTEND;TZID=Australia/Melbourne:20251222T100000
DTSTAMP:20260422T111436
CREATED:20250224T000027Z
LAST-MODIFIED:20250224T000027Z
UID:10005109-1766390400-1766397600@www.coffsharbourlandcare.org.au
SUMMARY:Woolgoolga Lake Landcare
DESCRIPTION:Days and times may vary\, please contact site coordinator
URL:https://www.coffsharbourlandcare.org.au/event/woolgoolga-lake-landcare/2025-12-22/
CATEGORIES:Working Bees
ORGANIZER;CN="Christopher Blair":MAILTO:chrl@coffslandcare.org.au
END:VEVENT
BEGIN:VEVENT
DTSTART;TZID=Australia/Melbourne:20251215T080000
DTEND;TZID=Australia/Melbourne:20251215T100000
DTSTAMP:20260422T111436
CREATED:20250224T000027Z
LAST-MODIFIED:20250224T000027Z
UID:10005108-1765785600-1765792800@www.coffsharbourlandcare.org.au
SUMMARY:Woolgoolga Lake Landcare
DESCRIPTION:Days and times may vary\, please contact site coordinator
URL:https://www.coffsharbourlandcare.org.au/event/woolgoolga-lake-landcare/2025-12-15/
CATEGORIES:Working Bees
ORGANIZER;CN="Christopher Blair":MAILTO:chrl@coffslandcare.org.au
END:VEVENT
BEGIN:VEVENT
DTSTART;TZID=Australia/Melbourne:20251213T080000
DTEND;TZID=Australia/Melbourne:20251213T100000
DTSTAMP:20260422T111436
CREATED:20250224T000412Z
LAST-MODIFIED:20250224T000412Z
UID:10005120-1765612800-1765620000@www.coffsharbourlandcare.org.au
SUMMARY:Woolgoolga Lake Landcare Day 2
DESCRIPTION:Days and times may vary\, please contact site coordinator
URL:https://www.coffsharbourlandcare.org.au/event/woolgoolga-lake-landcare-day-2/2025-12-13/
CATEGORIES:Working Bees
ORGANIZER;CN="Christopher Blair":MAILTO:chrl@coffslandcare.org.au
END:VEVENT
BEGIN:VEVENT
DTSTART;TZID=Australia/Melbourne:20251208T080000
DTEND;TZID=Australia/Melbourne:20251208T100000
DTSTAMP:20260422T111436
CREATED:20250224T000027Z
LAST-MODIFIED:20250224T000027Z
UID:10005107-1765180800-1765188000@www.coffsharbourlandcare.org.au
SUMMARY:Woolgoolga Lake Landcare
DESCRIPTION:Days and times may vary\, please contact site coordinator
URL:https://www.coffsharbourlandcare.org.au/event/woolgoolga-lake-landcare/2025-12-08/
CATEGORIES:Working Bees
ORGANIZER;CN="Christopher Blair":MAILTO:chrl@coffslandcare.org.au
END:VEVENT
BEGIN:VEVENT
DTSTART;TZID=Australia/Melbourne:20251201T080000
DTEND;TZID=Australia/Melbourne:20251201T100000
DTSTAMP:20260422T111436
CREATED:20250224T000027Z
LAST-MODIFIED:20250224T000027Z
UID:10005106-1764576000-1764583200@www.coffsharbourlandcare.org.au
SUMMARY:Woolgoolga Lake Landcare
DESCRIPTION:Days and times may vary\, please contact site coordinator
URL:https://www.coffsharbourlandcare.org.au/event/woolgoolga-lake-landcare/2025-12-01/
CATEGORIES:Working Bees
ORGANIZER;CN="Christopher Blair":MAILTO:chrl@coffslandcare.org.au
END:VEVENT
BEGIN:VEVENT
DTSTART;TZID=Australia/Melbourne:20251124T080000
DTEND;TZID=Australia/Melbourne:20251124T100000
DTSTAMP:20260422T111436
CREATED:20250224T000027Z
LAST-MODIFIED:20250224T000027Z
UID:10005105-1763971200-1763978400@www.coffsharbourlandcare.org.au
SUMMARY:Woolgoolga Lake Landcare
DESCRIPTION:Days and times may vary\, please contact site coordinator
URL:https://www.coffsharbourlandcare.org.au/event/woolgoolga-lake-landcare/2025-11-24/
CATEGORIES:Working Bees
ORGANIZER;CN="Christopher Blair":MAILTO:chrl@coffslandcare.org.au
END:VEVENT
BEGIN:VEVENT
DTSTART;TZID=Australia/Melbourne:20251122T080000
DTEND;TZID=Australia/Melbourne:20251122T100000
DTSTAMP:20260422T111436
CREATED:20250224T000557Z
LAST-MODIFIED:20250224T001123Z
UID:10005130-1763798400-1763805600@www.coffsharbourlandcare.org.au
SUMMARY:Woolgoolga Lake Landcare Day 3
DESCRIPTION:Days and times may vary\, please contact site coordinator
URL:https://www.coffsharbourlandcare.org.au/event/woolgoolga-lake-landcare-day-3/2025-11-22/
CATEGORIES:Working Bees
ORGANIZER;CN="Christopher Blair":MAILTO:chrl@coffslandcare.org.au
END:VEVENT
BEGIN:VEVENT
DTSTART;TZID=Australia/Melbourne:20251117T080000
DTEND;TZID=Australia/Melbourne:20251117T100000
DTSTAMP:20260422T111436
CREATED:20250224T000027Z
LAST-MODIFIED:20250224T000027Z
UID:10005104-1763366400-1763373600@www.coffsharbourlandcare.org.au
SUMMARY:Woolgoolga Lake Landcare
DESCRIPTION:Days and times may vary\, please contact site coordinator
URL:https://www.coffsharbourlandcare.org.au/event/woolgoolga-lake-landcare/2025-11-17/
CATEGORIES:Working Bees
ORGANIZER;CN="Christopher Blair":MAILTO:chrl@coffslandcare.org.au
END:VEVENT
BEGIN:VEVENT
DTSTART;TZID=Australia/Melbourne:20251110T080000
DTEND;TZID=Australia/Melbourne:20251110T100000
DTSTAMP:20260422T111436
CREATED:20250224T000027Z
LAST-MODIFIED:20250224T000027Z
UID:10005103-1762761600-1762768800@www.coffsharbourlandcare.org.au
SUMMARY:Woolgoolga Lake Landcare
DESCRIPTION:Days and times may vary\, please contact site coordinator
URL:https://www.coffsharbourlandcare.org.au/event/woolgoolga-lake-landcare/2025-11-10/
CATEGORIES:Working Bees
ORGANIZER;CN="Christopher Blair":MAILTO:chrl@coffslandcare.org.au
END:VEVENT
BEGIN:VEVENT
DTSTART;TZID=Australia/Melbourne:20251108T080000
DTEND;TZID=Australia/Melbourne:20251108T100000
DTSTAMP:20260422T111436
CREATED:20250224T000412Z
LAST-MODIFIED:20250224T000412Z
UID:10005119-1762588800-1762596000@www.coffsharbourlandcare.org.au
SUMMARY:Woolgoolga Lake Landcare Day 2
DESCRIPTION:Days and times may vary\, please contact site coordinator
URL:https://www.coffsharbourlandcare.org.au/event/woolgoolga-lake-landcare-day-2/2025-11-08/
CATEGORIES:Working Bees
ORGANIZER;CN="Christopher Blair":MAILTO:chrl@coffslandcare.org.au
END:VEVENT
BEGIN:VEVENT
DTSTART;TZID=Australia/Melbourne:20251103T080000
DTEND;TZID=Australia/Melbourne:20251103T100000
DTSTAMP:20260422T111436
CREATED:20250224T000027Z
LAST-MODIFIED:20250224T000027Z
UID:10005102-1762156800-1762164000@www.coffsharbourlandcare.org.au
SUMMARY:Woolgoolga Lake Landcare
DESCRIPTION:Days and times may vary\, please contact site coordinator
URL:https://www.coffsharbourlandcare.org.au/event/woolgoolga-lake-landcare/2025-11-03/
CATEGORIES:Working Bees
ORGANIZER;CN="Christopher Blair":MAILTO:chrl@coffslandcare.org.au
END:VEVENT
BEGIN:VEVENT
DTSTART;TZID=Australia/Melbourne:20251027T080000
DTEND;TZID=Australia/Melbourne:20251027T100000
DTSTAMP:20260422T111436
CREATED:20250224T000027Z
LAST-MODIFIED:20250224T000027Z
UID:10005101-1761552000-1761559200@www.coffsharbourlandcare.org.au
SUMMARY:Woolgoolga Lake Landcare
DESCRIPTION:Days and times may vary\, please contact site coordinator
URL:https://www.coffsharbourlandcare.org.au/event/woolgoolga-lake-landcare/2025-10-27/
CATEGORIES:Working Bees
ORGANIZER;CN="Christopher Blair":MAILTO:chrl@coffslandcare.org.au
END:VEVENT
BEGIN:VEVENT
DTSTART;TZID=Australia/Melbourne:20251025T080000
DTEND;TZID=Australia/Melbourne:20251025T100000
DTSTAMP:20260422T111436
CREATED:20250224T000557Z
LAST-MODIFIED:20250224T001123Z
UID:10005129-1761379200-1761386400@www.coffsharbourlandcare.org.au
SUMMARY:Woolgoolga Lake Landcare Day 3
DESCRIPTION:Days and times may vary\, please contact site coordinator
URL:https://www.coffsharbourlandcare.org.au/event/woolgoolga-lake-landcare-day-3/2025-10-25/
CATEGORIES:Working Bees
ORGANIZER;CN="Christopher Blair":MAILTO:chrl@coffslandcare.org.au
END:VEVENT
BEGIN:VEVENT
DTSTART;TZID=Australia/Melbourne:20251020T080000
DTEND;TZID=Australia/Melbourne:20251020T100000
DTSTAMP:20260422T111436
CREATED:20250224T000027Z
LAST-MODIFIED:20250224T000027Z
UID:10005100-1760947200-1760954400@www.coffsharbourlandcare.org.au
SUMMARY:Woolgoolga Lake Landcare
DESCRIPTION:Days and times may vary\, please contact site coordinator
URL:https://www.coffsharbourlandcare.org.au/event/woolgoolga-lake-landcare/2025-10-20/
CATEGORIES:Working Bees
ORGANIZER;CN="Christopher Blair":MAILTO:chrl@coffslandcare.org.au
END:VEVENT
BEGIN:VEVENT
DTSTART;TZID=Australia/Melbourne:20251013T080000
DTEND;TZID=Australia/Melbourne:20251013T100000
DTSTAMP:20260422T111436
CREATED:20250224T000027Z
LAST-MODIFIED:20250224T000027Z
UID:10005099-1760342400-1760349600@www.coffsharbourlandcare.org.au
SUMMARY:Woolgoolga Lake Landcare
DESCRIPTION:Days and times may vary\, please contact site coordinator
URL:https://www.coffsharbourlandcare.org.au/event/woolgoolga-lake-landcare/2025-10-13/
CATEGORIES:Working Bees
ORGANIZER;CN="Christopher Blair":MAILTO:chrl@coffslandcare.org.au
END:VEVENT
BEGIN:VEVENT
DTSTART;TZID=Australia/Melbourne:20251011T080000
DTEND;TZID=Australia/Melbourne:20251011T100000
DTSTAMP:20260422T111436
CREATED:20250224T000412Z
LAST-MODIFIED:20250224T000412Z
UID:10005118-1760169600-1760176800@www.coffsharbourlandcare.org.au
SUMMARY:Woolgoolga Lake Landcare Day 2
DESCRIPTION:Days and times may vary\, please contact site coordinator
URL:https://www.coffsharbourlandcare.org.au/event/woolgoolga-lake-landcare-day-2/2025-10-11/
CATEGORIES:Working Bees
ORGANIZER;CN="Christopher Blair":MAILTO:chrl@coffslandcare.org.au
END:VEVENT
BEGIN:VEVENT
DTSTART;TZID=Australia/Melbourne:20251006T080000
DTEND;TZID=Australia/Melbourne:20251006T100000
DTSTAMP:20260422T111436
CREATED:20250224T000027Z
LAST-MODIFIED:20250224T000027Z
UID:10005098-1759737600-1759744800@www.coffsharbourlandcare.org.au
SUMMARY:Woolgoolga Lake Landcare
DESCRIPTION:Days and times may vary\, please contact site coordinator
URL:https://www.coffsharbourlandcare.org.au/event/woolgoolga-lake-landcare/2025-10-06/
CATEGORIES:Working Bees
ORGANIZER;CN="Christopher Blair":MAILTO:chrl@coffslandcare.org.au
END:VEVENT
BEGIN:VEVENT
DTSTART;TZID=Australia/Melbourne:20250929T080000
DTEND;TZID=Australia/Melbourne:20250929T100000
DTSTAMP:20260422T111436
CREATED:20250224T000027Z
LAST-MODIFIED:20250224T000027Z
UID:10005097-1759132800-1759140000@www.coffsharbourlandcare.org.au
SUMMARY:Woolgoolga Lake Landcare
DESCRIPTION:Days and times may vary\, please contact site coordinator
URL:https://www.coffsharbourlandcare.org.au/event/woolgoolga-lake-landcare/2025-09-29/
CATEGORIES:Working Bees
ORGANIZER;CN="Christopher Blair":MAILTO:chrl@coffslandcare.org.au
END:VEVENT
END:VCALENDAR