BEGIN:VCALENDAR
VERSION:2.0
PRODID:-//Coffs Harbour Regional Landcare - ECPv6.15.20//NONSGML v1.0//EN
CALSCALE:GREGORIAN
METHOD:PUBLISH
X-ORIGINAL-URL:https://www.coffsharbourlandcare.org.au
X-WR-CALDESC:Events for Coffs Harbour Regional Landcare
REFRESH-INTERVAL;VALUE=DURATION:PT1H
X-Robots-Tag:noindex
X-PUBLISHED-TTL:PT1H
BEGIN:VTIMEZONE
TZID:Australia/Melbourne
BEGIN:STANDARD
TZOFFSETFROM:+1100
TZOFFSETTO:+1000
TZNAME:AEST
DTSTART:20220402T160000
END:STANDARD
BEGIN:DAYLIGHT
TZOFFSETFROM:+1000
TZOFFSETTO:+1100
TZNAME:AEDT
DTSTART:20221001T160000
END:DAYLIGHT
BEGIN:STANDARD
TZOFFSETFROM:+1100
TZOFFSETTO:+1000
TZNAME:AEST
DTSTART:20230401T160000
END:STANDARD
BEGIN:DAYLIGHT
TZOFFSETFROM:+1000
TZOFFSETTO:+1100
TZNAME:AEDT
DTSTART:20230930T160000
END:DAYLIGHT
BEGIN:STANDARD
TZOFFSETFROM:+1100
TZOFFSETTO:+1000
TZNAME:AEST
DTSTART:20240406T160000
END:STANDARD
BEGIN:DAYLIGHT
TZOFFSETFROM:+1000
TZOFFSETTO:+1100
TZNAME:AEDT
DTSTART:20241005T160000
END:DAYLIGHT
END:VTIMEZONE
BEGIN:VEVENT
DTSTART;TZID=Australia/Melbourne:20230908T170000
DTEND;TZID=Australia/Melbourne:20230908T190000
DTSTAMP:20260422T023350
CREATED:20230829T022601Z
LAST-MODIFIED:20230829T022955Z
UID:10002288-1694192400-1694199600@www.coffsharbourlandcare.org.au
SUMMARY:Platy Project
DESCRIPTION:Hosted by Clarence Landcare\, this is your chance to see and learn about local platys. \nFor further details and registration\, please contact Clarence Landcare.
URL:https://www.coffsharbourlandcare.org.au/event/platy-project/2023-09-08/
LOCATION:Cartmill Park\, Nymboida
CATEGORIES:Events
ATTACH;FMTTYPE=image/png:https://www.coffsharbourlandcare.org.au/wp-content/uploads/Platy-Project.png
ORGANIZER;CN="Clarence Landcare":MAILTO:landcare@clarencelandcare.com.au
END:VEVENT
BEGIN:VEVENT
DTSTART;TZID=Australia/Melbourne:20230905T063000
DTEND;TZID=Australia/Melbourne:20230905T083000
DTSTAMP:20260422T023350
CREATED:20230829T022601Z
LAST-MODIFIED:20230829T022955Z
UID:10002286-1693895400-1693902600@www.coffsharbourlandcare.org.au
SUMMARY:Platy Project
DESCRIPTION:Hosted by Clarence Landcare\, this is your chance to see and learn about local platys. \nFor further details and registration\, please contact Clarence Landcare.
URL:https://www.coffsharbourlandcare.org.au/event/platy-project/2023-09-05/
LOCATION:Cartmill Park\, Nymboida
CATEGORIES:Events
ATTACH;FMTTYPE=image/png:https://www.coffsharbourlandcare.org.au/wp-content/uploads/Platy-Project.png
ORGANIZER;CN="Clarence Landcare":MAILTO:landcare@clarencelandcare.com.au
END:VEVENT
END:VCALENDAR