BEGIN:VCALENDAR
VERSION:2.0
PRODID:-//Coffs Harbour Regional Landcare - ECPv6.15.20//NONSGML v1.0//EN
CALSCALE:GREGORIAN
METHOD:PUBLISH
X-WR-CALNAME:Coffs Harbour Regional Landcare
X-ORIGINAL-URL:https://www.coffsharbourlandcare.org.au
X-WR-CALDESC:Events for Coffs Harbour Regional Landcare
REFRESH-INTERVAL;VALUE=DURATION:PT1H
X-Robots-Tag:noindex
X-PUBLISHED-TTL:PT1H
BEGIN:VTIMEZONE
TZID:Australia/Melbourne
BEGIN:STANDARD
TZOFFSETFROM:+1100
TZOFFSETTO:+1000
TZNAME:AEST
DTSTART:20240406T160000
END:STANDARD
BEGIN:DAYLIGHT
TZOFFSETFROM:+1000
TZOFFSETTO:+1100
TZNAME:AEDT
DTSTART:20241005T160000
END:DAYLIGHT
BEGIN:STANDARD
TZOFFSETFROM:+1100
TZOFFSETTO:+1000
TZNAME:AEST
DTSTART:20250405T160000
END:STANDARD
BEGIN:DAYLIGHT
TZOFFSETFROM:+1000
TZOFFSETTO:+1100
TZNAME:AEDT
DTSTART:20251004T160000
END:DAYLIGHT
BEGIN:STANDARD
TZOFFSETFROM:+1100
TZOFFSETTO:+1000
TZNAME:AEST
DTSTART:20260404T160000
END:STANDARD
BEGIN:DAYLIGHT
TZOFFSETFROM:+1000
TZOFFSETTO:+1100
TZNAME:AEDT
DTSTART:20261003T160000
END:DAYLIGHT
END:VTIMEZONE
BEGIN:VEVENT
DTSTART;TZID=Australia/Melbourne:20251207T080000
DTEND;TZID=Australia/Melbourne:20251207T100000
DTSTAMP:20260422T035048
CREATED:20250224T005432Z
LAST-MODIFIED:20250224T005505Z
UID:10005394-1765094400-1765101600@www.coffsharbourlandcare.org.au
SUMMARY:Serenity Landcare
DESCRIPTION:1st Sunday of each month\, 8:00am. Volunteers regularly work along Serenity Beach and Look at me now Headland.
URL:https://www.coffsharbourlandcare.org.au/event/serenity-landcare-2-2/2025-12-07/
LOCATION:Serenity Landcare site\, Look at me now Headland walk\, Emerald Beach\, New South Wales\, Australia
CATEGORIES:Working Bees
ORGANIZER;CN="Jan Cartwright":MAILTO:contact@coffsharbourlandcare.org.au
GEO:-30.1756875;153.1866875
X-APPLE-STRUCTURED-LOCATION;VALUE=URI;X-ADDRESS=Serenity Landcare site Look at me now Headland walk Emerald Beach New South Wales Australia;X-APPLE-RADIUS=500;X-TITLE=Look at me now Headland walk:geo:153.1866875,-30.1756875
END:VEVENT
BEGIN:VEVENT
DTSTART;TZID=Australia/Melbourne:20251102T080000
DTEND;TZID=Australia/Melbourne:20251102T100000
DTSTAMP:20260422T035048
CREATED:20250224T005432Z
LAST-MODIFIED:20250224T005505Z
UID:10005393-1762070400-1762077600@www.coffsharbourlandcare.org.au
SUMMARY:Serenity Landcare
DESCRIPTION:1st Sunday of each month\, 8:00am. Volunteers regularly work along Serenity Beach and Look at me now Headland.
URL:https://www.coffsharbourlandcare.org.au/event/serenity-landcare-2-2/2025-11-02/
LOCATION:Serenity Landcare site\, Look at me now Headland walk\, Emerald Beach\, New South Wales\, Australia
CATEGORIES:Working Bees
ORGANIZER;CN="Jan Cartwright":MAILTO:contact@coffsharbourlandcare.org.au
GEO:-30.1756875;153.1866875
X-APPLE-STRUCTURED-LOCATION;VALUE=URI;X-ADDRESS=Serenity Landcare site Look at me now Headland walk Emerald Beach New South Wales Australia;X-APPLE-RADIUS=500;X-TITLE=Look at me now Headland walk:geo:153.1866875,-30.1756875
END:VEVENT
BEGIN:VEVENT
DTSTART;TZID=Australia/Melbourne:20251005T080000
DTEND;TZID=Australia/Melbourne:20251005T100000
DTSTAMP:20260422T035048
CREATED:20250224T005432Z
LAST-MODIFIED:20250224T005505Z
UID:10005392-1759651200-1759658400@www.coffsharbourlandcare.org.au
SUMMARY:Serenity Landcare
DESCRIPTION:1st Sunday of each month\, 8:00am. Volunteers regularly work along Serenity Beach and Look at me now Headland.
URL:https://www.coffsharbourlandcare.org.au/event/serenity-landcare-2-2/2025-10-05/
LOCATION:Serenity Landcare site\, Look at me now Headland walk\, Emerald Beach\, New South Wales\, Australia
CATEGORIES:Working Bees
ORGANIZER;CN="Jan Cartwright":MAILTO:contact@coffsharbourlandcare.org.au
GEO:-30.1756875;153.1866875
X-APPLE-STRUCTURED-LOCATION;VALUE=URI;X-ADDRESS=Serenity Landcare site Look at me now Headland walk Emerald Beach New South Wales Australia;X-APPLE-RADIUS=500;X-TITLE=Look at me now Headland walk:geo:153.1866875,-30.1756875
END:VEVENT
BEGIN:VEVENT
DTSTART;TZID=Australia/Melbourne:20250907T080000
DTEND;TZID=Australia/Melbourne:20250907T100000
DTSTAMP:20260422T035048
CREATED:20250224T005432Z
LAST-MODIFIED:20250224T005505Z
UID:10005391-1757232000-1757239200@www.coffsharbourlandcare.org.au
SUMMARY:Serenity Landcare
DESCRIPTION:1st Sunday of each month\, 8:00am. Volunteers regularly work along Serenity Beach and Look at me now Headland.
URL:https://www.coffsharbourlandcare.org.au/event/serenity-landcare-2-2/2025-09-07/
LOCATION:Serenity Landcare site\, Look at me now Headland walk\, Emerald Beach\, New South Wales\, Australia
CATEGORIES:Working Bees
ORGANIZER;CN="Jan Cartwright":MAILTO:contact@coffsharbourlandcare.org.au
GEO:-30.1756875;153.1866875
X-APPLE-STRUCTURED-LOCATION;VALUE=URI;X-ADDRESS=Serenity Landcare site Look at me now Headland walk Emerald Beach New South Wales Australia;X-APPLE-RADIUS=500;X-TITLE=Look at me now Headland walk:geo:153.1866875,-30.1756875
END:VEVENT
BEGIN:VEVENT
DTSTART;TZID=Australia/Melbourne:20250803T080000
DTEND;TZID=Australia/Melbourne:20250803T100000
DTSTAMP:20260422T035048
CREATED:20250224T005432Z
LAST-MODIFIED:20250224T005505Z
UID:10005390-1754208000-1754215200@www.coffsharbourlandcare.org.au
SUMMARY:Serenity Landcare
DESCRIPTION:1st Sunday of each month\, 8:00am. Volunteers regularly work along Serenity Beach and Look at me now Headland.
URL:https://www.coffsharbourlandcare.org.au/event/serenity-landcare-2-2/2025-08-03/
LOCATION:Serenity Landcare site\, Look at me now Headland walk\, Emerald Beach\, New South Wales\, Australia
CATEGORIES:Working Bees
ORGANIZER;CN="Jan Cartwright":MAILTO:contact@coffsharbourlandcare.org.au
GEO:-30.1756875;153.1866875
X-APPLE-STRUCTURED-LOCATION;VALUE=URI;X-ADDRESS=Serenity Landcare site Look at me now Headland walk Emerald Beach New South Wales Australia;X-APPLE-RADIUS=500;X-TITLE=Look at me now Headland walk:geo:153.1866875,-30.1756875
END:VEVENT
BEGIN:VEVENT
DTSTART;TZID=Australia/Melbourne:20250706T080000
DTEND;TZID=Australia/Melbourne:20250706T100000
DTSTAMP:20260422T035048
CREATED:20250224T005432Z
LAST-MODIFIED:20250224T005505Z
UID:10005389-1751788800-1751796000@www.coffsharbourlandcare.org.au
SUMMARY:Serenity Landcare
DESCRIPTION:1st Sunday of each month\, 8:00am. Volunteers regularly work along Serenity Beach and Look at me now Headland.
URL:https://www.coffsharbourlandcare.org.au/event/serenity-landcare-2-2/2025-07-06/
LOCATION:Serenity Landcare site\, Look at me now Headland walk\, Emerald Beach\, New South Wales\, Australia
CATEGORIES:Working Bees
ORGANIZER;CN="Jan Cartwright":MAILTO:contact@coffsharbourlandcare.org.au
GEO:-30.1756875;153.1866875
X-APPLE-STRUCTURED-LOCATION;VALUE=URI;X-ADDRESS=Serenity Landcare site Look at me now Headland walk Emerald Beach New South Wales Australia;X-APPLE-RADIUS=500;X-TITLE=Look at me now Headland walk:geo:153.1866875,-30.1756875
END:VEVENT
BEGIN:VEVENT
DTSTART;TZID=Australia/Melbourne:20250601T080000
DTEND;TZID=Australia/Melbourne:20250601T100000
DTSTAMP:20260422T035048
CREATED:20250224T005432Z
LAST-MODIFIED:20250224T005505Z
UID:10005388-1748764800-1748772000@www.coffsharbourlandcare.org.au
SUMMARY:Serenity Landcare
DESCRIPTION:1st Sunday of each month\, 8:00am. Volunteers regularly work along Serenity Beach and Look at me now Headland.
URL:https://www.coffsharbourlandcare.org.au/event/serenity-landcare-2-2/2025-06-01/
LOCATION:Serenity Landcare site\, Look at me now Headland walk\, Emerald Beach\, New South Wales\, Australia
CATEGORIES:Working Bees
ORGANIZER;CN="Jan Cartwright":MAILTO:contact@coffsharbourlandcare.org.au
GEO:-30.1756875;153.1866875
X-APPLE-STRUCTURED-LOCATION;VALUE=URI;X-ADDRESS=Serenity Landcare site Look at me now Headland walk Emerald Beach New South Wales Australia;X-APPLE-RADIUS=500;X-TITLE=Look at me now Headland walk:geo:153.1866875,-30.1756875
END:VEVENT
BEGIN:VEVENT
DTSTART;TZID=Australia/Melbourne:20250504T080000
DTEND;TZID=Australia/Melbourne:20250504T100000
DTSTAMP:20260422T035048
CREATED:20250224T005432Z
LAST-MODIFIED:20250224T005505Z
UID:10005387-1746345600-1746352800@www.coffsharbourlandcare.org.au
SUMMARY:Serenity Landcare
DESCRIPTION:1st Sunday of each month\, 8:00am. Volunteers regularly work along Serenity Beach and Look at me now Headland.
URL:https://www.coffsharbourlandcare.org.au/event/serenity-landcare-2-2/2025-05-04/
LOCATION:Serenity Landcare site\, Look at me now Headland walk\, Emerald Beach\, New South Wales\, Australia
CATEGORIES:Working Bees
ORGANIZER;CN="Jan Cartwright":MAILTO:contact@coffsharbourlandcare.org.au
GEO:-30.1756875;153.1866875
X-APPLE-STRUCTURED-LOCATION;VALUE=URI;X-ADDRESS=Serenity Landcare site Look at me now Headland walk Emerald Beach New South Wales Australia;X-APPLE-RADIUS=500;X-TITLE=Look at me now Headland walk:geo:153.1866875,-30.1756875
END:VEVENT
BEGIN:VEVENT
DTSTART;TZID=Australia/Melbourne:20250406T080000
DTEND;TZID=Australia/Melbourne:20250406T100000
DTSTAMP:20260422T035048
CREATED:20250224T005432Z
LAST-MODIFIED:20250224T005505Z
UID:10005386-1743926400-1743933600@www.coffsharbourlandcare.org.au
SUMMARY:Serenity Landcare
DESCRIPTION:1st Sunday of each month\, 8:00am. Volunteers regularly work along Serenity Beach and Look at me now Headland.
URL:https://www.coffsharbourlandcare.org.au/event/serenity-landcare-2-2/2025-04-06/
LOCATION:Serenity Landcare site\, Look at me now Headland walk\, Emerald Beach\, New South Wales\, Australia
CATEGORIES:Working Bees
ORGANIZER;CN="Jan Cartwright":MAILTO:contact@coffsharbourlandcare.org.au
GEO:-30.1756875;153.1866875
X-APPLE-STRUCTURED-LOCATION;VALUE=URI;X-ADDRESS=Serenity Landcare site Look at me now Headland walk Emerald Beach New South Wales Australia;X-APPLE-RADIUS=500;X-TITLE=Look at me now Headland walk:geo:153.1866875,-30.1756875
END:VEVENT
BEGIN:VEVENT
DTSTART;TZID=Australia/Melbourne:20250302T080000
DTEND;TZID=Australia/Melbourne:20250302T100000
DTSTAMP:20260422T035048
CREATED:20250224T005432Z
LAST-MODIFIED:20250224T005505Z
UID:10003910-1740902400-1740909600@www.coffsharbourlandcare.org.au
SUMMARY:Serenity Landcare
DESCRIPTION:1st Sunday of each month\, 8:00am. Volunteers regularly work along Serenity Beach and Look at me now Headland.
URL:https://www.coffsharbourlandcare.org.au/event/serenity-landcare-2-2/2025-03-02/
LOCATION:Serenity Landcare site\, Look at me now Headland walk\, Emerald Beach\, New South Wales\, Australia
CATEGORIES:Working Bees
ORGANIZER;CN="Jan Cartwright":MAILTO:contact@coffsharbourlandcare.org.au
GEO:-30.1756875;153.1866875
X-APPLE-STRUCTURED-LOCATION;VALUE=URI;X-ADDRESS=Serenity Landcare site Look at me now Headland walk Emerald Beach New South Wales Australia;X-APPLE-RADIUS=500;X-TITLE=Look at me now Headland walk:geo:153.1866875,-30.1756875
END:VEVENT
END:VCALENDAR