BEGIN:VCALENDAR
VERSION:2.0
PRODID:-//Coffs Harbour Regional Landcare - ECPv6.15.20//NONSGML v1.0//EN
CALSCALE:GREGORIAN
METHOD:PUBLISH
X-ORIGINAL-URL:https://www.coffsharbourlandcare.org.au
X-WR-CALDESC:Events for Coffs Harbour Regional Landcare
REFRESH-INTERVAL;VALUE=DURATION:PT1H
X-Robots-Tag:noindex
X-PUBLISHED-TTL:PT1H
BEGIN:VTIMEZONE
TZID:Australia/Melbourne
BEGIN:STANDARD
TZOFFSETFROM:+1100
TZOFFSETTO:+1000
TZNAME:AEST
DTSTART:20240406T160000
END:STANDARD
BEGIN:DAYLIGHT
TZOFFSETFROM:+1000
TZOFFSETTO:+1100
TZNAME:AEDT
DTSTART:20241005T160000
END:DAYLIGHT
BEGIN:STANDARD
TZOFFSETFROM:+1100
TZOFFSETTO:+1000
TZNAME:AEST
DTSTART:20250405T160000
END:STANDARD
BEGIN:DAYLIGHT
TZOFFSETFROM:+1000
TZOFFSETTO:+1100
TZNAME:AEDT
DTSTART:20251004T160000
END:DAYLIGHT
BEGIN:STANDARD
TZOFFSETFROM:+1100
TZOFFSETTO:+1000
TZNAME:AEST
DTSTART:20260404T160000
END:STANDARD
BEGIN:DAYLIGHT
TZOFFSETFROM:+1000
TZOFFSETTO:+1100
TZNAME:AEDT
DTSTART:20261003T160000
END:DAYLIGHT
BEGIN:STANDARD
TZOFFSETFROM:+1100
TZOFFSETTO:+1000
TZNAME:AEST
DTSTART:20270403T160000
END:STANDARD
BEGIN:DAYLIGHT
TZOFFSETFROM:+1000
TZOFFSETTO:+1100
TZNAME:AEDT
DTSTART:20271002T160000
END:DAYLIGHT
END:VTIMEZONE
BEGIN:VEVENT
DTSTART;TZID=Australia/Melbourne:20260301T080000
DTEND;TZID=Australia/Melbourne:20260301T110000
DTSTAMP:20260422T183107
CREATED:20260217T012339Z
LAST-MODIFIED:20260217T012448Z
UID:10005920-1772352000-1772362800@www.coffsharbourlandcare.org.au
SUMMARY:Clean Up Australia Day March 1
DESCRIPTION:Friends of Coffs Creek with OzFish\n9-11am \nMeet at CHRL Office – 1/14A Lawson Cres\, Coffs Harbour\nJoin us for a BBQ after the clean up \nRegister your interest via email \nKorora Landcare\n9-11am \nRegister \nRed Rock Landcare\n9am-12pm \nRegister \nWoolgoolga Back Beach Landcare\n8-11am Register \n  \n 
URL:https://www.coffsharbourlandcare.org.au/event/clean-up-australia-day-march-1/
CATEGORIES:Events
ORGANIZER;CN="Rhianna Faithfull":MAILTO:contact@coffslandcare.org.au
END:VEVENT
BEGIN:VEVENT
DTSTART;TZID=Australia/Melbourne:20251120T093000
DTEND;TZID=Australia/Melbourne:20251120T113000
DTSTAMP:20260422T183107
CREATED:20251113T015247Z
LAST-MODIFIED:20251113T015247Z
UID:10005448-1763631000-1763638200@www.coffsharbourlandcare.org.au
SUMMARY:Bush Regen Basics with Brent Hely
DESCRIPTION:Join us for a hands-on\, beginner-friendly workshop exploring the principles of bush regeneration\, plant identification\, and practical tools and techniques to care for our native landscapes. Hosted by Brent Hely from New Earth Regeneration\, this session is perfect for newcomers and those with a bit of experience looking to deepen their understanding. \n  \nBrent brings over thirty years of experience in ecological restoration and regenerative land management on the NSW North Coast\, having worked with communities\, councils\, and landholders to improve degraded landscapes and foster resilient ecosystems. \n  \nHe’ll share insights tailored to our region\, where weeds are no joke—but not all are baddies. Learn how to spot the difference between invasive species and beneficial weeds\, and discover how thoughtful regeneration can restore balance to our ecosystems. \n  \nWhether you’re a new Landcare member keen to learn the ropes or a seasoned volunteer looking to sharpen your skills\, this workshop offers something for everyone.  \n  \nWhen: 9:30-11:30am Thursday 20th November \nWhere: Bluff Road\, Emerald Beach – meet across from 98 Bluff Road \nWhat you need: Appropriate walking shoes\, hat and water. \n  \nThis is a FREE event for CHRL members\, but spaces are limited so please register. If you can no longer attend please be sure to cancel your booking so someone else can take your place. Register – https://www.stickytickets.com.au/UGMXS
URL:https://www.coffsharbourlandcare.org.au/event/bush-regen-basics-with-brent-hely/
LOCATION:Bluff Road\, Emerald Beach\, 98 Bluff Road\, Emerald Beach\, NSW\, 2456\, Australia
ORGANIZER;CN="Rhianna Faithfull":MAILTO:contact@coffslandcare.org.au
GEO:-30.1731404;153.1832985
X-APPLE-STRUCTURED-LOCATION;VALUE=URI;X-ADDRESS=Bluff Road Emerald Beach 98 Bluff Road Emerald Beach NSW 2456 Australia;X-APPLE-RADIUS=500;X-TITLE=98 Bluff Road:geo:153.1832985,-30.1731404
END:VEVENT
BEGIN:VEVENT
DTSTART;TZID=Australia/Melbourne:20250930T083000
DTEND;TZID=Australia/Melbourne:20250930T103000
DTSTAMP:20260422T183107
CREATED:20250923T043436Z
LAST-MODIFIED:20250923T043436Z
UID:10005425-1759221000-1759228200@www.coffsharbourlandcare.org.au
SUMMARY:Woolgoolga Lake Weed Blitz
DESCRIPTION:Tackle Ochna with Us at Woopi Lake! \nBefore the warmer months hit\, our dedicated team at Woolgoolga Lake Landcare would like some extra hands to help get on top of a big patch of Ochna. Come along for a lovely morning of bush regeneration\, take the opportunity to check out a different CHRL site and get to know other like-minded Landcarers. \nEvent Details: \n\nDate: Tuesday\, 30th September 2025\nTime: 8:30am – 10:30am\nLocation: Meet at the bottom of Killawarra Close\, Safety Beach. Plenty of street parking available.\n\nWhat to Wear:\nPlease wear overalls or long sleeve shirt and pants\, enclosed boots\, a hat and gloves. Sunscreen and insect repellent.  \nWhat to Bring:\nGloves\, water\, and a snack if you like. If you have Landcare tools\, bring them along; otherwise\, CHRL will have tools available. \nRegister here \nIf you have trouble finding the site or if it’s wet weather\, text or call our Site Coordinator Chris Blair – 0427 287 171. \nYour assistance and support are invaluable in helping us manage invasive species. \nThank you\, and we look forward to seeing you there! \nThe Woolgoolga Lake Landcare Team
URL:https://www.coffsharbourlandcare.org.au/event/woolgoolga-lake-weed-blitz/
LOCATION:Woolgoolga Lake Landcare Site\, Killawarra Close\, Safety Beach\, NSW\, 2456\, Australia
ATTACH;FMTTYPE=image/png:https://www.coffsharbourlandcare.org.au/wp-content/uploads/Woolgoolga-Lake-Weed-Blitz.png
ORGANIZER;CN="Rhianna Faithfull":MAILTO:contact@coffslandcare.org.au
GEO:-30.0977301;153.1950922
X-APPLE-STRUCTURED-LOCATION;VALUE=URI;X-ADDRESS=Woolgoolga Lake Landcare Site Killawarra Close Safety Beach NSW 2456 Australia;X-APPLE-RADIUS=500;X-TITLE=Killawarra Close:geo:153.1950922,-30.0977301
END:VEVENT
BEGIN:VEVENT
DTSTART;TZID=Australia/Melbourne:20250531T093000
DTEND;TZID=Australia/Melbourne:20250531T113000
DTSTAMP:20260422T183107
CREATED:20250520T054904Z
LAST-MODIFIED:20250520T054904Z
UID:10005422-1748683800-1748691000@www.coffsharbourlandcare.org.au
SUMMARY:Eucalypt Identification Workshop
DESCRIPTION:Join Andrew Stirling from Friends of the Gardens for a guided walk around the Coffs Harbour Botanic Gardens as he shares his wealth of knowledge of our local Eucalypt species.  \nLearn the key features of these native tree species and how best to identify them when you are back at your Landcare sites or off adventuring in the bush. \nWhen: Saturday 31st May \nWhere: Meet at the entrance to the Botanic Gardens at 9:30am \nWhat’s involved: 2 hour guided walking tour/workshop along the narrow forest paths of the Botanic Gardens.  \nWhat you need: Appropriate walking shoes\, hat and water. \nThis is a FREE event for CHRL members\, but spaces are very limited so please register. If you can no longer attend please be sure to cancel your booking so someone else can take your place. \nREGISTER NOW 
URL:https://www.coffsharbourlandcare.org.au/event/eucalypt-identification-workshop/
LOCATION:North Coast Regional Botanic Gardens\, Coffs Harbour\, 2450
CATEGORIES:Events,Training/Workshops
ORGANIZER;CN="Rhianna Faithfull":MAILTO:contact@coffslandcare.org.au
GEO:-30.2962013;153.1138924
END:VEVENT
BEGIN:VEVENT
DTSTART;TZID=Australia/Melbourne:20250510T093000
DTEND;TZID=Australia/Melbourne:20250510T113000
DTSTAMP:20260422T183107
CREATED:20250411T162137Z
LAST-MODIFIED:20250411T162137Z
UID:10005420-1746869400-1746876600@www.coffsharbourlandcare.org.au
SUMMARY:Tools Sharpening Workshop
DESCRIPTION:Learn how to keep your tools sharp! \nWe are excited to have CHRL volunteer Dave Wood hosting a tool sharpening workshop for our members. Dave will share expertise on how best to care for your tools and keep them in good working order. \nBring in your bluntest\, rustiest tools and you’ll also have the chance to sharpen them through the morning and bring them back life! \nOnce the tools are sharp we will have the kettle boiled & morning tea to share.  \nThis event is free\, but we ask you to register so we have an idea of numbers \nRegister Now
URL:https://www.coffsharbourlandcare.org.au/event/tools-sharpening-workshop/
LOCATION:CHRL Office – Lawson Crescent\, Unit 1\, 14A Lawson Crescent\, Coffs Harbour\, NSW\, 2450\, Australia
CATEGORIES:Events,Training/Workshops
ORGANIZER;CN="Rhianna Faithfull":MAILTO:contact@coffslandcare.org.au
END:VEVENT
BEGIN:VEVENT
DTSTART;TZID=Australia/Melbourne:20250430T093000
DTEND;TZID=Australia/Melbourne:20250430T113000
DTSTAMP:20260422T183107
CREATED:20250411T161428Z
LAST-MODIFIED:20250411T162243Z
UID:10005419-1746005400-1746012600@www.coffsharbourlandcare.org.au
SUMMARY:Weed Incursion Workshop
DESCRIPTION:CHRL members are invited to a morning all about weeds! \nAndrew Hughes\, Invasive Species Officer at the City of Coffs Harbour\, will run through everything you need to know about new and priority weeds in the Coffs region. Topics will include: \n\nWeed prevention\nProhibited matter\nPriority weeds\nNew incursion weeds \nLive weed samples to look at\n\nThis is a great opportunity to improve your weed identification skills and help keep more eyes on the ground when it comes to locating and eradicating priority weed in our region.  \nThis is a free event for our CHRL members\, but places are limited so please make sure to register. \nRegister Now
URL:https://www.coffsharbourlandcare.org.au/event/weed-incursion-workshop/
LOCATION:Wiilgulga Sports Complex\, Solitary Islands way\, Woolgoolga\, NSW\, 2456\, Australia
CATEGORIES:Events,Training/Workshops
ORGANIZER;CN="Rhianna Faithfull":MAILTO:contact@coffslandcare.org.au
GEO:-30.0842087;153.1887877
X-APPLE-STRUCTURED-LOCATION;VALUE=URI;X-ADDRESS=Wiilgulga Sports Complex Solitary Islands way Woolgoolga NSW 2456 Australia;X-APPLE-RADIUS=500;X-TITLE=Solitary Islands way:geo:153.1887877,-30.0842087
END:VEVENT
END:VCALENDAR