BEGIN:VCALENDAR
VERSION:2.0
PRODID:-//Coffs Harbour Regional Landcare - ECPv6.15.20//NONSGML v1.0//EN
CALSCALE:GREGORIAN
METHOD:PUBLISH
X-WR-CALNAME:Coffs Harbour Regional Landcare
X-ORIGINAL-URL:https://www.coffsharbourlandcare.org.au
X-WR-CALDESC:Events for Coffs Harbour Regional Landcare
REFRESH-INTERVAL;VALUE=DURATION:PT1H
X-Robots-Tag:noindex
X-PUBLISHED-TTL:PT1H
BEGIN:VTIMEZONE
TZID:Australia/Melbourne
BEGIN:STANDARD
TZOFFSETFROM:+1100
TZOFFSETTO:+1000
TZNAME:AEST
DTSTART:20240406T160000
END:STANDARD
BEGIN:DAYLIGHT
TZOFFSETFROM:+1000
TZOFFSETTO:+1100
TZNAME:AEDT
DTSTART:20241005T160000
END:DAYLIGHT
BEGIN:STANDARD
TZOFFSETFROM:+1100
TZOFFSETTO:+1000
TZNAME:AEST
DTSTART:20250405T160000
END:STANDARD
BEGIN:DAYLIGHT
TZOFFSETFROM:+1000
TZOFFSETTO:+1100
TZNAME:AEDT
DTSTART:20251004T160000
END:DAYLIGHT
BEGIN:STANDARD
TZOFFSETFROM:+1100
TZOFFSETTO:+1000
TZNAME:AEST
DTSTART:20260404T160000
END:STANDARD
BEGIN:DAYLIGHT
TZOFFSETFROM:+1000
TZOFFSETTO:+1100
TZNAME:AEDT
DTSTART:20261003T160000
END:DAYLIGHT
END:VTIMEZONE
BEGIN:VEVENT
DTSTART;TZID=Australia/Melbourne:20251220T090000
DTEND;TZID=Australia/Melbourne:20251220T110000
DTSTAMP:20260425T035202
CREATED:20241002T004530Z
LAST-MODIFIED:20250224T003434Z
UID:10005323-1766221200-1766228400@www.coffsharbourlandcare.org.au
SUMMARY:Karangi Cemetery Landcare
DESCRIPTION:Saturdays at 9:00am to weed areas around the Cemetery. \nContact site coordinator for location.
URL:https://www.coffsharbourlandcare.org.au/event/karangi-cemetery-landcare/2025-12-20/
CATEGORIES:Working Bees
ORGANIZER;CN="Ron Smith":MAILTO:chrl@coffslandcare.org.au
END:VEVENT
BEGIN:VEVENT
DTSTART;TZID=Australia/Melbourne:20251213T090000
DTEND;TZID=Australia/Melbourne:20251213T110000
DTSTAMP:20260425T035202
CREATED:20241002T004530Z
LAST-MODIFIED:20250224T003434Z
UID:10005322-1765616400-1765623600@www.coffsharbourlandcare.org.au
SUMMARY:Karangi Cemetery Landcare
DESCRIPTION:Saturdays at 9:00am to weed areas around the Cemetery. \nContact site coordinator for location.
URL:https://www.coffsharbourlandcare.org.au/event/karangi-cemetery-landcare/2025-12-13/
CATEGORIES:Working Bees
ORGANIZER;CN="Ron Smith":MAILTO:chrl@coffslandcare.org.au
END:VEVENT
BEGIN:VEVENT
DTSTART;TZID=Australia/Melbourne:20251206T090000
DTEND;TZID=Australia/Melbourne:20251206T110000
DTSTAMP:20260425T035202
CREATED:20241002T004530Z
LAST-MODIFIED:20250224T003434Z
UID:10005321-1765011600-1765018800@www.coffsharbourlandcare.org.au
SUMMARY:Karangi Cemetery Landcare
DESCRIPTION:Saturdays at 9:00am to weed areas around the Cemetery. \nContact site coordinator for location.
URL:https://www.coffsharbourlandcare.org.au/event/karangi-cemetery-landcare/2025-12-06/
CATEGORIES:Working Bees
ORGANIZER;CN="Ron Smith":MAILTO:chrl@coffslandcare.org.au
END:VEVENT
BEGIN:VEVENT
DTSTART;TZID=Australia/Melbourne:20251129T090000
DTEND;TZID=Australia/Melbourne:20251129T110000
DTSTAMP:20260425T035202
CREATED:20241002T004530Z
LAST-MODIFIED:20250224T003434Z
UID:10005320-1764406800-1764414000@www.coffsharbourlandcare.org.au
SUMMARY:Karangi Cemetery Landcare
DESCRIPTION:Saturdays at 9:00am to weed areas around the Cemetery. \nContact site coordinator for location.
URL:https://www.coffsharbourlandcare.org.au/event/karangi-cemetery-landcare/2025-11-29/
CATEGORIES:Working Bees
ORGANIZER;CN="Ron Smith":MAILTO:chrl@coffslandcare.org.au
END:VEVENT
BEGIN:VEVENT
DTSTART;TZID=Australia/Melbourne:20251122T090000
DTEND;TZID=Australia/Melbourne:20251122T110000
DTSTAMP:20260425T035202
CREATED:20241002T004530Z
LAST-MODIFIED:20250224T003434Z
UID:10005319-1763802000-1763809200@www.coffsharbourlandcare.org.au
SUMMARY:Karangi Cemetery Landcare
DESCRIPTION:Saturdays at 9:00am to weed areas around the Cemetery. \nContact site coordinator for location.
URL:https://www.coffsharbourlandcare.org.au/event/karangi-cemetery-landcare/2025-11-22/
CATEGORIES:Working Bees
ORGANIZER;CN="Ron Smith":MAILTO:chrl@coffslandcare.org.au
END:VEVENT
BEGIN:VEVENT
DTSTART;TZID=Australia/Melbourne:20251115T090000
DTEND;TZID=Australia/Melbourne:20251115T110000
DTSTAMP:20260425T035202
CREATED:20241002T004530Z
LAST-MODIFIED:20250224T003434Z
UID:10005318-1763197200-1763204400@www.coffsharbourlandcare.org.au
SUMMARY:Karangi Cemetery Landcare
DESCRIPTION:Saturdays at 9:00am to weed areas around the Cemetery. \nContact site coordinator for location.
URL:https://www.coffsharbourlandcare.org.au/event/karangi-cemetery-landcare/2025-11-15/
CATEGORIES:Working Bees
ORGANIZER;CN="Ron Smith":MAILTO:chrl@coffslandcare.org.au
END:VEVENT
BEGIN:VEVENT
DTSTART;TZID=Australia/Melbourne:20251108T090000
DTEND;TZID=Australia/Melbourne:20251108T110000
DTSTAMP:20260425T035202
CREATED:20241002T004530Z
LAST-MODIFIED:20250224T003434Z
UID:10005317-1762592400-1762599600@www.coffsharbourlandcare.org.au
SUMMARY:Karangi Cemetery Landcare
DESCRIPTION:Saturdays at 9:00am to weed areas around the Cemetery. \nContact site coordinator for location.
URL:https://www.coffsharbourlandcare.org.au/event/karangi-cemetery-landcare/2025-11-08/
CATEGORIES:Working Bees
ORGANIZER;CN="Ron Smith":MAILTO:chrl@coffslandcare.org.au
END:VEVENT
BEGIN:VEVENT
DTSTART;TZID=Australia/Melbourne:20251101T090000
DTEND;TZID=Australia/Melbourne:20251101T110000
DTSTAMP:20260425T035202
CREATED:20241002T004530Z
LAST-MODIFIED:20250224T003434Z
UID:10005316-1761987600-1761994800@www.coffsharbourlandcare.org.au
SUMMARY:Karangi Cemetery Landcare
DESCRIPTION:Saturdays at 9:00am to weed areas around the Cemetery. \nContact site coordinator for location.
URL:https://www.coffsharbourlandcare.org.au/event/karangi-cemetery-landcare/2025-11-01/
CATEGORIES:Working Bees
ORGANIZER;CN="Ron Smith":MAILTO:chrl@coffslandcare.org.au
END:VEVENT
BEGIN:VEVENT
DTSTART;TZID=Australia/Melbourne:20251025T090000
DTEND;TZID=Australia/Melbourne:20251025T110000
DTSTAMP:20260425T035202
CREATED:20241002T004530Z
LAST-MODIFIED:20250224T003434Z
UID:10005315-1761382800-1761390000@www.coffsharbourlandcare.org.au
SUMMARY:Karangi Cemetery Landcare
DESCRIPTION:Saturdays at 9:00am to weed areas around the Cemetery. \nContact site coordinator for location.
URL:https://www.coffsharbourlandcare.org.au/event/karangi-cemetery-landcare/2025-10-25/
CATEGORIES:Working Bees
ORGANIZER;CN="Ron Smith":MAILTO:chrl@coffslandcare.org.au
END:VEVENT
BEGIN:VEVENT
DTSTART;TZID=Australia/Melbourne:20251018T090000
DTEND;TZID=Australia/Melbourne:20251018T110000
DTSTAMP:20260425T035202
CREATED:20241002T004530Z
LAST-MODIFIED:20250224T003434Z
UID:10005314-1760778000-1760785200@www.coffsharbourlandcare.org.au
SUMMARY:Karangi Cemetery Landcare
DESCRIPTION:Saturdays at 9:00am to weed areas around the Cemetery. \nContact site coordinator for location.
URL:https://www.coffsharbourlandcare.org.au/event/karangi-cemetery-landcare/2025-10-18/
CATEGORIES:Working Bees
ORGANIZER;CN="Ron Smith":MAILTO:chrl@coffslandcare.org.au
END:VEVENT
BEGIN:VEVENT
DTSTART;TZID=Australia/Melbourne:20251011T090000
DTEND;TZID=Australia/Melbourne:20251011T110000
DTSTAMP:20260425T035202
CREATED:20241002T004530Z
LAST-MODIFIED:20250224T003434Z
UID:10005313-1760173200-1760180400@www.coffsharbourlandcare.org.au
SUMMARY:Karangi Cemetery Landcare
DESCRIPTION:Saturdays at 9:00am to weed areas around the Cemetery. \nContact site coordinator for location.
URL:https://www.coffsharbourlandcare.org.au/event/karangi-cemetery-landcare/2025-10-11/
CATEGORIES:Working Bees
ORGANIZER;CN="Ron Smith":MAILTO:chrl@coffslandcare.org.au
END:VEVENT
BEGIN:VEVENT
DTSTART;TZID=Australia/Melbourne:20251004T090000
DTEND;TZID=Australia/Melbourne:20251004T110000
DTSTAMP:20260425T035202
CREATED:20241002T004530Z
LAST-MODIFIED:20250224T003434Z
UID:10005312-1759568400-1759575600@www.coffsharbourlandcare.org.au
SUMMARY:Karangi Cemetery Landcare
DESCRIPTION:Saturdays at 9:00am to weed areas around the Cemetery. \nContact site coordinator for location.
URL:https://www.coffsharbourlandcare.org.au/event/karangi-cemetery-landcare/2025-10-04/
CATEGORIES:Working Bees
ORGANIZER;CN="Ron Smith":MAILTO:chrl@coffslandcare.org.au
END:VEVENT
BEGIN:VEVENT
DTSTART;TZID=Australia/Melbourne:20250927T090000
DTEND;TZID=Australia/Melbourne:20250927T110000
DTSTAMP:20260425T035202
CREATED:20241002T004530Z
LAST-MODIFIED:20250224T003434Z
UID:10005311-1758963600-1758970800@www.coffsharbourlandcare.org.au
SUMMARY:Karangi Cemetery Landcare
DESCRIPTION:Saturdays at 9:00am to weed areas around the Cemetery. \nContact site coordinator for location.
URL:https://www.coffsharbourlandcare.org.au/event/karangi-cemetery-landcare/2025-09-27/
CATEGORIES:Working Bees
ORGANIZER;CN="Ron Smith":MAILTO:chrl@coffslandcare.org.au
END:VEVENT
BEGIN:VEVENT
DTSTART;TZID=Australia/Melbourne:20250920T090000
DTEND;TZID=Australia/Melbourne:20250920T110000
DTSTAMP:20260425T035202
CREATED:20241002T004530Z
LAST-MODIFIED:20250224T003434Z
UID:10005310-1758358800-1758366000@www.coffsharbourlandcare.org.au
SUMMARY:Karangi Cemetery Landcare
DESCRIPTION:Saturdays at 9:00am to weed areas around the Cemetery. \nContact site coordinator for location.
URL:https://www.coffsharbourlandcare.org.au/event/karangi-cemetery-landcare/2025-09-20/
CATEGORIES:Working Bees
ORGANIZER;CN="Ron Smith":MAILTO:chrl@coffslandcare.org.au
END:VEVENT
BEGIN:VEVENT
DTSTART;TZID=Australia/Melbourne:20250913T090000
DTEND;TZID=Australia/Melbourne:20250913T110000
DTSTAMP:20260425T035202
CREATED:20241002T004530Z
LAST-MODIFIED:20250224T003434Z
UID:10005309-1757754000-1757761200@www.coffsharbourlandcare.org.au
SUMMARY:Karangi Cemetery Landcare
DESCRIPTION:Saturdays at 9:00am to weed areas around the Cemetery. \nContact site coordinator for location.
URL:https://www.coffsharbourlandcare.org.au/event/karangi-cemetery-landcare/2025-09-13/
CATEGORIES:Working Bees
ORGANIZER;CN="Ron Smith":MAILTO:chrl@coffslandcare.org.au
END:VEVENT
BEGIN:VEVENT
DTSTART;TZID=Australia/Melbourne:20250906T090000
DTEND;TZID=Australia/Melbourne:20250906T110000
DTSTAMP:20260425T035202
CREATED:20241002T004530Z
LAST-MODIFIED:20250224T003434Z
UID:10005308-1757149200-1757156400@www.coffsharbourlandcare.org.au
SUMMARY:Karangi Cemetery Landcare
DESCRIPTION:Saturdays at 9:00am to weed areas around the Cemetery. \nContact site coordinator for location.
URL:https://www.coffsharbourlandcare.org.au/event/karangi-cemetery-landcare/2025-09-06/
CATEGORIES:Working Bees
ORGANIZER;CN="Ron Smith":MAILTO:chrl@coffslandcare.org.au
END:VEVENT
BEGIN:VEVENT
DTSTART;TZID=Australia/Melbourne:20250830T090000
DTEND;TZID=Australia/Melbourne:20250830T110000
DTSTAMP:20260425T035202
CREATED:20241002T004530Z
LAST-MODIFIED:20250224T003434Z
UID:10005307-1756544400-1756551600@www.coffsharbourlandcare.org.au
SUMMARY:Karangi Cemetery Landcare
DESCRIPTION:Saturdays at 9:00am to weed areas around the Cemetery. \nContact site coordinator for location.
URL:https://www.coffsharbourlandcare.org.au/event/karangi-cemetery-landcare/2025-08-30/
CATEGORIES:Working Bees
ORGANIZER;CN="Ron Smith":MAILTO:chrl@coffslandcare.org.au
END:VEVENT
BEGIN:VEVENT
DTSTART;TZID=Australia/Melbourne:20250823T090000
DTEND;TZID=Australia/Melbourne:20250823T110000
DTSTAMP:20260425T035202
CREATED:20241002T004530Z
LAST-MODIFIED:20250224T003434Z
UID:10005306-1755939600-1755946800@www.coffsharbourlandcare.org.au
SUMMARY:Karangi Cemetery Landcare
DESCRIPTION:Saturdays at 9:00am to weed areas around the Cemetery. \nContact site coordinator for location.
URL:https://www.coffsharbourlandcare.org.au/event/karangi-cemetery-landcare/2025-08-23/
CATEGORIES:Working Bees
ORGANIZER;CN="Ron Smith":MAILTO:chrl@coffslandcare.org.au
END:VEVENT
BEGIN:VEVENT
DTSTART;TZID=Australia/Melbourne:20250816T090000
DTEND;TZID=Australia/Melbourne:20250816T110000
DTSTAMP:20260425T035202
CREATED:20241002T004530Z
LAST-MODIFIED:20250224T003434Z
UID:10005305-1755334800-1755342000@www.coffsharbourlandcare.org.au
SUMMARY:Karangi Cemetery Landcare
DESCRIPTION:Saturdays at 9:00am to weed areas around the Cemetery. \nContact site coordinator for location.
URL:https://www.coffsharbourlandcare.org.au/event/karangi-cemetery-landcare/2025-08-16/
CATEGORIES:Working Bees
ORGANIZER;CN="Ron Smith":MAILTO:chrl@coffslandcare.org.au
END:VEVENT
BEGIN:VEVENT
DTSTART;TZID=Australia/Melbourne:20250809T090000
DTEND;TZID=Australia/Melbourne:20250809T110000
DTSTAMP:20260425T035202
CREATED:20241002T004530Z
LAST-MODIFIED:20250224T003434Z
UID:10005304-1754730000-1754737200@www.coffsharbourlandcare.org.au
SUMMARY:Karangi Cemetery Landcare
DESCRIPTION:Saturdays at 9:00am to weed areas around the Cemetery. \nContact site coordinator for location.
URL:https://www.coffsharbourlandcare.org.au/event/karangi-cemetery-landcare/2025-08-09/
CATEGORIES:Working Bees
ORGANIZER;CN="Ron Smith":MAILTO:chrl@coffslandcare.org.au
END:VEVENT
BEGIN:VEVENT
DTSTART;TZID=Australia/Melbourne:20250802T090000
DTEND;TZID=Australia/Melbourne:20250802T110000
DTSTAMP:20260425T035202
CREATED:20241002T004530Z
LAST-MODIFIED:20250224T003434Z
UID:10005303-1754125200-1754132400@www.coffsharbourlandcare.org.au
SUMMARY:Karangi Cemetery Landcare
DESCRIPTION:Saturdays at 9:00am to weed areas around the Cemetery. \nContact site coordinator for location.
URL:https://www.coffsharbourlandcare.org.au/event/karangi-cemetery-landcare/2025-08-02/
CATEGORIES:Working Bees
ORGANIZER;CN="Ron Smith":MAILTO:chrl@coffslandcare.org.au
END:VEVENT
BEGIN:VEVENT
DTSTART;TZID=Australia/Melbourne:20250726T090000
DTEND;TZID=Australia/Melbourne:20250726T110000
DTSTAMP:20260425T035202
CREATED:20241002T004530Z
LAST-MODIFIED:20250224T003434Z
UID:10005302-1753520400-1753527600@www.coffsharbourlandcare.org.au
SUMMARY:Karangi Cemetery Landcare
DESCRIPTION:Saturdays at 9:00am to weed areas around the Cemetery. \nContact site coordinator for location.
URL:https://www.coffsharbourlandcare.org.au/event/karangi-cemetery-landcare/2025-07-26/
CATEGORIES:Working Bees
ORGANIZER;CN="Ron Smith":MAILTO:chrl@coffslandcare.org.au
END:VEVENT
BEGIN:VEVENT
DTSTART;TZID=Australia/Melbourne:20250719T090000
DTEND;TZID=Australia/Melbourne:20250719T110000
DTSTAMP:20260425T035202
CREATED:20241002T004530Z
LAST-MODIFIED:20250224T003434Z
UID:10005301-1752915600-1752922800@www.coffsharbourlandcare.org.au
SUMMARY:Karangi Cemetery Landcare
DESCRIPTION:Saturdays at 9:00am to weed areas around the Cemetery. \nContact site coordinator for location.
URL:https://www.coffsharbourlandcare.org.au/event/karangi-cemetery-landcare/2025-07-19/
CATEGORIES:Working Bees
ORGANIZER;CN="Ron Smith":MAILTO:chrl@coffslandcare.org.au
END:VEVENT
BEGIN:VEVENT
DTSTART;TZID=Australia/Melbourne:20250712T090000
DTEND;TZID=Australia/Melbourne:20250712T110000
DTSTAMP:20260425T035202
CREATED:20241002T004530Z
LAST-MODIFIED:20250224T003434Z
UID:10005300-1752310800-1752318000@www.coffsharbourlandcare.org.au
SUMMARY:Karangi Cemetery Landcare
DESCRIPTION:Saturdays at 9:00am to weed areas around the Cemetery. \nContact site coordinator for location.
URL:https://www.coffsharbourlandcare.org.au/event/karangi-cemetery-landcare/2025-07-12/
CATEGORIES:Working Bees
ORGANIZER;CN="Ron Smith":MAILTO:chrl@coffslandcare.org.au
END:VEVENT
BEGIN:VEVENT
DTSTART;TZID=Australia/Melbourne:20250705T090000
DTEND;TZID=Australia/Melbourne:20250705T110000
DTSTAMP:20260425T035202
CREATED:20241002T004530Z
LAST-MODIFIED:20250224T003434Z
UID:10005299-1751706000-1751713200@www.coffsharbourlandcare.org.au
SUMMARY:Karangi Cemetery Landcare
DESCRIPTION:Saturdays at 9:00am to weed areas around the Cemetery. \nContact site coordinator for location.
URL:https://www.coffsharbourlandcare.org.au/event/karangi-cemetery-landcare/2025-07-05/
CATEGORIES:Working Bees
ORGANIZER;CN="Ron Smith":MAILTO:chrl@coffslandcare.org.au
END:VEVENT
BEGIN:VEVENT
DTSTART;TZID=Australia/Melbourne:20250628T090000
DTEND;TZID=Australia/Melbourne:20250628T110000
DTSTAMP:20260425T035202
CREATED:20241002T004530Z
LAST-MODIFIED:20250224T003434Z
UID:10005298-1751101200-1751108400@www.coffsharbourlandcare.org.au
SUMMARY:Karangi Cemetery Landcare
DESCRIPTION:Saturdays at 9:00am to weed areas around the Cemetery. \nContact site coordinator for location.
URL:https://www.coffsharbourlandcare.org.au/event/karangi-cemetery-landcare/2025-06-28/
CATEGORIES:Working Bees
ORGANIZER;CN="Ron Smith":MAILTO:chrl@coffslandcare.org.au
END:VEVENT
BEGIN:VEVENT
DTSTART;TZID=Australia/Melbourne:20250621T090000
DTEND;TZID=Australia/Melbourne:20250621T110000
DTSTAMP:20260425T035202
CREATED:20241002T004530Z
LAST-MODIFIED:20250224T003434Z
UID:10005297-1750496400-1750503600@www.coffsharbourlandcare.org.au
SUMMARY:Karangi Cemetery Landcare
DESCRIPTION:Saturdays at 9:00am to weed areas around the Cemetery. \nContact site coordinator for location.
URL:https://www.coffsharbourlandcare.org.au/event/karangi-cemetery-landcare/2025-06-21/
CATEGORIES:Working Bees
ORGANIZER;CN="Ron Smith":MAILTO:chrl@coffslandcare.org.au
END:VEVENT
BEGIN:VEVENT
DTSTART;TZID=Australia/Melbourne:20250614T090000
DTEND;TZID=Australia/Melbourne:20250614T110000
DTSTAMP:20260425T035202
CREATED:20241002T004530Z
LAST-MODIFIED:20250224T003434Z
UID:10005296-1749891600-1749898800@www.coffsharbourlandcare.org.au
SUMMARY:Karangi Cemetery Landcare
DESCRIPTION:Saturdays at 9:00am to weed areas around the Cemetery. \nContact site coordinator for location.
URL:https://www.coffsharbourlandcare.org.au/event/karangi-cemetery-landcare/2025-06-14/
CATEGORIES:Working Bees
ORGANIZER;CN="Ron Smith":MAILTO:chrl@coffslandcare.org.au
END:VEVENT
BEGIN:VEVENT
DTSTART;TZID=Australia/Melbourne:20250607T090000
DTEND;TZID=Australia/Melbourne:20250607T110000
DTSTAMP:20260425T035202
CREATED:20241002T004530Z
LAST-MODIFIED:20250224T003434Z
UID:10005295-1749286800-1749294000@www.coffsharbourlandcare.org.au
SUMMARY:Karangi Cemetery Landcare
DESCRIPTION:Saturdays at 9:00am to weed areas around the Cemetery. \nContact site coordinator for location.
URL:https://www.coffsharbourlandcare.org.au/event/karangi-cemetery-landcare/2025-06-07/
CATEGORIES:Working Bees
ORGANIZER;CN="Ron Smith":MAILTO:chrl@coffslandcare.org.au
END:VEVENT
BEGIN:VEVENT
DTSTART;TZID=Australia/Melbourne:20250531T090000
DTEND;TZID=Australia/Melbourne:20250531T110000
DTSTAMP:20260425T035202
CREATED:20241002T004530Z
LAST-MODIFIED:20250224T003434Z
UID:10005294-1748682000-1748689200@www.coffsharbourlandcare.org.au
SUMMARY:Karangi Cemetery Landcare
DESCRIPTION:Saturdays at 9:00am to weed areas around the Cemetery. \nContact site coordinator for location.
URL:https://www.coffsharbourlandcare.org.au/event/karangi-cemetery-landcare/2025-05-31/
CATEGORIES:Working Bees
ORGANIZER;CN="Ron Smith":MAILTO:chrl@coffslandcare.org.au
END:VEVENT
END:VCALENDAR