BEGIN:VCALENDAR
VERSION:2.0
PRODID:-//Coffs Harbour Regional Landcare - ECPv6.15.20//NONSGML v1.0//EN
CALSCALE:GREGORIAN
METHOD:PUBLISH
X-WR-CALNAME:Coffs Harbour Regional Landcare
X-ORIGINAL-URL:https://www.coffsharbourlandcare.org.au
X-WR-CALDESC:Events for Coffs Harbour Regional Landcare
REFRESH-INTERVAL;VALUE=DURATION:PT1H
X-Robots-Tag:noindex
X-PUBLISHED-TTL:PT1H
BEGIN:VTIMEZONE
TZID:Australia/Melbourne
BEGIN:STANDARD
TZOFFSETFROM:+1100
TZOFFSETTO:+1000
TZNAME:AEST
DTSTART:20240406T160000
END:STANDARD
BEGIN:DAYLIGHT
TZOFFSETFROM:+1000
TZOFFSETTO:+1100
TZNAME:AEDT
DTSTART:20241005T160000
END:DAYLIGHT
BEGIN:STANDARD
TZOFFSETFROM:+1100
TZOFFSETTO:+1000
TZNAME:AEST
DTSTART:20250405T160000
END:STANDARD
BEGIN:DAYLIGHT
TZOFFSETFROM:+1000
TZOFFSETTO:+1100
TZNAME:AEDT
DTSTART:20251004T160000
END:DAYLIGHT
BEGIN:STANDARD
TZOFFSETFROM:+1100
TZOFFSETTO:+1000
TZNAME:AEST
DTSTART:20260404T160000
END:STANDARD
BEGIN:DAYLIGHT
TZOFFSETFROM:+1000
TZOFFSETTO:+1100
TZNAME:AEDT
DTSTART:20261003T160000
END:DAYLIGHT
END:VTIMEZONE
BEGIN:VEVENT
DTSTART;TZID=Australia/Melbourne:20250412T090000
DTEND;TZID=Australia/Melbourne:20250412T110000
DTSTAMP:20260425T101238
CREATED:20241002T004530Z
LAST-MODIFIED:20250224T003434Z
UID:10005287-1744448400-1744455600@www.coffsharbourlandcare.org.au
SUMMARY:Karangi Cemetery Landcare
DESCRIPTION:Saturdays at 9:00am to weed areas around the Cemetery. \nContact site coordinator for location.
URL:https://www.coffsharbourlandcare.org.au/event/karangi-cemetery-landcare/2025-04-12/
CATEGORIES:Working Bees
ORGANIZER;CN="Ron Smith":MAILTO:chrl@coffslandcare.org.au
END:VEVENT
BEGIN:VEVENT
DTSTART;TZID=Australia/Melbourne:20250405T090000
DTEND;TZID=Australia/Melbourne:20250405T110000
DTSTAMP:20260425T101239
CREATED:20241002T004530Z
LAST-MODIFIED:20250224T003434Z
UID:10005286-1743843600-1743850800@www.coffsharbourlandcare.org.au
SUMMARY:Karangi Cemetery Landcare
DESCRIPTION:Saturdays at 9:00am to weed areas around the Cemetery. \nContact site coordinator for location.
URL:https://www.coffsharbourlandcare.org.au/event/karangi-cemetery-landcare/2025-04-05/
CATEGORIES:Working Bees
ORGANIZER;CN="Ron Smith":MAILTO:chrl@coffslandcare.org.au
END:VEVENT
BEGIN:VEVENT
DTSTART;TZID=Australia/Melbourne:20250329T090000
DTEND;TZID=Australia/Melbourne:20250329T110000
DTSTAMP:20260425T101239
CREATED:20241002T004530Z
LAST-MODIFIED:20250224T003434Z
UID:10005285-1743238800-1743246000@www.coffsharbourlandcare.org.au
SUMMARY:Karangi Cemetery Landcare
DESCRIPTION:Saturdays at 9:00am to weed areas around the Cemetery. \nContact site coordinator for location.
URL:https://www.coffsharbourlandcare.org.au/event/karangi-cemetery-landcare/2025-03-29/
CATEGORIES:Working Bees
ORGANIZER;CN="Ron Smith":MAILTO:chrl@coffslandcare.org.au
END:VEVENT
BEGIN:VEVENT
DTSTART;TZID=Australia/Melbourne:20250322T090000
DTEND;TZID=Australia/Melbourne:20250322T110000
DTSTAMP:20260425T101239
CREATED:20241002T004530Z
LAST-MODIFIED:20250224T003434Z
UID:10005284-1742634000-1742641200@www.coffsharbourlandcare.org.au
SUMMARY:Karangi Cemetery Landcare
DESCRIPTION:Saturdays at 9:00am to weed areas around the Cemetery. \nContact site coordinator for location.
URL:https://www.coffsharbourlandcare.org.au/event/karangi-cemetery-landcare/2025-03-22/
CATEGORIES:Working Bees
ORGANIZER;CN="Ron Smith":MAILTO:chrl@coffslandcare.org.au
END:VEVENT
BEGIN:VEVENT
DTSTART;TZID=Australia/Melbourne:20250315T090000
DTEND;TZID=Australia/Melbourne:20250315T110000
DTSTAMP:20260425T101239
CREATED:20241002T004530Z
LAST-MODIFIED:20250224T003434Z
UID:10005283-1742029200-1742036400@www.coffsharbourlandcare.org.au
SUMMARY:Karangi Cemetery Landcare
DESCRIPTION:Saturdays at 9:00am to weed areas around the Cemetery. \nContact site coordinator for location.
URL:https://www.coffsharbourlandcare.org.au/event/karangi-cemetery-landcare/2025-03-15/
CATEGORIES:Working Bees
ORGANIZER;CN="Ron Smith":MAILTO:chrl@coffslandcare.org.au
END:VEVENT
BEGIN:VEVENT
DTSTART;TZID=Australia/Melbourne:20250308T090000
DTEND;TZID=Australia/Melbourne:20250308T110000
DTSTAMP:20260425T101239
CREATED:20241002T004530Z
LAST-MODIFIED:20250224T003434Z
UID:10005282-1741424400-1741431600@www.coffsharbourlandcare.org.au
SUMMARY:Karangi Cemetery Landcare
DESCRIPTION:Saturdays at 9:00am to weed areas around the Cemetery. \nContact site coordinator for location.
URL:https://www.coffsharbourlandcare.org.au/event/karangi-cemetery-landcare/2025-03-08/
CATEGORIES:Working Bees
ORGANIZER;CN="Ron Smith":MAILTO:chrl@coffslandcare.org.au
END:VEVENT
BEGIN:VEVENT
DTSTART;TZID=Australia/Melbourne:20250301T090000
DTEND;TZID=Australia/Melbourne:20250301T110000
DTSTAMP:20260425T101239
CREATED:20241002T004530Z
LAST-MODIFIED:20250224T003434Z
UID:10005281-1740819600-1740826800@www.coffsharbourlandcare.org.au
SUMMARY:Karangi Cemetery Landcare
DESCRIPTION:Saturdays at 9:00am to weed areas around the Cemetery. \nContact site coordinator for location.
URL:https://www.coffsharbourlandcare.org.au/event/karangi-cemetery-landcare/2025-03-01/
CATEGORIES:Working Bees
ORGANIZER;CN="Ron Smith":MAILTO:chrl@coffslandcare.org.au
END:VEVENT
BEGIN:VEVENT
DTSTART;TZID=Australia/Melbourne:20250222T090000
DTEND;TZID=Australia/Melbourne:20250222T110000
DTSTAMP:20260425T101239
CREATED:20241002T004530Z
LAST-MODIFIED:20250224T003434Z
UID:10005280-1740214800-1740222000@www.coffsharbourlandcare.org.au
SUMMARY:Karangi Cemetery Landcare
DESCRIPTION:Saturdays at 9:00am to weed areas around the Cemetery. \nContact site coordinator for location.
URL:https://www.coffsharbourlandcare.org.au/event/karangi-cemetery-landcare/2025-02-22/
CATEGORIES:Working Bees
ORGANIZER;CN="Ron Smith":MAILTO:chrl@coffslandcare.org.au
END:VEVENT
END:VCALENDAR