BEGIN:VCALENDAR
VERSION:2.0
PRODID:-//Coffs Harbour Regional Landcare - ECPv6.15.20//NONSGML v1.0//EN
CALSCALE:GREGORIAN
METHOD:PUBLISH
X-ORIGINAL-URL:https://www.coffsharbourlandcare.org.au
X-WR-CALDESC:Events for Coffs Harbour Regional Landcare
REFRESH-INTERVAL;VALUE=DURATION:PT1H
X-Robots-Tag:noindex
X-PUBLISHED-TTL:PT1H
BEGIN:VTIMEZONE
TZID:Australia/Melbourne
BEGIN:STANDARD
TZOFFSETFROM:+1100
TZOFFSETTO:+1000
TZNAME:AEST
DTSTART:20230401T160000
END:STANDARD
BEGIN:DAYLIGHT
TZOFFSETFROM:+1000
TZOFFSETTO:+1100
TZNAME:AEDT
DTSTART:20230930T160000
END:DAYLIGHT
BEGIN:STANDARD
TZOFFSETFROM:+1100
TZOFFSETTO:+1000
TZNAME:AEST
DTSTART:20240406T160000
END:STANDARD
BEGIN:DAYLIGHT
TZOFFSETFROM:+1000
TZOFFSETTO:+1100
TZNAME:AEDT
DTSTART:20241005T160000
END:DAYLIGHT
BEGIN:STANDARD
TZOFFSETFROM:+1100
TZOFFSETTO:+1000
TZNAME:AEST
DTSTART:20250405T160000
END:STANDARD
BEGIN:DAYLIGHT
TZOFFSETFROM:+1000
TZOFFSETTO:+1100
TZNAME:AEDT
DTSTART:20251004T160000
END:DAYLIGHT
END:VTIMEZONE
BEGIN:VEVENT
DTSTART;TZID=Australia/Melbourne:20241211T140000
DTEND;TZID=Australia/Melbourne:20241211T160000
DTSTAMP:20260422T192720
CREATED:20240812T032940Z
LAST-MODIFIED:20240812T032940Z
UID:10002763-1733925600-1733932800@www.coffsharbourlandcare.org.au
SUMMARY:CHRL Executive Meetings 2024
DESCRIPTION:The CHRL Executive Committee meets monthly at the Coffs Harbour Landcare office
URL:https://www.coffsharbourlandcare.org.au/event/chrl-executive-meetings-2024-2/2024-12-11/
LOCATION:Coffs Harbour Landcare Office\, Unit 1/14A Lawson Crescent\, Coffs Harbour\, New South Wales\, 2450\, Australia
CATEGORIES:Events,Executive Meetings
ORGANIZER;CN="Karen Black":MAILTO:admin@coffslandcare.org.au
GEO:-30.2908125;153.1282239
X-APPLE-STRUCTURED-LOCATION;VALUE=URI;X-ADDRESS=Coffs Harbour Landcare Office Unit 1/14A Lawson Crescent Coffs Harbour New South Wales 2450 Australia;X-APPLE-RADIUS=500;X-TITLE=Unit 1/14A Lawson Crescent:geo:153.1282239,-30.2908125
END:VEVENT
BEGIN:VEVENT
DTSTART;TZID=Australia/Melbourne:20241113T140000
DTEND;TZID=Australia/Melbourne:20241113T160000
DTSTAMP:20260422T192720
CREATED:20240812T032940Z
LAST-MODIFIED:20240812T032940Z
UID:10002762-1731506400-1731513600@www.coffsharbourlandcare.org.au
SUMMARY:CHRL Executive Meetings 2024
DESCRIPTION:The CHRL Executive Committee meets monthly at the Coffs Harbour Landcare office
URL:https://www.coffsharbourlandcare.org.au/event/chrl-executive-meetings-2024-2/2024-11-13/
LOCATION:Coffs Harbour Landcare Office\, Unit 1/14A Lawson Crescent\, Coffs Harbour\, New South Wales\, 2450\, Australia
CATEGORIES:Events,Executive Meetings
ORGANIZER;CN="Karen Black":MAILTO:admin@coffslandcare.org.au
GEO:-30.2908125;153.1282239
X-APPLE-STRUCTURED-LOCATION;VALUE=URI;X-ADDRESS=Coffs Harbour Landcare Office Unit 1/14A Lawson Crescent Coffs Harbour New South Wales 2450 Australia;X-APPLE-RADIUS=500;X-TITLE=Unit 1/14A Lawson Crescent:geo:153.1282239,-30.2908125
END:VEVENT
BEGIN:VEVENT
DTSTART;TZID=Australia/Melbourne:20241009T140000
DTEND;TZID=Australia/Melbourne:20241009T160000
DTSTAMP:20260422T192720
CREATED:20240812T032940Z
LAST-MODIFIED:20240812T032940Z
UID:10002761-1728482400-1728489600@www.coffsharbourlandcare.org.au
SUMMARY:CHRL Executive Meetings 2024
DESCRIPTION:The CHRL Executive Committee meets monthly at the Coffs Harbour Landcare office
URL:https://www.coffsharbourlandcare.org.au/event/chrl-executive-meetings-2024-2/2024-10-09/
LOCATION:Coffs Harbour Landcare Office\, Unit 1/14A Lawson Crescent\, Coffs Harbour\, New South Wales\, 2450\, Australia
CATEGORIES:Events,Executive Meetings
ORGANIZER;CN="Karen Black":MAILTO:admin@coffslandcare.org.au
GEO:-30.2908125;153.1282239
X-APPLE-STRUCTURED-LOCATION;VALUE=URI;X-ADDRESS=Coffs Harbour Landcare Office Unit 1/14A Lawson Crescent Coffs Harbour New South Wales 2450 Australia;X-APPLE-RADIUS=500;X-TITLE=Unit 1/14A Lawson Crescent:geo:153.1282239,-30.2908125
END:VEVENT
BEGIN:VEVENT
DTSTART;TZID=Australia/Melbourne:20240911T140000
DTEND;TZID=Australia/Melbourne:20240911T160000
DTSTAMP:20260422T192720
CREATED:20240812T032940Z
LAST-MODIFIED:20240812T032940Z
UID:10002312-1726063200-1726070400@www.coffsharbourlandcare.org.au
SUMMARY:CHRL Executive Meetings 2024
DESCRIPTION:The CHRL Executive Committee meets monthly at the Coffs Harbour Landcare office
URL:https://www.coffsharbourlandcare.org.au/event/chrl-executive-meetings-2024-2/2024-09-11/
LOCATION:Coffs Harbour Landcare Office\, Unit 1/14A Lawson Crescent\, Coffs Harbour\, New South Wales\, 2450\, Australia
CATEGORIES:Events,Executive Meetings
ORGANIZER;CN="Karen Black":MAILTO:admin@coffslandcare.org.au
GEO:-30.2908125;153.1282239
X-APPLE-STRUCTURED-LOCATION;VALUE=URI;X-ADDRESS=Coffs Harbour Landcare Office Unit 1/14A Lawson Crescent Coffs Harbour New South Wales 2450 Australia;X-APPLE-RADIUS=500;X-TITLE=Unit 1/14A Lawson Crescent:geo:153.1282239,-30.2908125
END:VEVENT
BEGIN:VEVENT
DTSTART;TZID=Australia/Melbourne:20240808T140000
DTEND;TZID=Australia/Melbourne:20240808T160000
DTSTAMP:20260422T192720
CREATED:20231108T010819Z
LAST-MODIFIED:20231108T010859Z
UID:10002311-1723125600-1723132800@www.coffsharbourlandcare.org.au
SUMMARY:CHRL Executive Meetings 2024
DESCRIPTION:The CHRL Executive Committee meets monthly at the Coffs Harbour Landcare office
URL:https://www.coffsharbourlandcare.org.au/event/chrl-executive-meetings-2024/2024-08-08/
LOCATION:Coffs Harbour Landcare Office\, Unit 1/14A Lawson Crescent\, Coffs Harbour\, New South Wales\, 2450\, Australia
CATEGORIES:Events,Executive Meetings
ORGANIZER;CN="Karen Black":MAILTO:admin@coffslandcare.org.au
GEO:-30.2908125;153.1282239
X-APPLE-STRUCTURED-LOCATION;VALUE=URI;X-ADDRESS=Coffs Harbour Landcare Office Unit 1/14A Lawson Crescent Coffs Harbour New South Wales 2450 Australia;X-APPLE-RADIUS=500;X-TITLE=Unit 1/14A Lawson Crescent:geo:153.1282239,-30.2908125
END:VEVENT
BEGIN:VEVENT
DTSTART;TZID=Australia/Melbourne:20240711T140000
DTEND;TZID=Australia/Melbourne:20240711T160000
DTSTAMP:20260422T192720
CREATED:20231108T010819Z
LAST-MODIFIED:20231108T010859Z
UID:10002310-1720706400-1720713600@www.coffsharbourlandcare.org.au
SUMMARY:CHRL Executive Meetings 2024
DESCRIPTION:The CHRL Executive Committee meets monthly at the Coffs Harbour Landcare office
URL:https://www.coffsharbourlandcare.org.au/event/chrl-executive-meetings-2024/2024-07-11/
LOCATION:Coffs Harbour Landcare Office\, Unit 1/14A Lawson Crescent\, Coffs Harbour\, New South Wales\, 2450\, Australia
CATEGORIES:Events,Executive Meetings
ORGANIZER;CN="Karen Black":MAILTO:admin@coffslandcare.org.au
GEO:-30.2908125;153.1282239
X-APPLE-STRUCTURED-LOCATION;VALUE=URI;X-ADDRESS=Coffs Harbour Landcare Office Unit 1/14A Lawson Crescent Coffs Harbour New South Wales 2450 Australia;X-APPLE-RADIUS=500;X-TITLE=Unit 1/14A Lawson Crescent:geo:153.1282239,-30.2908125
END:VEVENT
BEGIN:VEVENT
DTSTART;TZID=Australia/Melbourne:20240613T140000
DTEND;TZID=Australia/Melbourne:20240613T160000
DTSTAMP:20260422T192720
CREATED:20231108T010819Z
LAST-MODIFIED:20231108T010859Z
UID:10002309-1718287200-1718294400@www.coffsharbourlandcare.org.au
SUMMARY:CHRL Executive Meetings 2024
DESCRIPTION:The CHRL Executive Committee meets monthly at the Coffs Harbour Landcare office
URL:https://www.coffsharbourlandcare.org.au/event/chrl-executive-meetings-2024/2024-06-13/
LOCATION:Coffs Harbour Landcare Office\, Unit 1/14A Lawson Crescent\, Coffs Harbour\, New South Wales\, 2450\, Australia
CATEGORIES:Events,Executive Meetings
ORGANIZER;CN="Karen Black":MAILTO:admin@coffslandcare.org.au
GEO:-30.2908125;153.1282239
X-APPLE-STRUCTURED-LOCATION;VALUE=URI;X-ADDRESS=Coffs Harbour Landcare Office Unit 1/14A Lawson Crescent Coffs Harbour New South Wales 2450 Australia;X-APPLE-RADIUS=500;X-TITLE=Unit 1/14A Lawson Crescent:geo:153.1282239,-30.2908125
END:VEVENT
BEGIN:VEVENT
DTSTART;TZID=Australia/Melbourne:20240509T140000
DTEND;TZID=Australia/Melbourne:20240509T160000
DTSTAMP:20260422T192720
CREATED:20231108T010819Z
LAST-MODIFIED:20231108T010859Z
UID:10002308-1715263200-1715270400@www.coffsharbourlandcare.org.au
SUMMARY:CHRL Executive Meetings 2024
DESCRIPTION:The CHRL Executive Committee meets monthly at the Coffs Harbour Landcare office
URL:https://www.coffsharbourlandcare.org.au/event/chrl-executive-meetings-2024/2024-05-09/
LOCATION:Coffs Harbour Landcare Office\, Unit 1/14A Lawson Crescent\, Coffs Harbour\, New South Wales\, 2450\, Australia
CATEGORIES:Events,Executive Meetings
ORGANIZER;CN="Karen Black":MAILTO:admin@coffslandcare.org.au
GEO:-30.2908125;153.1282239
X-APPLE-STRUCTURED-LOCATION;VALUE=URI;X-ADDRESS=Coffs Harbour Landcare Office Unit 1/14A Lawson Crescent Coffs Harbour New South Wales 2450 Australia;X-APPLE-RADIUS=500;X-TITLE=Unit 1/14A Lawson Crescent:geo:153.1282239,-30.2908125
END:VEVENT
BEGIN:VEVENT
DTSTART;TZID=Australia/Melbourne:20240411T140000
DTEND;TZID=Australia/Melbourne:20240411T160000
DTSTAMP:20260422T192720
CREATED:20231108T010819Z
LAST-MODIFIED:20231108T010859Z
UID:10002307-1712844000-1712851200@www.coffsharbourlandcare.org.au
SUMMARY:CHRL Executive Meetings 2024
DESCRIPTION:The CHRL Executive Committee meets monthly at the Coffs Harbour Landcare office
URL:https://www.coffsharbourlandcare.org.au/event/chrl-executive-meetings-2024/2024-04-11/
LOCATION:Coffs Harbour Landcare Office\, Unit 1/14A Lawson Crescent\, Coffs Harbour\, New South Wales\, 2450\, Australia
CATEGORIES:Events,Executive Meetings
ORGANIZER;CN="Karen Black":MAILTO:admin@coffslandcare.org.au
GEO:-30.2908125;153.1282239
X-APPLE-STRUCTURED-LOCATION;VALUE=URI;X-ADDRESS=Coffs Harbour Landcare Office Unit 1/14A Lawson Crescent Coffs Harbour New South Wales 2450 Australia;X-APPLE-RADIUS=500;X-TITLE=Unit 1/14A Lawson Crescent:geo:153.1282239,-30.2908125
END:VEVENT
BEGIN:VEVENT
DTSTART;TZID=Australia/Melbourne:20240314T140000
DTEND;TZID=Australia/Melbourne:20240314T160000
DTSTAMP:20260422T192720
CREATED:20231108T010819Z
LAST-MODIFIED:20231108T010859Z
UID:10002306-1710424800-1710432000@www.coffsharbourlandcare.org.au
SUMMARY:CHRL Executive Meetings 2024
DESCRIPTION:The CHRL Executive Committee meets monthly at the Coffs Harbour Landcare office
URL:https://www.coffsharbourlandcare.org.au/event/chrl-executive-meetings-2024/2024-03-14/
LOCATION:Coffs Harbour Landcare Office\, Unit 1/14A Lawson Crescent\, Coffs Harbour\, New South Wales\, 2450\, Australia
CATEGORIES:Events,Executive Meetings
ORGANIZER;CN="Karen Black":MAILTO:admin@coffslandcare.org.au
GEO:-30.2908125;153.1282239
X-APPLE-STRUCTURED-LOCATION;VALUE=URI;X-ADDRESS=Coffs Harbour Landcare Office Unit 1/14A Lawson Crescent Coffs Harbour New South Wales 2450 Australia;X-APPLE-RADIUS=500;X-TITLE=Unit 1/14A Lawson Crescent:geo:153.1282239,-30.2908125
END:VEVENT
BEGIN:VEVENT
DTSTART;TZID=Australia/Melbourne:20240208T140000
DTEND;TZID=Australia/Melbourne:20240208T160000
DTSTAMP:20260422T192720
CREATED:20231108T010819Z
LAST-MODIFIED:20231108T010859Z
UID:10002305-1707400800-1707408000@www.coffsharbourlandcare.org.au
SUMMARY:CHRL Executive Meetings 2024
DESCRIPTION:The CHRL Executive Committee meets monthly at the Coffs Harbour Landcare office
URL:https://www.coffsharbourlandcare.org.au/event/chrl-executive-meetings-2024/2024-02-08/
LOCATION:Coffs Harbour Landcare Office\, Unit 1/14A Lawson Crescent\, Coffs Harbour\, New South Wales\, 2450\, Australia
CATEGORIES:Events,Executive Meetings
ORGANIZER;CN="Karen Black":MAILTO:admin@coffslandcare.org.au
GEO:-30.2908125;153.1282239
X-APPLE-STRUCTURED-LOCATION;VALUE=URI;X-ADDRESS=Coffs Harbour Landcare Office Unit 1/14A Lawson Crescent Coffs Harbour New South Wales 2450 Australia;X-APPLE-RADIUS=500;X-TITLE=Unit 1/14A Lawson Crescent:geo:153.1282239,-30.2908125
END:VEVENT
END:VCALENDAR